BEGIN:VCALENDAR
VERSION:2.0
PRODID:-//Tri-County Center - ECPv6.2.0.1//NONSGML v1.0//EN
CALSCALE:GREGORIAN
METHOD:PUBLISH
X-WR-CALNAME:Tri-County Center
X-ORIGINAL-URL:https://staging.tricountycenter.org
X-WR-CALDESC:Events for Tri-County Center
REFRESH-INTERVAL;VALUE=DURATION:PT1H
X-Robots-Tag:noindex
X-PUBLISHED-TTL:PT1H
BEGIN:VTIMEZONE
TZID:America/New_York
BEGIN:DAYLIGHT
TZOFFSETFROM:-0500
TZOFFSETTO:-0400
TZNAME:EDT
DTSTART:20250309T070000
END:DAYLIGHT
BEGIN:STANDARD
TZOFFSETFROM:-0400
TZOFFSETTO:-0500
TZNAME:EST
DTSTART:20251102T060000
END:STANDARD
END:VTIMEZONE
BEGIN:VEVENT
DTSTART;TZID=America/New_York:20251221T000000
DTEND;TZID=America/New_York:20251221T010000
DTSTAMP:20260422T182700
CREATED:20230816T181730Z
LAST-MODIFIED:20230816T182629Z
UID:10011898-1766275200-1766278800@staging.tricountycenter.org
SUMMARY:Midnight "It's Not Too Late" (Fr-Sa 11:59p)
DESCRIPTION:
URL:https://staging.tricountycenter.org/event/midnight-its-not-too-late-fr-sa-1159p/2025-12-21/
LOCATION:Tri-county Center (Old Building)
CATEGORIES:AA Meetings,Meetings
ORGANIZER;CN="Tri-County%20Center":MAILTO:events@tricountycenter.org
END:VEVENT
BEGIN:VEVENT
DTSTART;TZID=America/New_York:20251221T070000
DTEND;TZID=America/New_York:20251221T080000
DTSTAMP:20260422T182700
CREATED:20230816T005850Z
LAST-MODIFIED:20230816T170243Z
UID:10000874-1766300400-1766304000@staging.tricountycenter.org
SUMMARY:"Rise and Shine" (S-Sa 7:00a)
DESCRIPTION:
URL:https://staging.tricountycenter.org/event/rise-and-shine/2025-12-21/
LOCATION:Tri-county Center (Main Room)\, 2031 East Kemper Road\, Cincinnati\, OH\, 45241\, United States
CATEGORIES:AA Meetings,Meetings
ORGANIZER;CN="Tri-County%20Center":MAILTO:events@tricountycenter.org
END:VEVENT
BEGIN:VEVENT
DTSTART;TZID=America/New_York:20251221T090000
DTEND;TZID=America/New_York:20251221T100000
DTSTAMP:20260422T182700
CREATED:20230816T022633Z
LAST-MODIFIED:20230816T170243Z
UID:10004578-1766307600-1766311200@staging.tricountycenter.org
SUMMARY:“Fairfield Breakfast Club”
DESCRIPTION:
URL:https://staging.tricountycenter.org/event/fairfield-breakfast-club/2025-12-21/
LOCATION:Tri-county Center (Ball Room)\, 2031 East Kemper Road\, Cincinnati\, OH\, 45246\, United States
CATEGORIES:AA Meetings,Meetings
ORGANIZER;CN="Tri-County%20Center":MAILTO:events@tricountycenter.org
END:VEVENT
BEGIN:VEVENT
DTSTART;TZID=America/New_York:20251221T123000
DTEND;TZID=America/New_York:20251221T133000
DTSTAMP:20260422T182700
CREATED:20230816T023257Z
LAST-MODIFIED:20230816T175850Z
UID:10006238-1766320200-1766323800@staging.tricountycenter.org
SUMMARY:Open Discussion (Su-W\, F-Sa 12:30p)
DESCRIPTION:
URL:https://staging.tricountycenter.org/event/open-discussion-su-w-f-sa-1230p/2025-12-21/
LOCATION:Tri-county Center (Main Room)\, 2031 East Kemper Road\, Cincinnati\, OH\, 45241\, United States
CATEGORIES:AA Meetings,Meetings
ORGANIZER;CN="Tri-County%20Center":MAILTO:events@tricountycenter.org
END:VEVENT
BEGIN:VEVENT
DTSTART;TZID=America/New_York:20251221T160000
DTEND;TZID=America/New_York:20251221T170000
DTSTAMP:20260422T182700
CREATED:20230816T023908Z
LAST-MODIFIED:20230816T170243Z
UID:10008188-1766332800-1766336400@staging.tricountycenter.org
SUMMARY:Closed Discussion (S-Sa 4:00p)
DESCRIPTION:
URL:https://staging.tricountycenter.org/event/closed-discussion-s-sa-400p/2025-12-21/
LOCATION:Tri-county Center (Main Room)\, 2031 East Kemper Road\, Cincinnati\, OH\, 45241\, United States
CATEGORIES:AA Meetings,Meetings
ORGANIZER;CN="Tri-County%20Center":MAILTO:events@tricountycenter.org
END:VEVENT
BEGIN:VEVENT
DTSTART;TZID=America/New_York:20251221T190000
DTEND;TZID=America/New_York:20251221T200000
DTSTAMP:20260422T182700
CREATED:20230816T195217Z
LAST-MODIFIED:20230816T195217Z
UID:10013524-1766343600-1766347200@staging.tricountycenter.org
SUMMARY:Al-Anon Discussion
DESCRIPTION:
URL:https://staging.tricountycenter.org/event/al-anon-discussion/2025-12-21/
LOCATION:Tri-county Center (Old Building)
CATEGORIES:Al-anon/Alateen Meetings,Meetings
ORGANIZER;CN="Tri-County%20Center":MAILTO:events@tricountycenter.org
END:VEVENT
BEGIN:VEVENT
DTSTART;TZID=America/New_York:20251222T070000
DTEND;TZID=America/New_York:20251222T080000
DTSTAMP:20260422T182700
CREATED:20230816T005850Z
LAST-MODIFIED:20230816T170243Z
UID:10000875-1766386800-1766390400@staging.tricountycenter.org
SUMMARY:"Rise and Shine" (S-Sa 7:00a)
DESCRIPTION:
URL:https://staging.tricountycenter.org/event/rise-and-shine/2025-12-22/
LOCATION:Tri-county Center (Main Room)\, 2031 East Kemper Road\, Cincinnati\, OH\, 45241\, United States
CATEGORIES:AA Meetings,Meetings
ORGANIZER;CN="Tri-County%20Center":MAILTO:events@tricountycenter.org
END:VEVENT
BEGIN:VEVENT
DTSTART;TZID=America/New_York:20251222T093000
DTEND;TZID=America/New_York:20251222T103000
DTSTAMP:20260422T182700
CREATED:20230816T020452Z
LAST-MODIFIED:20230816T175516Z
UID:10004040-1766395800-1766399400@staging.tricountycenter.org
SUMMARY:Open Discussion (M\, W\, F 930A)
DESCRIPTION:
URL:https://staging.tricountycenter.org/event/open-discussion-meeting-m-w-f-930a/2025-12-22/
LOCATION:Tri-county Center (Main Room)\, 2031 East Kemper Road\, Cincinnati\, OH\, 45241\, United States
CATEGORIES:AA Meetings,Meetings
ORGANIZER;CN="Tri-County%20Center":MAILTO:events@tricountycenter.org
END:VEVENT
BEGIN:VEVENT
DTSTART;TZID=America/New_York:20251222T123000
DTEND;TZID=America/New_York:20251222T133000
DTSTAMP:20260422T182701
CREATED:20230816T023257Z
LAST-MODIFIED:20230816T175850Z
UID:10006239-1766406600-1766410200@staging.tricountycenter.org
SUMMARY:Open Discussion (Su-W\, F-Sa 12:30p)
DESCRIPTION:
URL:https://staging.tricountycenter.org/event/open-discussion-su-w-f-sa-1230p/2025-12-22/
LOCATION:Tri-county Center (Main Room)\, 2031 East Kemper Road\, Cincinnati\, OH\, 45241\, United States
CATEGORIES:AA Meetings,Meetings
ORGANIZER;CN="Tri-County%20Center":MAILTO:events@tricountycenter.org
END:VEVENT
BEGIN:VEVENT
DTSTART;TZID=America/New_York:20251222T160000
DTEND;TZID=America/New_York:20251222T170000
DTSTAMP:20260422T182701
CREATED:20230816T023908Z
LAST-MODIFIED:20230816T170243Z
UID:10008189-1766419200-1766422800@staging.tricountycenter.org
SUMMARY:Closed Discussion (S-Sa 4:00p)
DESCRIPTION:
URL:https://staging.tricountycenter.org/event/closed-discussion-s-sa-400p/2025-12-22/
LOCATION:Tri-county Center (Main Room)\, 2031 East Kemper Road\, Cincinnati\, OH\, 45241\, United States
CATEGORIES:AA Meetings,Meetings
ORGANIZER;CN="Tri-County%20Center":MAILTO:events@tricountycenter.org
END:VEVENT
BEGIN:VEVENT
DTSTART;TZID=America/New_York:20251222T173000
DTEND;TZID=America/New_York:20251222T183000
DTSTAMP:20260422T182701
CREATED:20230816T015547Z
LAST-MODIFIED:20230816T174834Z
UID:10002457-1766424600-1766428200@staging.tricountycenter.org
SUMMARY:Happy Hour Open Discussion (M-W\, F-Sa 5:30p)
DESCRIPTION:
URL:https://staging.tricountycenter.org/event/happy-hour-m-w-f-sa-open-discussion-meeting/2025-12-22/
LOCATION:Tri-county Center (Main Room)\, 2031 East Kemper Road\, Cincinnati\, OH\, 45241\, United States
CATEGORIES:AA Meetings,Meetings
ORGANIZER;CN="Tri-County%20Center":MAILTO:events@tricountycenter.org
END:VEVENT
BEGIN:VEVENT
DTSTART;TZID=America/New_York:20251222T193000
DTEND;TZID=America/New_York:20251222T203000
DTSTAMP:20260422T182701
CREATED:20230816T112526Z
LAST-MODIFIED:20230816T170243Z
UID:10009281-1766431800-1766435400@staging.tricountycenter.org
SUMMARY:Open Beginner's Lead/Discussion (M 7:30p)
DESCRIPTION:
URL:https://staging.tricountycenter.org/event/open-beginners-lead-discussion-m-730p/2025-12-22/
LOCATION:Tri-county Center (Main Room)\, 2031 East Kemper Road\, Cincinnati\, OH\, 45241\, United States
CATEGORIES:AA Meetings,Meetings
ORGANIZER;CN="Tri-County%20Center":MAILTO:events@tricountycenter.org
END:VEVENT
BEGIN:VEVENT
DTSTART;TZID=America/New_York:20251223T070000
DTEND;TZID=America/New_York:20251223T080000
DTSTAMP:20260422T182701
CREATED:20230816T005850Z
LAST-MODIFIED:20230816T170243Z
UID:10000876-1766473200-1766476800@staging.tricountycenter.org
SUMMARY:"Rise and Shine" (S-Sa 7:00a)
DESCRIPTION:
URL:https://staging.tricountycenter.org/event/rise-and-shine/2025-12-23/
LOCATION:Tri-county Center (Main Room)\, 2031 East Kemper Road\, Cincinnati\, OH\, 45241\, United States
CATEGORIES:AA Meetings,Meetings
ORGANIZER;CN="Tri-County%20Center":MAILTO:events@tricountycenter.org
END:VEVENT
BEGIN:VEVENT
DTSTART;TZID=America/New_York:20251223T093000
DTEND;TZID=America/New_York:20251223T103000
DTSTAMP:20260422T182701
CREATED:20230816T022800Z
LAST-MODIFIED:20230816T175442Z
UID:10004840-1766482200-1766485800@staging.tricountycenter.org
SUMMARY:12 & 12 (T 9:30a)
DESCRIPTION:
URL:https://staging.tricountycenter.org/event/12-12-t-930a/2025-12-23/
LOCATION:Tri-county Center (Main Room)\, 2031 East Kemper Road\, Cincinnati\, OH\, 45241\, United States
CATEGORIES:AA Meetings,Meetings
ORGANIZER;CN="Tri-County%20Center":MAILTO:events@tricountycenter.org
END:VEVENT
BEGIN:VEVENT
DTSTART;TZID=America/New_York:20251223T123000
DTEND;TZID=America/New_York:20251223T133000
DTSTAMP:20260422T182701
CREATED:20230816T023257Z
LAST-MODIFIED:20230816T175850Z
UID:10006240-1766493000-1766496600@staging.tricountycenter.org
SUMMARY:Open Discussion (Su-W\, F-Sa 12:30p)
DESCRIPTION:
URL:https://staging.tricountycenter.org/event/open-discussion-su-w-f-sa-1230p/2025-12-23/
LOCATION:Tri-county Center (Main Room)\, 2031 East Kemper Road\, Cincinnati\, OH\, 45241\, United States
CATEGORIES:AA Meetings,Meetings
ORGANIZER;CN="Tri-County%20Center":MAILTO:events@tricountycenter.org
END:VEVENT
BEGIN:VEVENT
DTSTART;TZID=America/New_York:20251223T160000
DTEND;TZID=America/New_York:20251223T170000
DTSTAMP:20260422T182701
CREATED:20230816T023908Z
LAST-MODIFIED:20230816T170243Z
UID:10008190-1766505600-1766509200@staging.tricountycenter.org
SUMMARY:Closed Discussion (S-Sa 4:00p)
DESCRIPTION:
URL:https://staging.tricountycenter.org/event/closed-discussion-s-sa-400p/2025-12-23/
LOCATION:Tri-county Center (Main Room)\, 2031 East Kemper Road\, Cincinnati\, OH\, 45241\, United States
CATEGORIES:AA Meetings,Meetings
ORGANIZER;CN="Tri-County%20Center":MAILTO:events@tricountycenter.org
END:VEVENT
BEGIN:VEVENT
DTSTART;TZID=America/New_York:20251223T173000
DTEND;TZID=America/New_York:20251223T183000
DTSTAMP:20260422T182701
CREATED:20230816T015547Z
LAST-MODIFIED:20230816T174834Z
UID:10002458-1766511000-1766514600@staging.tricountycenter.org
SUMMARY:Happy Hour Open Discussion (M-W\, F-Sa 5:30p)
DESCRIPTION:
URL:https://staging.tricountycenter.org/event/happy-hour-m-w-f-sa-open-discussion-meeting/2025-12-23/
LOCATION:Tri-county Center (Main Room)\, 2031 East Kemper Road\, Cincinnati\, OH\, 45241\, United States
CATEGORIES:AA Meetings,Meetings
ORGANIZER;CN="Tri-County%20Center":MAILTO:events@tricountycenter.org
END:VEVENT
BEGIN:VEVENT
DTSTART;TZID=America/New_York:20251224T070000
DTEND;TZID=America/New_York:20251224T080000
DTSTAMP:20260422T182701
CREATED:20230816T005850Z
LAST-MODIFIED:20230816T170243Z
UID:10000877-1766559600-1766563200@staging.tricountycenter.org
SUMMARY:"Rise and Shine" (S-Sa 7:00a)
DESCRIPTION:
URL:https://staging.tricountycenter.org/event/rise-and-shine/2025-12-24/
LOCATION:Tri-county Center (Main Room)\, 2031 East Kemper Road\, Cincinnati\, OH\, 45241\, United States
CATEGORIES:AA Meetings,Meetings
ORGANIZER;CN="Tri-County%20Center":MAILTO:events@tricountycenter.org
END:VEVENT
BEGIN:VEVENT
DTSTART;TZID=America/New_York:20251224T093000
DTEND;TZID=America/New_York:20251224T103000
DTSTAMP:20260422T182701
CREATED:20230816T020452Z
LAST-MODIFIED:20230816T175516Z
UID:10004041-1766568600-1766572200@staging.tricountycenter.org
SUMMARY:Open Discussion (M\, W\, F 930A)
DESCRIPTION:
URL:https://staging.tricountycenter.org/event/open-discussion-meeting-m-w-f-930a/2025-12-24/
LOCATION:Tri-county Center (Main Room)\, 2031 East Kemper Road\, Cincinnati\, OH\, 45241\, United States
CATEGORIES:AA Meetings,Meetings
ORGANIZER;CN="Tri-County%20Center":MAILTO:events@tricountycenter.org
END:VEVENT
BEGIN:VEVENT
DTSTART;TZID=America/New_York:20251224T123000
DTEND;TZID=America/New_York:20251224T133000
DTSTAMP:20260422T182701
CREATED:20230816T023257Z
LAST-MODIFIED:20230816T175850Z
UID:10006241-1766579400-1766583000@staging.tricountycenter.org
SUMMARY:Open Discussion (Su-W\, F-Sa 12:30p)
DESCRIPTION:
URL:https://staging.tricountycenter.org/event/open-discussion-su-w-f-sa-1230p/2025-12-24/
LOCATION:Tri-county Center (Main Room)\, 2031 East Kemper Road\, Cincinnati\, OH\, 45241\, United States
CATEGORIES:AA Meetings,Meetings
ORGANIZER;CN="Tri-County%20Center":MAILTO:events@tricountycenter.org
END:VEVENT
BEGIN:VEVENT
DTSTART;TZID=America/New_York:20251224T160000
DTEND;TZID=America/New_York:20251224T170000
DTSTAMP:20260422T182701
CREATED:20230816T023908Z
LAST-MODIFIED:20230816T170243Z
UID:10008191-1766592000-1766595600@staging.tricountycenter.org
SUMMARY:Closed Discussion (S-Sa 4:00p)
DESCRIPTION:
URL:https://staging.tricountycenter.org/event/closed-discussion-s-sa-400p/2025-12-24/
LOCATION:Tri-county Center (Main Room)\, 2031 East Kemper Road\, Cincinnati\, OH\, 45241\, United States
CATEGORIES:AA Meetings,Meetings
ORGANIZER;CN="Tri-County%20Center":MAILTO:events@tricountycenter.org
END:VEVENT
BEGIN:VEVENT
DTSTART;TZID=America/New_York:20251224T160000
DTEND;TZID=America/New_York:20251224T170000
DTSTAMP:20260422T182701
CREATED:20230816T112911Z
LAST-MODIFIED:20230816T170243Z
UID:10009543-1766592000-1766595600@staging.tricountycenter.org
SUMMARY:"Elevation" (W - 4:00p)
DESCRIPTION:
URL:https://staging.tricountycenter.org/event/elevation-w-400p/2025-12-24/
LOCATION:Tri-county Center (Old Building)
CATEGORIES:Meetings
ORGANIZER;CN="Tri-County%20Center":MAILTO:events@tricountycenter.org
END:VEVENT
BEGIN:VEVENT
DTSTART;TZID=America/New_York:20251224T173000
DTEND;TZID=America/New_York:20251224T183000
DTSTAMP:20260422T182701
CREATED:20230816T015547Z
LAST-MODIFIED:20230816T174834Z
UID:10002459-1766597400-1766601000@staging.tricountycenter.org
SUMMARY:Happy Hour Open Discussion (M-W\, F-Sa 5:30p)
DESCRIPTION:
URL:https://staging.tricountycenter.org/event/happy-hour-m-w-f-sa-open-discussion-meeting/2025-12-24/
LOCATION:Tri-county Center (Main Room)\, 2031 East Kemper Road\, Cincinnati\, OH\, 45241\, United States
CATEGORIES:AA Meetings,Meetings
ORGANIZER;CN="Tri-County%20Center":MAILTO:events@tricountycenter.org
END:VEVENT
BEGIN:VEVENT
DTSTART;TZID=America/New_York:20251224T190000
DTEND;TZID=America/New_York:20251224T200000
DTSTAMP:20260422T182701
CREATED:20230816T113008Z
LAST-MODIFIED:20230816T170243Z
UID:10009805-1766602800-1766606400@staging.tricountycenter.org
SUMMARY:"Cold Nickel" Men's Closed Discussion (W 7:00p)
DESCRIPTION:
URL:https://staging.tricountycenter.org/event/cold-nickel-mens-closed-discussion-w-700p/2025-12-24/
LOCATION:Tri-county Center (Old Building)
CATEGORIES:AA Meetings,Meetings
ORGANIZER;CN="Tri-County%20Center":MAILTO:events@tricountycenter.org
END:VEVENT
BEGIN:VEVENT
DTSTART;TZID=America/New_York:20251224T193000
DTEND;TZID=America/New_York:20251224T203000
DTSTAMP:20260422T182701
CREATED:20230816T113223Z
LAST-MODIFIED:20230816T182127Z
UID:10010067-1766604600-1766608200@staging.tricountycenter.org
SUMMARY:Big Book Discussion (W 7:30p)
DESCRIPTION:
URL:https://staging.tricountycenter.org/event/big-book-discussion-w-730p/2025-12-24/
LOCATION:Tri-county Center (Main Room)\, 2031 East Kemper Road\, Cincinnati\, OH\, 45241\, United States
CATEGORIES:AA Meetings,Meetings
ORGANIZER;CN="Tri-County%20Center":MAILTO:events@tricountycenter.org
END:VEVENT
BEGIN:VEVENT
DTSTART;TZID=America/New_York:20251225T070000
DTEND;TZID=America/New_York:20251225T080000
DTSTAMP:20260422T182701
CREATED:20230816T005850Z
LAST-MODIFIED:20230816T170243Z
UID:10000878-1766646000-1766649600@staging.tricountycenter.org
SUMMARY:"Rise and Shine" (S-Sa 7:00a)
DESCRIPTION:
URL:https://staging.tricountycenter.org/event/rise-and-shine/2025-12-25/
LOCATION:Tri-county Center (Main Room)\, 2031 East Kemper Road\, Cincinnati\, OH\, 45241\, United States
CATEGORIES:AA Meetings,Meetings
ORGANIZER;CN="Tri-County%20Center":MAILTO:events@tricountycenter.org
END:VEVENT
BEGIN:VEVENT
DTSTART;TZID=America/New_York:20251225T093000
DTEND;TZID=America/New_York:20251225T103000
DTSTAMP:20260422T182701
CREATED:20230816T022941Z
LAST-MODIFIED:20230816T175404Z
UID:10005364-1766655000-1766658600@staging.tricountycenter.org
SUMMARY:Big Book Study (Th 9:30a)
DESCRIPTION:
URL:https://staging.tricountycenter.org/event/big-book-study-th-930a/2025-12-25/
LOCATION:Tri-county Center (Main Room)\, 2031 East Kemper Road\, Cincinnati\, OH\, 45241\, United States
CATEGORIES:AA Meetings,Meetings
ORGANIZER;CN="Tri-County%20Center":MAILTO:events@tricountycenter.org
END:VEVENT
BEGIN:VEVENT
DTSTART;TZID=America/New_York:20251225T123000
DTEND;TZID=America/New_York:20251225T133000
DTSTAMP:20260422T182701
CREATED:20230816T023554Z
LAST-MODIFIED:20230816T175746Z
UID:10007192-1766665800-1766669400@staging.tricountycenter.org
SUMMARY:Old Timers Lead (Th 12:30p)
DESCRIPTION:
URL:https://staging.tricountycenter.org/event/old-timers-lead-th-1230p/2025-12-25/
LOCATION:Tri-county Center (Ball Room)\, 2031 East Kemper Road\, Cincinnati\, OH\, 45246\, United States
CATEGORIES:AA Meetings,Meetings
ORGANIZER;CN="Tri-County%20Center":MAILTO:events@tricountycenter.org
END:VEVENT
BEGIN:VEVENT
DTSTART;TZID=America/New_York:20251225T160000
DTEND;TZID=America/New_York:20251225T170000
DTSTAMP:20260422T182701
CREATED:20230816T023908Z
LAST-MODIFIED:20230816T170243Z
UID:10008192-1766678400-1766682000@staging.tricountycenter.org
SUMMARY:Closed Discussion (S-Sa 4:00p)
DESCRIPTION:
URL:https://staging.tricountycenter.org/event/closed-discussion-s-sa-400p/2025-12-25/
LOCATION:Tri-county Center (Main Room)\, 2031 East Kemper Road\, Cincinnati\, OH\, 45241\, United States
CATEGORIES:AA Meetings,Meetings
ORGANIZER;CN="Tri-County%20Center":MAILTO:events@tricountycenter.org
END:VEVENT
BEGIN:VEVENT
DTSTART;TZID=America/New_York:20251225T170000
DTEND;TZID=America/New_York:20251225T180000
DTSTAMP:20260422T182701
CREATED:20230816T015857Z
LAST-MODIFIED:20230816T170243Z
UID:10003272-1766682000-1766685600@staging.tricountycenter.org
SUMMARY:Happy Hour Open Discussion (Th 5:30p)
DESCRIPTION:
URL:https://staging.tricountycenter.org/event/happy-hour-th-open-discussion-meeting/2025-12-25/
LOCATION:Tri-county Center (Main Room)\, 2031 East Kemper Road\, Cincinnati\, OH\, 45241\, United States
CATEGORIES:AA Meetings,Meetings
ORGANIZER;CN="Tri-County%20Center":MAILTO:events@tricountycenter.org
END:VEVENT
END:VCALENDAR