BEGIN:VCALENDAR
VERSION:2.0
PRODID:-//Tri-County Center - ECPv6.2.0.1//NONSGML v1.0//EN
CALSCALE:GREGORIAN
METHOD:PUBLISH
X-WR-CALNAME:Tri-County Center
X-ORIGINAL-URL:https://staging.tricountycenter.org
X-WR-CALDESC:Events for Tri-County Center
REFRESH-INTERVAL;VALUE=DURATION:PT1H
X-Robots-Tag:noindex
X-PUBLISHED-TTL:PT1H
BEGIN:VTIMEZONE
TZID:America/New_York
BEGIN:DAYLIGHT
TZOFFSETFROM:-0500
TZOFFSETTO:-0400
TZNAME:EDT
DTSTART:20260308T070000
END:DAYLIGHT
BEGIN:STANDARD
TZOFFSETFROM:-0400
TZOFFSETTO:-0500
TZNAME:EST
DTSTART:20261101T060000
END:STANDARD
END:VTIMEZONE
BEGIN:VEVENT
DTSTART;TZID=America/New_York:20260516T160000
DTEND;TZID=America/New_York:20260516T170000
DTSTAMP:20260421T195030
CREATED:20230816T023908Z
LAST-MODIFIED:20230816T170243Z
UID:10008334-1778947200-1778950800@staging.tricountycenter.org
SUMMARY:Closed Discussion (S-Sa 4:00p)
DESCRIPTION:
URL:https://staging.tricountycenter.org/event/closed-discussion-s-sa-400p/2026-05-16/
LOCATION:Tri-county Center (Main Room)\, 2031 East Kemper Road\, Cincinnati\, OH\, 45241\, United States
CATEGORIES:AA Meetings,Meetings
ORGANIZER;CN="Tri-County%20Center":MAILTO:events@tricountycenter.org
END:VEVENT
BEGIN:VEVENT
DTSTART;TZID=America/New_York:20260517T160000
DTEND;TZID=America/New_York:20260517T170000
DTSTAMP:20260421T195030
CREATED:20230816T023908Z
LAST-MODIFIED:20230816T170243Z
UID:10008335-1779033600-1779037200@staging.tricountycenter.org
SUMMARY:Closed Discussion (S-Sa 4:00p)
DESCRIPTION:
URL:https://staging.tricountycenter.org/event/closed-discussion-s-sa-400p/2026-05-17/
LOCATION:Tri-county Center (Main Room)\, 2031 East Kemper Road\, Cincinnati\, OH\, 45241\, United States
CATEGORIES:AA Meetings,Meetings
ORGANIZER;CN="Tri-County%20Center":MAILTO:events@tricountycenter.org
END:VEVENT
BEGIN:VEVENT
DTSTART;TZID=America/New_York:20260518T160000
DTEND;TZID=America/New_York:20260518T170000
DTSTAMP:20260421T195030
CREATED:20230816T023908Z
LAST-MODIFIED:20230816T170243Z
UID:10008336-1779120000-1779123600@staging.tricountycenter.org
SUMMARY:Closed Discussion (S-Sa 4:00p)
DESCRIPTION:
URL:https://staging.tricountycenter.org/event/closed-discussion-s-sa-400p/2026-05-18/
LOCATION:Tri-county Center (Main Room)\, 2031 East Kemper Road\, Cincinnati\, OH\, 45241\, United States
CATEGORIES:AA Meetings,Meetings
ORGANIZER;CN="Tri-County%20Center":MAILTO:events@tricountycenter.org
END:VEVENT
BEGIN:VEVENT
DTSTART;TZID=America/New_York:20260519T160000
DTEND;TZID=America/New_York:20260519T170000
DTSTAMP:20260421T195030
CREATED:20230816T023908Z
LAST-MODIFIED:20230816T170243Z
UID:10008337-1779206400-1779210000@staging.tricountycenter.org
SUMMARY:Closed Discussion (S-Sa 4:00p)
DESCRIPTION:
URL:https://staging.tricountycenter.org/event/closed-discussion-s-sa-400p/2026-05-19/
LOCATION:Tri-county Center (Main Room)\, 2031 East Kemper Road\, Cincinnati\, OH\, 45241\, United States
CATEGORIES:AA Meetings,Meetings
ORGANIZER;CN="Tri-County%20Center":MAILTO:events@tricountycenter.org
END:VEVENT
BEGIN:VEVENT
DTSTART;TZID=America/New_York:20260520T160000
DTEND;TZID=America/New_York:20260520T170000
DTSTAMP:20260421T195030
CREATED:20230816T023908Z
LAST-MODIFIED:20230816T170243Z
UID:10008338-1779292800-1779296400@staging.tricountycenter.org
SUMMARY:Closed Discussion (S-Sa 4:00p)
DESCRIPTION:
URL:https://staging.tricountycenter.org/event/closed-discussion-s-sa-400p/2026-05-20/
LOCATION:Tri-county Center (Main Room)\, 2031 East Kemper Road\, Cincinnati\, OH\, 45241\, United States
CATEGORIES:AA Meetings,Meetings
ORGANIZER;CN="Tri-County%20Center":MAILTO:events@tricountycenter.org
END:VEVENT
BEGIN:VEVENT
DTSTART;TZID=America/New_York:20260521T160000
DTEND;TZID=America/New_York:20260521T170000
DTSTAMP:20260421T195030
CREATED:20230816T023908Z
LAST-MODIFIED:20230816T170243Z
UID:10008339-1779379200-1779382800@staging.tricountycenter.org
SUMMARY:Closed Discussion (S-Sa 4:00p)
DESCRIPTION:
URL:https://staging.tricountycenter.org/event/closed-discussion-s-sa-400p/2026-05-21/
LOCATION:Tri-county Center (Main Room)\, 2031 East Kemper Road\, Cincinnati\, OH\, 45241\, United States
CATEGORIES:AA Meetings,Meetings
ORGANIZER;CN="Tri-County%20Center":MAILTO:events@tricountycenter.org
END:VEVENT
BEGIN:VEVENT
DTSTART;TZID=America/New_York:20260522T160000
DTEND;TZID=America/New_York:20260522T170000
DTSTAMP:20260421T195030
CREATED:20230816T023908Z
LAST-MODIFIED:20230816T170243Z
UID:10008340-1779465600-1779469200@staging.tricountycenter.org
SUMMARY:Closed Discussion (S-Sa 4:00p)
DESCRIPTION:
URL:https://staging.tricountycenter.org/event/closed-discussion-s-sa-400p/2026-05-22/
LOCATION:Tri-county Center (Main Room)\, 2031 East Kemper Road\, Cincinnati\, OH\, 45241\, United States
CATEGORIES:AA Meetings,Meetings
ORGANIZER;CN="Tri-County%20Center":MAILTO:events@tricountycenter.org
END:VEVENT
BEGIN:VEVENT
DTSTART;TZID=America/New_York:20260523T160000
DTEND;TZID=America/New_York:20260523T170000
DTSTAMP:20260421T195030
CREATED:20230816T023908Z
LAST-MODIFIED:20230816T170243Z
UID:10008341-1779552000-1779555600@staging.tricountycenter.org
SUMMARY:Closed Discussion (S-Sa 4:00p)
DESCRIPTION:
URL:https://staging.tricountycenter.org/event/closed-discussion-s-sa-400p/2026-05-23/
LOCATION:Tri-county Center (Main Room)\, 2031 East Kemper Road\, Cincinnati\, OH\, 45241\, United States
CATEGORIES:AA Meetings,Meetings
ORGANIZER;CN="Tri-County%20Center":MAILTO:events@tricountycenter.org
END:VEVENT
BEGIN:VEVENT
DTSTART;TZID=America/New_York:20260524T160000
DTEND;TZID=America/New_York:20260524T170000
DTSTAMP:20260421T195030
CREATED:20230816T023908Z
LAST-MODIFIED:20230816T170243Z
UID:10008342-1779638400-1779642000@staging.tricountycenter.org
SUMMARY:Closed Discussion (S-Sa 4:00p)
DESCRIPTION:
URL:https://staging.tricountycenter.org/event/closed-discussion-s-sa-400p/2026-05-24/
LOCATION:Tri-county Center (Main Room)\, 2031 East Kemper Road\, Cincinnati\, OH\, 45241\, United States
CATEGORIES:AA Meetings,Meetings
ORGANIZER;CN="Tri-County%20Center":MAILTO:events@tricountycenter.org
END:VEVENT
BEGIN:VEVENT
DTSTART;TZID=America/New_York:20260525T160000
DTEND;TZID=America/New_York:20260525T170000
DTSTAMP:20260421T195030
CREATED:20230816T023908Z
LAST-MODIFIED:20230816T170243Z
UID:10008343-1779724800-1779728400@staging.tricountycenter.org
SUMMARY:Closed Discussion (S-Sa 4:00p)
DESCRIPTION:
URL:https://staging.tricountycenter.org/event/closed-discussion-s-sa-400p/2026-05-25/
LOCATION:Tri-county Center (Main Room)\, 2031 East Kemper Road\, Cincinnati\, OH\, 45241\, United States
CATEGORIES:AA Meetings,Meetings
ORGANIZER;CN="Tri-County%20Center":MAILTO:events@tricountycenter.org
END:VEVENT
BEGIN:VEVENT
DTSTART;TZID=America/New_York:20260526T160000
DTEND;TZID=America/New_York:20260526T170000
DTSTAMP:20260421T195030
CREATED:20230816T023908Z
LAST-MODIFIED:20230816T170243Z
UID:10008344-1779811200-1779814800@staging.tricountycenter.org
SUMMARY:Closed Discussion (S-Sa 4:00p)
DESCRIPTION:
URL:https://staging.tricountycenter.org/event/closed-discussion-s-sa-400p/2026-05-26/
LOCATION:Tri-county Center (Main Room)\, 2031 East Kemper Road\, Cincinnati\, OH\, 45241\, United States
CATEGORIES:AA Meetings,Meetings
ORGANIZER;CN="Tri-County%20Center":MAILTO:events@tricountycenter.org
END:VEVENT
BEGIN:VEVENT
DTSTART;TZID=America/New_York:20260527T160000
DTEND;TZID=America/New_York:20260527T170000
DTSTAMP:20260421T195030
CREATED:20230816T023908Z
LAST-MODIFIED:20230816T170243Z
UID:10008345-1779897600-1779901200@staging.tricountycenter.org
SUMMARY:Closed Discussion (S-Sa 4:00p)
DESCRIPTION:
URL:https://staging.tricountycenter.org/event/closed-discussion-s-sa-400p/2026-05-27/
LOCATION:Tri-county Center (Main Room)\, 2031 East Kemper Road\, Cincinnati\, OH\, 45241\, United States
CATEGORIES:AA Meetings,Meetings
ORGANIZER;CN="Tri-County%20Center":MAILTO:events@tricountycenter.org
END:VEVENT
BEGIN:VEVENT
DTSTART;TZID=America/New_York:20260528T160000
DTEND;TZID=America/New_York:20260528T170000
DTSTAMP:20260421T195030
CREATED:20230816T023908Z
LAST-MODIFIED:20230816T170243Z
UID:10008346-1779984000-1779987600@staging.tricountycenter.org
SUMMARY:Closed Discussion (S-Sa 4:00p)
DESCRIPTION:
URL:https://staging.tricountycenter.org/event/closed-discussion-s-sa-400p/2026-05-28/
LOCATION:Tri-county Center (Main Room)\, 2031 East Kemper Road\, Cincinnati\, OH\, 45241\, United States
CATEGORIES:AA Meetings,Meetings
ORGANIZER;CN="Tri-County%20Center":MAILTO:events@tricountycenter.org
END:VEVENT
BEGIN:VEVENT
DTSTART;TZID=America/New_York:20260529T160000
DTEND;TZID=America/New_York:20260529T170000
DTSTAMP:20260421T195030
CREATED:20230816T023908Z
LAST-MODIFIED:20230816T170243Z
UID:10008347-1780070400-1780074000@staging.tricountycenter.org
SUMMARY:Closed Discussion (S-Sa 4:00p)
DESCRIPTION:
URL:https://staging.tricountycenter.org/event/closed-discussion-s-sa-400p/2026-05-29/
LOCATION:Tri-county Center (Main Room)\, 2031 East Kemper Road\, Cincinnati\, OH\, 45241\, United States
CATEGORIES:AA Meetings,Meetings
ORGANIZER;CN="Tri-County%20Center":MAILTO:events@tricountycenter.org
END:VEVENT
BEGIN:VEVENT
DTSTART;TZID=America/New_York:20260530T160000
DTEND;TZID=America/New_York:20260530T170000
DTSTAMP:20260421T195030
CREATED:20230816T023908Z
LAST-MODIFIED:20230816T170243Z
UID:10008348-1780156800-1780160400@staging.tricountycenter.org
SUMMARY:Closed Discussion (S-Sa 4:00p)
DESCRIPTION:
URL:https://staging.tricountycenter.org/event/closed-discussion-s-sa-400p/2026-05-30/
LOCATION:Tri-county Center (Main Room)\, 2031 East Kemper Road\, Cincinnati\, OH\, 45241\, United States
CATEGORIES:AA Meetings,Meetings
ORGANIZER;CN="Tri-County%20Center":MAILTO:events@tricountycenter.org
END:VEVENT
BEGIN:VEVENT
DTSTART;TZID=America/New_York:20260531T160000
DTEND;TZID=America/New_York:20260531T170000
DTSTAMP:20260421T195030
CREATED:20230816T023908Z
LAST-MODIFIED:20230816T170243Z
UID:10008349-1780243200-1780246800@staging.tricountycenter.org
SUMMARY:Closed Discussion (S-Sa 4:00p)
DESCRIPTION:
URL:https://staging.tricountycenter.org/event/closed-discussion-s-sa-400p/2026-05-31/
LOCATION:Tri-county Center (Main Room)\, 2031 East Kemper Road\, Cincinnati\, OH\, 45241\, United States
CATEGORIES:AA Meetings,Meetings
ORGANIZER;CN="Tri-County%20Center":MAILTO:events@tricountycenter.org
END:VEVENT
BEGIN:VEVENT
DTSTART;TZID=America/New_York:20260601T160000
DTEND;TZID=America/New_York:20260601T170000
DTSTAMP:20260421T195030
CREATED:20230816T023908Z
LAST-MODIFIED:20230816T170243Z
UID:10008350-1780329600-1780333200@staging.tricountycenter.org
SUMMARY:Closed Discussion (S-Sa 4:00p)
DESCRIPTION:
URL:https://staging.tricountycenter.org/event/closed-discussion-s-sa-400p/2026-06-01/
LOCATION:Tri-county Center (Main Room)\, 2031 East Kemper Road\, Cincinnati\, OH\, 45241\, United States
CATEGORIES:AA Meetings,Meetings
ORGANIZER;CN="Tri-County%20Center":MAILTO:events@tricountycenter.org
END:VEVENT
BEGIN:VEVENT
DTSTART;TZID=America/New_York:20260602T160000
DTEND;TZID=America/New_York:20260602T170000
DTSTAMP:20260421T195030
CREATED:20230816T023908Z
LAST-MODIFIED:20230816T170243Z
UID:10008351-1780416000-1780419600@staging.tricountycenter.org
SUMMARY:Closed Discussion (S-Sa 4:00p)
DESCRIPTION:
URL:https://staging.tricountycenter.org/event/closed-discussion-s-sa-400p/2026-06-02/
LOCATION:Tri-county Center (Main Room)\, 2031 East Kemper Road\, Cincinnati\, OH\, 45241\, United States
CATEGORIES:AA Meetings,Meetings
ORGANIZER;CN="Tri-County%20Center":MAILTO:events@tricountycenter.org
END:VEVENT
BEGIN:VEVENT
DTSTART;TZID=America/New_York:20260603T160000
DTEND;TZID=America/New_York:20260603T170000
DTSTAMP:20260421T195030
CREATED:20230816T023908Z
LAST-MODIFIED:20230816T170243Z
UID:10008352-1780502400-1780506000@staging.tricountycenter.org
SUMMARY:Closed Discussion (S-Sa 4:00p)
DESCRIPTION:
URL:https://staging.tricountycenter.org/event/closed-discussion-s-sa-400p/2026-06-03/
LOCATION:Tri-county Center (Main Room)\, 2031 East Kemper Road\, Cincinnati\, OH\, 45241\, United States
CATEGORIES:AA Meetings,Meetings
ORGANIZER;CN="Tri-County%20Center":MAILTO:events@tricountycenter.org
END:VEVENT
BEGIN:VEVENT
DTSTART;TZID=America/New_York:20260604T160000
DTEND;TZID=America/New_York:20260604T170000
DTSTAMP:20260421T195030
CREATED:20230816T023908Z
LAST-MODIFIED:20230816T170243Z
UID:10008353-1780588800-1780592400@staging.tricountycenter.org
SUMMARY:Closed Discussion (S-Sa 4:00p)
DESCRIPTION:
URL:https://staging.tricountycenter.org/event/closed-discussion-s-sa-400p/2026-06-04/
LOCATION:Tri-county Center (Main Room)\, 2031 East Kemper Road\, Cincinnati\, OH\, 45241\, United States
CATEGORIES:AA Meetings,Meetings
ORGANIZER;CN="Tri-County%20Center":MAILTO:events@tricountycenter.org
END:VEVENT
BEGIN:VEVENT
DTSTART;TZID=America/New_York:20260605T160000
DTEND;TZID=America/New_York:20260605T170000
DTSTAMP:20260421T195030
CREATED:20230816T023908Z
LAST-MODIFIED:20230816T170243Z
UID:10008354-1780675200-1780678800@staging.tricountycenter.org
SUMMARY:Closed Discussion (S-Sa 4:00p)
DESCRIPTION:
URL:https://staging.tricountycenter.org/event/closed-discussion-s-sa-400p/2026-06-05/
LOCATION:Tri-county Center (Main Room)\, 2031 East Kemper Road\, Cincinnati\, OH\, 45241\, United States
CATEGORIES:AA Meetings,Meetings
ORGANIZER;CN="Tri-County%20Center":MAILTO:events@tricountycenter.org
END:VEVENT
BEGIN:VEVENT
DTSTART;TZID=America/New_York:20260606T160000
DTEND;TZID=America/New_York:20260606T170000
DTSTAMP:20260421T195030
CREATED:20230816T023908Z
LAST-MODIFIED:20230816T170243Z
UID:10008355-1780761600-1780765200@staging.tricountycenter.org
SUMMARY:Closed Discussion (S-Sa 4:00p)
DESCRIPTION:
URL:https://staging.tricountycenter.org/event/closed-discussion-s-sa-400p/2026-06-06/
LOCATION:Tri-county Center (Main Room)\, 2031 East Kemper Road\, Cincinnati\, OH\, 45241\, United States
CATEGORIES:AA Meetings,Meetings
ORGANIZER;CN="Tri-County%20Center":MAILTO:events@tricountycenter.org
END:VEVENT
BEGIN:VEVENT
DTSTART;TZID=America/New_York:20260607T160000
DTEND;TZID=America/New_York:20260607T170000
DTSTAMP:20260421T195030
CREATED:20230816T023908Z
LAST-MODIFIED:20230816T170243Z
UID:10008356-1780848000-1780851600@staging.tricountycenter.org
SUMMARY:Closed Discussion (S-Sa 4:00p)
DESCRIPTION:
URL:https://staging.tricountycenter.org/event/closed-discussion-s-sa-400p/2026-06-07/
LOCATION:Tri-county Center (Main Room)\, 2031 East Kemper Road\, Cincinnati\, OH\, 45241\, United States
CATEGORIES:AA Meetings,Meetings
ORGANIZER;CN="Tri-County%20Center":MAILTO:events@tricountycenter.org
END:VEVENT
BEGIN:VEVENT
DTSTART;TZID=America/New_York:20260608T160000
DTEND;TZID=America/New_York:20260608T170000
DTSTAMP:20260421T195030
CREATED:20230816T023908Z
LAST-MODIFIED:20230816T170243Z
UID:10008357-1780934400-1780938000@staging.tricountycenter.org
SUMMARY:Closed Discussion (S-Sa 4:00p)
DESCRIPTION:
URL:https://staging.tricountycenter.org/event/closed-discussion-s-sa-400p/2026-06-08/
LOCATION:Tri-county Center (Main Room)\, 2031 East Kemper Road\, Cincinnati\, OH\, 45241\, United States
CATEGORIES:AA Meetings,Meetings
ORGANIZER;CN="Tri-County%20Center":MAILTO:events@tricountycenter.org
END:VEVENT
BEGIN:VEVENT
DTSTART;TZID=America/New_York:20260609T160000
DTEND;TZID=America/New_York:20260609T170000
DTSTAMP:20260421T195030
CREATED:20230816T023908Z
LAST-MODIFIED:20230816T170243Z
UID:10008358-1781020800-1781024400@staging.tricountycenter.org
SUMMARY:Closed Discussion (S-Sa 4:00p)
DESCRIPTION:
URL:https://staging.tricountycenter.org/event/closed-discussion-s-sa-400p/2026-06-09/
LOCATION:Tri-county Center (Main Room)\, 2031 East Kemper Road\, Cincinnati\, OH\, 45241\, United States
CATEGORIES:AA Meetings,Meetings
ORGANIZER;CN="Tri-County%20Center":MAILTO:events@tricountycenter.org
END:VEVENT
BEGIN:VEVENT
DTSTART;TZID=America/New_York:20260610T160000
DTEND;TZID=America/New_York:20260610T170000
DTSTAMP:20260421T195030
CREATED:20230816T023908Z
LAST-MODIFIED:20230816T170243Z
UID:10008359-1781107200-1781110800@staging.tricountycenter.org
SUMMARY:Closed Discussion (S-Sa 4:00p)
DESCRIPTION:
URL:https://staging.tricountycenter.org/event/closed-discussion-s-sa-400p/2026-06-10/
LOCATION:Tri-county Center (Main Room)\, 2031 East Kemper Road\, Cincinnati\, OH\, 45241\, United States
CATEGORIES:AA Meetings,Meetings
ORGANIZER;CN="Tri-County%20Center":MAILTO:events@tricountycenter.org
END:VEVENT
BEGIN:VEVENT
DTSTART;TZID=America/New_York:20260611T160000
DTEND;TZID=America/New_York:20260611T170000
DTSTAMP:20260421T195030
CREATED:20230816T023908Z
LAST-MODIFIED:20230816T170243Z
UID:10008360-1781193600-1781197200@staging.tricountycenter.org
SUMMARY:Closed Discussion (S-Sa 4:00p)
DESCRIPTION:
URL:https://staging.tricountycenter.org/event/closed-discussion-s-sa-400p/2026-06-11/
LOCATION:Tri-county Center (Main Room)\, 2031 East Kemper Road\, Cincinnati\, OH\, 45241\, United States
CATEGORIES:AA Meetings,Meetings
ORGANIZER;CN="Tri-County%20Center":MAILTO:events@tricountycenter.org
END:VEVENT
BEGIN:VEVENT
DTSTART;TZID=America/New_York:20260612T160000
DTEND;TZID=America/New_York:20260612T170000
DTSTAMP:20260421T195030
CREATED:20230816T023908Z
LAST-MODIFIED:20230816T170243Z
UID:10008361-1781280000-1781283600@staging.tricountycenter.org
SUMMARY:Closed Discussion (S-Sa 4:00p)
DESCRIPTION:
URL:https://staging.tricountycenter.org/event/closed-discussion-s-sa-400p/2026-06-12/
LOCATION:Tri-county Center (Main Room)\, 2031 East Kemper Road\, Cincinnati\, OH\, 45241\, United States
CATEGORIES:AA Meetings,Meetings
ORGANIZER;CN="Tri-County%20Center":MAILTO:events@tricountycenter.org
END:VEVENT
BEGIN:VEVENT
DTSTART;TZID=America/New_York:20260613T160000
DTEND;TZID=America/New_York:20260613T170000
DTSTAMP:20260421T195030
CREATED:20230816T023908Z
LAST-MODIFIED:20230816T170243Z
UID:10008362-1781366400-1781370000@staging.tricountycenter.org
SUMMARY:Closed Discussion (S-Sa 4:00p)
DESCRIPTION:
URL:https://staging.tricountycenter.org/event/closed-discussion-s-sa-400p/2026-06-13/
LOCATION:Tri-county Center (Main Room)\, 2031 East Kemper Road\, Cincinnati\, OH\, 45241\, United States
CATEGORIES:AA Meetings,Meetings
ORGANIZER;CN="Tri-County%20Center":MAILTO:events@tricountycenter.org
END:VEVENT
BEGIN:VEVENT
DTSTART;TZID=America/New_York:20260614T160000
DTEND;TZID=America/New_York:20260614T170000
DTSTAMP:20260421T195030
CREATED:20230816T023908Z
LAST-MODIFIED:20230816T170243Z
UID:10008363-1781452800-1781456400@staging.tricountycenter.org
SUMMARY:Closed Discussion (S-Sa 4:00p)
DESCRIPTION:
URL:https://staging.tricountycenter.org/event/closed-discussion-s-sa-400p/2026-06-14/
LOCATION:Tri-county Center (Main Room)\, 2031 East Kemper Road\, Cincinnati\, OH\, 45241\, United States
CATEGORIES:AA Meetings,Meetings
ORGANIZER;CN="Tri-County%20Center":MAILTO:events@tricountycenter.org
END:VEVENT
END:VCALENDAR