BEGIN:VCALENDAR
VERSION:2.0
PRODID:-//Tri-County Center - ECPv6.2.0.1//NONSGML v1.0//EN
CALSCALE:GREGORIAN
METHOD:PUBLISH
X-WR-CALNAME:Tri-County Center
X-ORIGINAL-URL:https://staging.tricountycenter.org
X-WR-CALDESC:Events for Tri-County Center
REFRESH-INTERVAL;VALUE=DURATION:PT1H
X-Robots-Tag:noindex
X-PUBLISHED-TTL:PT1H
BEGIN:VTIMEZONE
TZID:America/New_York
BEGIN:DAYLIGHT
TZOFFSETFROM:-0500
TZOFFSETTO:-0400
TZNAME:EDT
DTSTART:20260308T070000
END:DAYLIGHT
BEGIN:STANDARD
TZOFFSETFROM:-0400
TZOFFSETTO:-0500
TZNAME:EST
DTSTART:20261101T060000
END:STANDARD
BEGIN:DAYLIGHT
TZOFFSETFROM:-0500
TZOFFSETTO:-0400
TZNAME:EDT
DTSTART:20270314T070000
END:DAYLIGHT
BEGIN:STANDARD
TZOFFSETFROM:-0400
TZOFFSETTO:-0500
TZNAME:EST
DTSTART:20271107T060000
END:STANDARD
END:VTIMEZONE
BEGIN:VEVENT
DTSTART;TZID=America/New_York:20260715T160000
DTEND;TZID=America/New_York:20260715T170000
DTSTAMP:20260421T195028
CREATED:20230816T112911Z
LAST-MODIFIED:20230816T170243Z
UID:10009572-1784131200-1784134800@staging.tricountycenter.org
SUMMARY:"Elevation" (W - 4:00p)
DESCRIPTION:
URL:https://staging.tricountycenter.org/event/elevation-w-400p/2026-07-15/
LOCATION:Tri-county Center (Old Building)
CATEGORIES:Meetings
ORGANIZER;CN="Tri-County%20Center":MAILTO:events@tricountycenter.org
END:VEVENT
BEGIN:VEVENT
DTSTART;TZID=America/New_York:20260722T160000
DTEND;TZID=America/New_York:20260722T170000
DTSTAMP:20260421T195028
CREATED:20230816T112911Z
LAST-MODIFIED:20230816T170243Z
UID:10009573-1784736000-1784739600@staging.tricountycenter.org
SUMMARY:"Elevation" (W - 4:00p)
DESCRIPTION:
URL:https://staging.tricountycenter.org/event/elevation-w-400p/2026-07-22/
LOCATION:Tri-county Center (Old Building)
CATEGORIES:Meetings
ORGANIZER;CN="Tri-County%20Center":MAILTO:events@tricountycenter.org
END:VEVENT
BEGIN:VEVENT
DTSTART;TZID=America/New_York:20260729T160000
DTEND;TZID=America/New_York:20260729T170000
DTSTAMP:20260421T195028
CREATED:20230816T112911Z
LAST-MODIFIED:20230816T170243Z
UID:10009574-1785340800-1785344400@staging.tricountycenter.org
SUMMARY:"Elevation" (W - 4:00p)
DESCRIPTION:
URL:https://staging.tricountycenter.org/event/elevation-w-400p/2026-07-29/
LOCATION:Tri-county Center (Old Building)
CATEGORIES:Meetings
ORGANIZER;CN="Tri-County%20Center":MAILTO:events@tricountycenter.org
END:VEVENT
BEGIN:VEVENT
DTSTART;TZID=America/New_York:20260805T160000
DTEND;TZID=America/New_York:20260805T170000
DTSTAMP:20260421T195028
CREATED:20230816T112911Z
LAST-MODIFIED:20230816T170243Z
UID:10009575-1785945600-1785949200@staging.tricountycenter.org
SUMMARY:"Elevation" (W - 4:00p)
DESCRIPTION:
URL:https://staging.tricountycenter.org/event/elevation-w-400p/2026-08-05/
LOCATION:Tri-county Center (Old Building)
CATEGORIES:Meetings
ORGANIZER;CN="Tri-County%20Center":MAILTO:events@tricountycenter.org
END:VEVENT
BEGIN:VEVENT
DTSTART;TZID=America/New_York:20260812T160000
DTEND;TZID=America/New_York:20260812T170000
DTSTAMP:20260421T195028
CREATED:20230816T112911Z
LAST-MODIFIED:20230816T170243Z
UID:10009576-1786550400-1786554000@staging.tricountycenter.org
SUMMARY:"Elevation" (W - 4:00p)
DESCRIPTION:
URL:https://staging.tricountycenter.org/event/elevation-w-400p/2026-08-12/
LOCATION:Tri-county Center (Old Building)
CATEGORIES:Meetings
ORGANIZER;CN="Tri-County%20Center":MAILTO:events@tricountycenter.org
END:VEVENT
BEGIN:VEVENT
DTSTART;TZID=America/New_York:20260819T160000
DTEND;TZID=America/New_York:20260819T170000
DTSTAMP:20260421T195028
CREATED:20230816T112911Z
LAST-MODIFIED:20230816T170243Z
UID:10009577-1787155200-1787158800@staging.tricountycenter.org
SUMMARY:"Elevation" (W - 4:00p)
DESCRIPTION:
URL:https://staging.tricountycenter.org/event/elevation-w-400p/2026-08-19/
LOCATION:Tri-county Center (Old Building)
CATEGORIES:Meetings
ORGANIZER;CN="Tri-County%20Center":MAILTO:events@tricountycenter.org
END:VEVENT
BEGIN:VEVENT
DTSTART;TZID=America/New_York:20260826T160000
DTEND;TZID=America/New_York:20260826T170000
DTSTAMP:20260421T195028
CREATED:20230816T112911Z
LAST-MODIFIED:20230816T170243Z
UID:10009578-1787760000-1787763600@staging.tricountycenter.org
SUMMARY:"Elevation" (W - 4:00p)
DESCRIPTION:
URL:https://staging.tricountycenter.org/event/elevation-w-400p/2026-08-26/
LOCATION:Tri-county Center (Old Building)
CATEGORIES:Meetings
ORGANIZER;CN="Tri-County%20Center":MAILTO:events@tricountycenter.org
END:VEVENT
BEGIN:VEVENT
DTSTART;TZID=America/New_York:20260902T160000
DTEND;TZID=America/New_York:20260902T170000
DTSTAMP:20260421T195028
CREATED:20230816T112911Z
LAST-MODIFIED:20230816T170243Z
UID:10009579-1788364800-1788368400@staging.tricountycenter.org
SUMMARY:"Elevation" (W - 4:00p)
DESCRIPTION:
URL:https://staging.tricountycenter.org/event/elevation-w-400p/2026-09-02/
LOCATION:Tri-county Center (Old Building)
CATEGORIES:Meetings
ORGANIZER;CN="Tri-County%20Center":MAILTO:events@tricountycenter.org
END:VEVENT
BEGIN:VEVENT
DTSTART;TZID=America/New_York:20260909T160000
DTEND;TZID=America/New_York:20260909T170000
DTSTAMP:20260421T195028
CREATED:20230816T112911Z
LAST-MODIFIED:20230816T170243Z
UID:10009580-1788969600-1788973200@staging.tricountycenter.org
SUMMARY:"Elevation" (W - 4:00p)
DESCRIPTION:
URL:https://staging.tricountycenter.org/event/elevation-w-400p/2026-09-09/
LOCATION:Tri-county Center (Old Building)
CATEGORIES:Meetings
ORGANIZER;CN="Tri-County%20Center":MAILTO:events@tricountycenter.org
END:VEVENT
BEGIN:VEVENT
DTSTART;TZID=America/New_York:20260916T160000
DTEND;TZID=America/New_York:20260916T170000
DTSTAMP:20260421T195028
CREATED:20230816T112911Z
LAST-MODIFIED:20230816T170243Z
UID:10009581-1789574400-1789578000@staging.tricountycenter.org
SUMMARY:"Elevation" (W - 4:00p)
DESCRIPTION:
URL:https://staging.tricountycenter.org/event/elevation-w-400p/2026-09-16/
LOCATION:Tri-county Center (Old Building)
CATEGORIES:Meetings
ORGANIZER;CN="Tri-County%20Center":MAILTO:events@tricountycenter.org
END:VEVENT
BEGIN:VEVENT
DTSTART;TZID=America/New_York:20260923T160000
DTEND;TZID=America/New_York:20260923T170000
DTSTAMP:20260421T195028
CREATED:20230816T112911Z
LAST-MODIFIED:20230816T170243Z
UID:10009582-1790179200-1790182800@staging.tricountycenter.org
SUMMARY:"Elevation" (W - 4:00p)
DESCRIPTION:
URL:https://staging.tricountycenter.org/event/elevation-w-400p/2026-09-23/
LOCATION:Tri-county Center (Old Building)
CATEGORIES:Meetings
ORGANIZER;CN="Tri-County%20Center":MAILTO:events@tricountycenter.org
END:VEVENT
BEGIN:VEVENT
DTSTART;TZID=America/New_York:20260930T160000
DTEND;TZID=America/New_York:20260930T170000
DTSTAMP:20260421T195028
CREATED:20230816T112911Z
LAST-MODIFIED:20230816T170243Z
UID:10009583-1790784000-1790787600@staging.tricountycenter.org
SUMMARY:"Elevation" (W - 4:00p)
DESCRIPTION:
URL:https://staging.tricountycenter.org/event/elevation-w-400p/2026-09-30/
LOCATION:Tri-county Center (Old Building)
CATEGORIES:Meetings
ORGANIZER;CN="Tri-County%20Center":MAILTO:events@tricountycenter.org
END:VEVENT
BEGIN:VEVENT
DTSTART;TZID=America/New_York:20261007T160000
DTEND;TZID=America/New_York:20261007T170000
DTSTAMP:20260421T195028
CREATED:20230816T112911Z
LAST-MODIFIED:20230816T170243Z
UID:10009584-1791388800-1791392400@staging.tricountycenter.org
SUMMARY:"Elevation" (W - 4:00p)
DESCRIPTION:
URL:https://staging.tricountycenter.org/event/elevation-w-400p/2026-10-07/
LOCATION:Tri-county Center (Old Building)
CATEGORIES:Meetings
ORGANIZER;CN="Tri-County%20Center":MAILTO:events@tricountycenter.org
END:VEVENT
BEGIN:VEVENT
DTSTART;TZID=America/New_York:20261014T160000
DTEND;TZID=America/New_York:20261014T170000
DTSTAMP:20260421T195028
CREATED:20230816T112911Z
LAST-MODIFIED:20230816T170243Z
UID:10009585-1791993600-1791997200@staging.tricountycenter.org
SUMMARY:"Elevation" (W - 4:00p)
DESCRIPTION:
URL:https://staging.tricountycenter.org/event/elevation-w-400p/2026-10-14/
LOCATION:Tri-county Center (Old Building)
CATEGORIES:Meetings
ORGANIZER;CN="Tri-County%20Center":MAILTO:events@tricountycenter.org
END:VEVENT
BEGIN:VEVENT
DTSTART;TZID=America/New_York:20261021T160000
DTEND;TZID=America/New_York:20261021T170000
DTSTAMP:20260421T195028
CREATED:20230816T112911Z
LAST-MODIFIED:20230816T170243Z
UID:10009586-1792598400-1792602000@staging.tricountycenter.org
SUMMARY:"Elevation" (W - 4:00p)
DESCRIPTION:
URL:https://staging.tricountycenter.org/event/elevation-w-400p/2026-10-21/
LOCATION:Tri-county Center (Old Building)
CATEGORIES:Meetings
ORGANIZER;CN="Tri-County%20Center":MAILTO:events@tricountycenter.org
END:VEVENT
BEGIN:VEVENT
DTSTART;TZID=America/New_York:20261028T160000
DTEND;TZID=America/New_York:20261028T170000
DTSTAMP:20260421T195028
CREATED:20230816T112911Z
LAST-MODIFIED:20230816T170243Z
UID:10009587-1793203200-1793206800@staging.tricountycenter.org
SUMMARY:"Elevation" (W - 4:00p)
DESCRIPTION:
URL:https://staging.tricountycenter.org/event/elevation-w-400p/2026-10-28/
LOCATION:Tri-county Center (Old Building)
CATEGORIES:Meetings
ORGANIZER;CN="Tri-County%20Center":MAILTO:events@tricountycenter.org
END:VEVENT
BEGIN:VEVENT
DTSTART;TZID=America/New_York:20261104T160000
DTEND;TZID=America/New_York:20261104T170000
DTSTAMP:20260421T195029
CREATED:20230816T112911Z
LAST-MODIFIED:20230816T170243Z
UID:10009588-1793808000-1793811600@staging.tricountycenter.org
SUMMARY:"Elevation" (W - 4:00p)
DESCRIPTION:
URL:https://staging.tricountycenter.org/event/elevation-w-400p/2026-11-04/
LOCATION:Tri-county Center (Old Building)
CATEGORIES:Meetings
ORGANIZER;CN="Tri-County%20Center":MAILTO:events@tricountycenter.org
END:VEVENT
BEGIN:VEVENT
DTSTART;TZID=America/New_York:20261111T160000
DTEND;TZID=America/New_York:20261111T170000
DTSTAMP:20260421T195029
CREATED:20230816T112911Z
LAST-MODIFIED:20230816T170243Z
UID:10009589-1794412800-1794416400@staging.tricountycenter.org
SUMMARY:"Elevation" (W - 4:00p)
DESCRIPTION:
URL:https://staging.tricountycenter.org/event/elevation-w-400p/2026-11-11/
LOCATION:Tri-county Center (Old Building)
CATEGORIES:Meetings
ORGANIZER;CN="Tri-County%20Center":MAILTO:events@tricountycenter.org
END:VEVENT
BEGIN:VEVENT
DTSTART;TZID=America/New_York:20261118T160000
DTEND;TZID=America/New_York:20261118T170000
DTSTAMP:20260421T195029
CREATED:20230816T112911Z
LAST-MODIFIED:20230816T170243Z
UID:10009590-1795017600-1795021200@staging.tricountycenter.org
SUMMARY:"Elevation" (W - 4:00p)
DESCRIPTION:
URL:https://staging.tricountycenter.org/event/elevation-w-400p/2026-11-18/
LOCATION:Tri-county Center (Old Building)
CATEGORIES:Meetings
ORGANIZER;CN="Tri-County%20Center":MAILTO:events@tricountycenter.org
END:VEVENT
BEGIN:VEVENT
DTSTART;TZID=America/New_York:20261125T160000
DTEND;TZID=America/New_York:20261125T170000
DTSTAMP:20260421T195029
CREATED:20230816T112911Z
LAST-MODIFIED:20230816T170243Z
UID:10009591-1795622400-1795626000@staging.tricountycenter.org
SUMMARY:"Elevation" (W - 4:00p)
DESCRIPTION:
URL:https://staging.tricountycenter.org/event/elevation-w-400p/2026-11-25/
LOCATION:Tri-county Center (Old Building)
CATEGORIES:Meetings
ORGANIZER;CN="Tri-County%20Center":MAILTO:events@tricountycenter.org
END:VEVENT
BEGIN:VEVENT
DTSTART;TZID=America/New_York:20261202T160000
DTEND;TZID=America/New_York:20261202T170000
DTSTAMP:20260421T195029
CREATED:20230816T112911Z
LAST-MODIFIED:20230816T170243Z
UID:10009592-1796227200-1796230800@staging.tricountycenter.org
SUMMARY:"Elevation" (W - 4:00p)
DESCRIPTION:
URL:https://staging.tricountycenter.org/event/elevation-w-400p/2026-12-02/
LOCATION:Tri-county Center (Old Building)
CATEGORIES:Meetings
ORGANIZER;CN="Tri-County%20Center":MAILTO:events@tricountycenter.org
END:VEVENT
BEGIN:VEVENT
DTSTART;TZID=America/New_York:20261209T160000
DTEND;TZID=America/New_York:20261209T170000
DTSTAMP:20260421T195029
CREATED:20230816T112911Z
LAST-MODIFIED:20230816T170243Z
UID:10009593-1796832000-1796835600@staging.tricountycenter.org
SUMMARY:"Elevation" (W - 4:00p)
DESCRIPTION:
URL:https://staging.tricountycenter.org/event/elevation-w-400p/2026-12-09/
LOCATION:Tri-county Center (Old Building)
CATEGORIES:Meetings
ORGANIZER;CN="Tri-County%20Center":MAILTO:events@tricountycenter.org
END:VEVENT
BEGIN:VEVENT
DTSTART;TZID=America/New_York:20261216T160000
DTEND;TZID=America/New_York:20261216T170000
DTSTAMP:20260421T195029
CREATED:20230816T112911Z
LAST-MODIFIED:20230816T170243Z
UID:10009594-1797436800-1797440400@staging.tricountycenter.org
SUMMARY:"Elevation" (W - 4:00p)
DESCRIPTION:
URL:https://staging.tricountycenter.org/event/elevation-w-400p/2026-12-16/
LOCATION:Tri-county Center (Old Building)
CATEGORIES:Meetings
ORGANIZER;CN="Tri-County%20Center":MAILTO:events@tricountycenter.org
END:VEVENT
BEGIN:VEVENT
DTSTART;TZID=America/New_York:20261223T160000
DTEND;TZID=America/New_York:20261223T170000
DTSTAMP:20260421T195029
CREATED:20230816T112911Z
LAST-MODIFIED:20230816T170243Z
UID:10009595-1798041600-1798045200@staging.tricountycenter.org
SUMMARY:"Elevation" (W - 4:00p)
DESCRIPTION:
URL:https://staging.tricountycenter.org/event/elevation-w-400p/2026-12-23/
LOCATION:Tri-county Center (Old Building)
CATEGORIES:Meetings
ORGANIZER;CN="Tri-County%20Center":MAILTO:events@tricountycenter.org
END:VEVENT
BEGIN:VEVENT
DTSTART;TZID=America/New_York:20261230T160000
DTEND;TZID=America/New_York:20261230T170000
DTSTAMP:20260421T195029
CREATED:20230816T112911Z
LAST-MODIFIED:20230816T170243Z
UID:10009596-1798646400-1798650000@staging.tricountycenter.org
SUMMARY:"Elevation" (W - 4:00p)
DESCRIPTION:
URL:https://staging.tricountycenter.org/event/elevation-w-400p/2026-12-30/
LOCATION:Tri-county Center (Old Building)
CATEGORIES:Meetings
ORGANIZER;CN="Tri-County%20Center":MAILTO:events@tricountycenter.org
END:VEVENT
BEGIN:VEVENT
DTSTART;TZID=America/New_York:20270106T160000
DTEND;TZID=America/New_York:20270106T170000
DTSTAMP:20260421T195029
CREATED:20230816T112911Z
LAST-MODIFIED:20230816T170243Z
UID:10009597-1799251200-1799254800@staging.tricountycenter.org
SUMMARY:"Elevation" (W - 4:00p)
DESCRIPTION:
URL:https://staging.tricountycenter.org/event/elevation-w-400p/2027-01-06/
LOCATION:Tri-county Center (Old Building)
CATEGORIES:Meetings
ORGANIZER;CN="Tri-County%20Center":MAILTO:events@tricountycenter.org
END:VEVENT
BEGIN:VEVENT
DTSTART;TZID=America/New_York:20270113T160000
DTEND;TZID=America/New_York:20270113T170000
DTSTAMP:20260421T195029
CREATED:20230816T112911Z
LAST-MODIFIED:20230816T170243Z
UID:10009598-1799856000-1799859600@staging.tricountycenter.org
SUMMARY:"Elevation" (W - 4:00p)
DESCRIPTION:
URL:https://staging.tricountycenter.org/event/elevation-w-400p/2027-01-13/
LOCATION:Tri-county Center (Old Building)
CATEGORIES:Meetings
ORGANIZER;CN="Tri-County%20Center":MAILTO:events@tricountycenter.org
END:VEVENT
BEGIN:VEVENT
DTSTART;TZID=America/New_York:20270120T160000
DTEND;TZID=America/New_York:20270120T170000
DTSTAMP:20260421T195029
CREATED:20230816T112911Z
LAST-MODIFIED:20230816T170243Z
UID:10009599-1800460800-1800464400@staging.tricountycenter.org
SUMMARY:"Elevation" (W - 4:00p)
DESCRIPTION:
URL:https://staging.tricountycenter.org/event/elevation-w-400p/2027-01-20/
LOCATION:Tri-county Center (Old Building)
CATEGORIES:Meetings
ORGANIZER;CN="Tri-County%20Center":MAILTO:events@tricountycenter.org
END:VEVENT
BEGIN:VEVENT
DTSTART;TZID=America/New_York:20270127T160000
DTEND;TZID=America/New_York:20270127T170000
DTSTAMP:20260421T195029
CREATED:20230816T112911Z
LAST-MODIFIED:20230816T170243Z
UID:10009600-1801065600-1801069200@staging.tricountycenter.org
SUMMARY:"Elevation" (W - 4:00p)
DESCRIPTION:
URL:https://staging.tricountycenter.org/event/elevation-w-400p/2027-01-27/
LOCATION:Tri-county Center (Old Building)
CATEGORIES:Meetings
ORGANIZER;CN="Tri-County%20Center":MAILTO:events@tricountycenter.org
END:VEVENT
BEGIN:VEVENT
DTSTART;TZID=America/New_York:20270203T160000
DTEND;TZID=America/New_York:20270203T170000
DTSTAMP:20260421T195029
CREATED:20230816T112911Z
LAST-MODIFIED:20230816T170243Z
UID:10009601-1801670400-1801674000@staging.tricountycenter.org
SUMMARY:"Elevation" (W - 4:00p)
DESCRIPTION:
URL:https://staging.tricountycenter.org/event/elevation-w-400p/2027-02-03/
LOCATION:Tri-county Center (Old Building)
CATEGORIES:Meetings
ORGANIZER;CN="Tri-County%20Center":MAILTO:events@tricountycenter.org
END:VEVENT
END:VCALENDAR