BEGIN:VCALENDAR
VERSION:2.0
PRODID:-//Tri-County Center - ECPv6.2.0.1//NONSGML v1.0//EN
CALSCALE:GREGORIAN
METHOD:PUBLISH
X-ORIGINAL-URL:https://staging.tricountycenter.org
X-WR-CALDESC:Events for Tri-County Center
REFRESH-INTERVAL;VALUE=DURATION:PT1H
X-Robots-Tag:noindex
X-PUBLISHED-TTL:PT1H
BEGIN:VTIMEZONE
TZID:America/New_York
BEGIN:DAYLIGHT
TZOFFSETFROM:-0500
TZOFFSETTO:-0400
TZNAME:EDT
DTSTART:20260308T070000
END:DAYLIGHT
BEGIN:STANDARD
TZOFFSETFROM:-0400
TZOFFSETTO:-0500
TZNAME:EST
DTSTART:20261101T060000
END:STANDARD
END:VTIMEZONE
BEGIN:VEVENT
DTSTART;TZID=America/New_York:20260311T160000
DTEND;TZID=America/New_York:20260311T170000
DTSTAMP:20260422T190017
CREATED:20230816T112911Z
LAST-MODIFIED:20230816T170243Z
UID:10009554-1773244800-1773248400@staging.tricountycenter.org
SUMMARY:"Elevation" (W - 4:00p)
DESCRIPTION:
URL:https://staging.tricountycenter.org/event/elevation-w-400p/2026-03-11/
LOCATION:Tri-county Center (Old Building)
CATEGORIES:Meetings
ORGANIZER;CN="Tri-County%20Center":MAILTO:events@tricountycenter.org
END:VEVENT
BEGIN:VEVENT
DTSTART;TZID=America/New_York:20260311T173000
DTEND;TZID=America/New_York:20260311T183000
DTSTAMP:20260422T190017
CREATED:20230816T015547Z
LAST-MODIFIED:20230816T174834Z
UID:10002514-1773250200-1773253800@staging.tricountycenter.org
SUMMARY:Happy Hour Open Discussion (M-W\, F-Sa 5:30p)
DESCRIPTION:
URL:https://staging.tricountycenter.org/event/happy-hour-m-w-f-sa-open-discussion-meeting/2026-03-11/
LOCATION:Tri-county Center (Main Room)\, 2031 East Kemper Road\, Cincinnati\, OH\, 45241\, United States
CATEGORIES:AA Meetings,Meetings
ORGANIZER;CN="Tri-County%20Center":MAILTO:events@tricountycenter.org
END:VEVENT
BEGIN:VEVENT
DTSTART;TZID=America/New_York:20260311T190000
DTEND;TZID=America/New_York:20260311T200000
DTSTAMP:20260422T190017
CREATED:20230816T113008Z
LAST-MODIFIED:20230816T170243Z
UID:10009816-1773255600-1773259200@staging.tricountycenter.org
SUMMARY:"Cold Nickel" Men's Closed Discussion (W 7:00p)
DESCRIPTION:
URL:https://staging.tricountycenter.org/event/cold-nickel-mens-closed-discussion-w-700p/2026-03-11/
LOCATION:Tri-county Center (Old Building)
CATEGORIES:AA Meetings,Meetings
ORGANIZER;CN="Tri-County%20Center":MAILTO:events@tricountycenter.org
END:VEVENT
BEGIN:VEVENT
DTSTART;TZID=America/New_York:20260311T193000
DTEND;TZID=America/New_York:20260311T203000
DTSTAMP:20260422T190017
CREATED:20230816T113223Z
LAST-MODIFIED:20230816T182127Z
UID:10010078-1773257400-1773261000@staging.tricountycenter.org
SUMMARY:Big Book Discussion (W 7:30p)
DESCRIPTION:
URL:https://staging.tricountycenter.org/event/big-book-discussion-w-730p/2026-03-11/
LOCATION:Tri-county Center (Main Room)\, 2031 East Kemper Road\, Cincinnati\, OH\, 45241\, United States
CATEGORIES:AA Meetings,Meetings
ORGANIZER;CN="Tri-County%20Center":MAILTO:events@tricountycenter.org
END:VEVENT
BEGIN:VEVENT
DTSTART;TZID=America/New_York:20260312T070000
DTEND;TZID=America/New_York:20260312T080000
DTSTAMP:20260422T190017
CREATED:20230816T005850Z
LAST-MODIFIED:20230816T170243Z
UID:10000955-1773298800-1773302400@staging.tricountycenter.org
SUMMARY:"Rise and Shine" (S-Sa 7:00a)
DESCRIPTION:
URL:https://staging.tricountycenter.org/event/rise-and-shine/2026-03-12/
LOCATION:Tri-county Center (Main Room)\, 2031 East Kemper Road\, Cincinnati\, OH\, 45241\, United States
CATEGORIES:AA Meetings,Meetings
ORGANIZER;CN="Tri-County%20Center":MAILTO:events@tricountycenter.org
END:VEVENT
BEGIN:VEVENT
DTSTART;TZID=America/New_York:20260312T093000
DTEND;TZID=America/New_York:20260312T103000
DTSTAMP:20260422T190017
CREATED:20230816T022941Z
LAST-MODIFIED:20230816T175404Z
UID:10005375-1773307800-1773311400@staging.tricountycenter.org
SUMMARY:Big Book Study (Th 9:30a)
DESCRIPTION:
URL:https://staging.tricountycenter.org/event/big-book-study-th-930a/2026-03-12/
LOCATION:Tri-county Center (Main Room)\, 2031 East Kemper Road\, Cincinnati\, OH\, 45241\, United States
CATEGORIES:AA Meetings,Meetings
ORGANIZER;CN="Tri-County%20Center":MAILTO:events@tricountycenter.org
END:VEVENT
BEGIN:VEVENT
DTSTART;TZID=America/New_York:20260312T123000
DTEND;TZID=America/New_York:20260312T133000
DTSTAMP:20260422T190017
CREATED:20230816T023554Z
LAST-MODIFIED:20230816T175746Z
UID:10007203-1773318600-1773322200@staging.tricountycenter.org
SUMMARY:Old Timers Lead (Th 12:30p)
DESCRIPTION:
URL:https://staging.tricountycenter.org/event/old-timers-lead-th-1230p/2026-03-12/
LOCATION:Tri-county Center (Ball Room)\, 2031 East Kemper Road\, Cincinnati\, OH\, 45246\, United States
CATEGORIES:AA Meetings,Meetings
ORGANIZER;CN="Tri-County%20Center":MAILTO:events@tricountycenter.org
END:VEVENT
BEGIN:VEVENT
DTSTART;TZID=America/New_York:20260312T160000
DTEND;TZID=America/New_York:20260312T170000
DTSTAMP:20260422T190017
CREATED:20230816T023908Z
LAST-MODIFIED:20230816T170243Z
UID:10008269-1773331200-1773334800@staging.tricountycenter.org
SUMMARY:Closed Discussion (S-Sa 4:00p)
DESCRIPTION:
URL:https://staging.tricountycenter.org/event/closed-discussion-s-sa-400p/2026-03-12/
LOCATION:Tri-county Center (Main Room)\, 2031 East Kemper Road\, Cincinnati\, OH\, 45241\, United States
CATEGORIES:AA Meetings,Meetings
ORGANIZER;CN="Tri-County%20Center":MAILTO:events@tricountycenter.org
END:VEVENT
BEGIN:VEVENT
DTSTART;TZID=America/New_York:20260312T170000
DTEND;TZID=America/New_York:20260312T180000
DTSTAMP:20260422T190017
CREATED:20230816T015857Z
LAST-MODIFIED:20230816T170243Z
UID:10003283-1773334800-1773338400@staging.tricountycenter.org
SUMMARY:Happy Hour Open Discussion (Th 5:30p)
DESCRIPTION:
URL:https://staging.tricountycenter.org/event/happy-hour-th-open-discussion-meeting/2026-03-12/
LOCATION:Tri-county Center (Main Room)\, 2031 East Kemper Road\, Cincinnati\, OH\, 45241\, United States
CATEGORIES:AA Meetings,Meetings
ORGANIZER;CN="Tri-County%20Center":MAILTO:events@tricountycenter.org
END:VEVENT
BEGIN:VEVENT
DTSTART;TZID=America/New_York:20260312T190000
DTEND;TZID=America/New_York:20260312T200000
DTSTAMP:20260422T190017
CREATED:20230816T181015Z
LAST-MODIFIED:20230816T191709Z
UID:10010343-1773342000-1773345600@staging.tricountycenter.org
SUMMARY:"Thursday Night Women's Meeting"
DESCRIPTION:
URL:https://staging.tricountycenter.org/event/thursday-night-womens-meeting/2026-03-12/
LOCATION:Tri-county Center (Old Building)
CATEGORIES:AA Meetings,Meetings
ORGANIZER;CN="Tri-County%20Center":MAILTO:events@tricountycenter.org
END:VEVENT
BEGIN:VEVENT
DTSTART;TZID=America/New_York:20260312T193000
DTEND;TZID=America/New_York:20260312T203000
DTSTAMP:20260422T190017
CREATED:20230816T181156Z
LAST-MODIFIED:20230816T181156Z
UID:10010604-1773343800-1773347400@staging.tricountycenter.org
SUMMARY:"Valley Group" Lead Meeting (Th 7:30p)
DESCRIPTION:
URL:https://staging.tricountycenter.org/event/valley-group-lead-meeting-th-730p/2026-03-12/
LOCATION:Tri-county Center (Main Room)\, 2031 East Kemper Road\, Cincinnati\, OH\, 45241\, United States
CATEGORIES:AA Meetings,Meetings
ORGANIZER;CN="Tri-County%20Center":MAILTO:events@tricountycenter.org
END:VEVENT
BEGIN:VEVENT
DTSTART;TZID=America/New_York:20260313T070000
DTEND;TZID=America/New_York:20260313T080000
DTSTAMP:20260422T190017
CREATED:20230816T005850Z
LAST-MODIFIED:20230816T170243Z
UID:10000956-1773385200-1773388800@staging.tricountycenter.org
SUMMARY:"Rise and Shine" (S-Sa 7:00a)
DESCRIPTION:
URL:https://staging.tricountycenter.org/event/rise-and-shine/2026-03-13/
LOCATION:Tri-county Center (Main Room)\, 2031 East Kemper Road\, Cincinnati\, OH\, 45241\, United States
CATEGORIES:AA Meetings,Meetings
ORGANIZER;CN="Tri-County%20Center":MAILTO:events@tricountycenter.org
END:VEVENT
BEGIN:VEVENT
DTSTART;TZID=America/New_York:20260313T093000
DTEND;TZID=America/New_York:20260313T103000
DTSTAMP:20260422T190017
CREATED:20230816T020452Z
LAST-MODIFIED:20230816T175516Z
UID:10004075-1773394200-1773397800@staging.tricountycenter.org
SUMMARY:Open Discussion (M\, W\, F 930A)
DESCRIPTION:
URL:https://staging.tricountycenter.org/event/open-discussion-meeting-m-w-f-930a/2026-03-13/
LOCATION:Tri-county Center (Main Room)\, 2031 East Kemper Road\, Cincinnati\, OH\, 45241\, United States
CATEGORIES:AA Meetings,Meetings
ORGANIZER;CN="Tri-County%20Center":MAILTO:events@tricountycenter.org
END:VEVENT
BEGIN:VEVENT
DTSTART;TZID=America/New_York:20260313T123000
DTEND;TZID=America/New_York:20260313T133000
DTSTAMP:20260422T190017
CREATED:20230816T023257Z
LAST-MODIFIED:20230816T175850Z
UID:10006308-1773405000-1773408600@staging.tricountycenter.org
SUMMARY:Open Discussion (Su-W\, F-Sa 12:30p)
DESCRIPTION:
URL:https://staging.tricountycenter.org/event/open-discussion-su-w-f-sa-1230p/2026-03-13/
LOCATION:Tri-county Center (Main Room)\, 2031 East Kemper Road\, Cincinnati\, OH\, 45241\, United States
CATEGORIES:AA Meetings,Meetings
ORGANIZER;CN="Tri-County%20Center":MAILTO:events@tricountycenter.org
END:VEVENT
BEGIN:VEVENT
DTSTART;TZID=America/New_York:20260313T160000
DTEND;TZID=America/New_York:20260313T170000
DTSTAMP:20260422T190017
CREATED:20230816T023908Z
LAST-MODIFIED:20230816T170243Z
UID:10008270-1773417600-1773421200@staging.tricountycenter.org
SUMMARY:Closed Discussion (S-Sa 4:00p)
DESCRIPTION:
URL:https://staging.tricountycenter.org/event/closed-discussion-s-sa-400p/2026-03-13/
LOCATION:Tri-county Center (Main Room)\, 2031 East Kemper Road\, Cincinnati\, OH\, 45241\, United States
CATEGORIES:AA Meetings,Meetings
ORGANIZER;CN="Tri-County%20Center":MAILTO:events@tricountycenter.org
END:VEVENT
BEGIN:VEVENT
DTSTART;TZID=America/New_York:20260313T173000
DTEND;TZID=America/New_York:20260313T183000
DTSTAMP:20260422T190017
CREATED:20230816T015547Z
LAST-MODIFIED:20230816T174834Z
UID:10002515-1773423000-1773426600@staging.tricountycenter.org
SUMMARY:Happy Hour Open Discussion (M-W\, F-Sa 5:30p)
DESCRIPTION:
URL:https://staging.tricountycenter.org/event/happy-hour-m-w-f-sa-open-discussion-meeting/2026-03-13/
LOCATION:Tri-county Center (Main Room)\, 2031 East Kemper Road\, Cincinnati\, OH\, 45241\, United States
CATEGORIES:AA Meetings,Meetings
ORGANIZER;CN="Tri-County%20Center":MAILTO:events@tricountycenter.org
END:VEVENT
BEGIN:VEVENT
DTSTART;TZID=America/New_York:20260313T193000
DTEND;TZID=America/New_York:20260313T203000
DTSTAMP:20260422T190017
CREATED:20230816T181324Z
LAST-MODIFIED:20230816T181403Z
UID:10010866-1773430200-1773433800@staging.tricountycenter.org
SUMMARY:Lead Meeting (Fr 7:30p)
DESCRIPTION:
URL:https://staging.tricountycenter.org/event/lead-meeting-fr-730p/2026-03-13/
LOCATION:Tri-county Center (Main Room)\, 2031 East Kemper Road\, Cincinnati\, OH\, 45241\, United States
CATEGORIES:AA Meetings,Meetings
ORGANIZER;CN="Tri-County%20Center":MAILTO:events@tricountycenter.org
END:VEVENT
BEGIN:VEVENT
DTSTART;TZID=America/New_York:20260314T000000
DTEND;TZID=America/New_York:20260314T010000
DTSTAMP:20260422T190017
CREATED:20230816T181730Z
LAST-MODIFIED:20230816T182629Z
UID:10011649-1773446400-1773450000@staging.tricountycenter.org
SUMMARY:Midnight "It's Not Too Late" (Fr-Sa 11:59p)
DESCRIPTION:
URL:https://staging.tricountycenter.org/event/midnight-its-not-too-late-fr-sa-1159p/2026-03-14/
LOCATION:Tri-county Center (Old Building)
CATEGORIES:AA Meetings,Meetings
ORGANIZER;CN="Tri-County%20Center":MAILTO:events@tricountycenter.org
END:VEVENT
BEGIN:VEVENT
DTSTART;TZID=America/New_York:20260314T070000
DTEND;TZID=America/New_York:20260314T080000
DTSTAMP:20260422T190017
CREATED:20230816T005850Z
LAST-MODIFIED:20230816T170243Z
UID:10000957-1773471600-1773475200@staging.tricountycenter.org
SUMMARY:"Rise and Shine" (S-Sa 7:00a)
DESCRIPTION:
URL:https://staging.tricountycenter.org/event/rise-and-shine/2026-03-14/
LOCATION:Tri-county Center (Main Room)\, 2031 East Kemper Road\, Cincinnati\, OH\, 45241\, United States
CATEGORIES:AA Meetings,Meetings
ORGANIZER;CN="Tri-County%20Center":MAILTO:events@tricountycenter.org
END:VEVENT
BEGIN:VEVENT
DTSTART;TZID=America/New_York:20260314T091500
DTEND;TZID=America/New_York:20260314T104500
DTSTAMP:20260422T190017
CREATED:20230816T193939Z
LAST-MODIFIED:20230816T193939Z
UID:10012492-1773479700-1773485100@staging.tricountycenter.org
SUMMARY:Beginner's Meeting
DESCRIPTION:
URL:https://staging.tricountycenter.org/event/beginners-meeting/2026-03-14/
LOCATION:Tri-county Center (Main Room)\, 2031 East Kemper Road\, Cincinnati\, OH\, 45241\, United States
CATEGORIES:AA Meetings,Meetings
ORGANIZER;CN="Tri-County%20Center":MAILTO:events@tricountycenter.org
END:VEVENT
BEGIN:VEVENT
DTSTART;TZID=America/New_York:20260314T100000
DTEND;TZID=America/New_York:20260314T110000
DTSTAMP:20260422T190017
CREATED:20230816T194910Z
LAST-MODIFIED:20230816T195102Z
UID:10012753-1773482400-1773486000@staging.tricountycenter.org
SUMMARY:Al-Anon Family Groups Meeting
DESCRIPTION:
URL:https://staging.tricountycenter.org/event/al-anon-family-groups-meeting/2026-03-14/
LOCATION:Tri-county Center (Old Building)
CATEGORIES:Al-anon/Alateen Meetings,Meetings
ORGANIZER;CN="Tri-County%20Center":MAILTO:events@tricountycenter.org
END:VEVENT
BEGIN:VEVENT
DTSTART;TZID=America/New_York:20260314T123000
DTEND;TZID=America/New_York:20260314T133000
DTSTAMP:20260422T190017
CREATED:20230816T023257Z
LAST-MODIFIED:20230816T175850Z
UID:10006309-1773491400-1773495000@staging.tricountycenter.org
SUMMARY:Open Discussion (Su-W\, F-Sa 12:30p)
DESCRIPTION:
URL:https://staging.tricountycenter.org/event/open-discussion-su-w-f-sa-1230p/2026-03-14/
LOCATION:Tri-county Center (Main Room)\, 2031 East Kemper Road\, Cincinnati\, OH\, 45241\, United States
CATEGORIES:AA Meetings,Meetings
ORGANIZER;CN="Tri-County%20Center":MAILTO:events@tricountycenter.org
END:VEVENT
BEGIN:VEVENT
DTSTART;TZID=America/New_York:20260314T160000
DTEND;TZID=America/New_York:20260314T170000
DTSTAMP:20260422T190017
CREATED:20230816T023908Z
LAST-MODIFIED:20230816T170243Z
UID:10008271-1773504000-1773507600@staging.tricountycenter.org
SUMMARY:Closed Discussion (S-Sa 4:00p)
DESCRIPTION:
URL:https://staging.tricountycenter.org/event/closed-discussion-s-sa-400p/2026-03-14/
LOCATION:Tri-county Center (Main Room)\, 2031 East Kemper Road\, Cincinnati\, OH\, 45241\, United States
CATEGORIES:AA Meetings,Meetings
ORGANIZER;CN="Tri-County%20Center":MAILTO:events@tricountycenter.org
END:VEVENT
BEGIN:VEVENT
DTSTART;TZID=America/New_York:20260314T173000
DTEND;TZID=America/New_York:20260314T183000
DTSTAMP:20260422T190017
CREATED:20230816T015547Z
LAST-MODIFIED:20230816T174834Z
UID:10002516-1773509400-1773513000@staging.tricountycenter.org
SUMMARY:Happy Hour Open Discussion (M-W\, F-Sa 5:30p)
DESCRIPTION:
URL:https://staging.tricountycenter.org/event/happy-hour-m-w-f-sa-open-discussion-meeting/2026-03-14/
LOCATION:Tri-county Center (Main Room)\, 2031 East Kemper Road\, Cincinnati\, OH\, 45241\, United States
CATEGORIES:AA Meetings,Meetings
ORGANIZER;CN="Tri-County%20Center":MAILTO:events@tricountycenter.org
END:VEVENT
BEGIN:VEVENT
DTSTART;TZID=America/New_York:20260314T190000
DTEND;TZID=America/New_York:20260314T200000
DTSTAMP:20260422T190017
CREATED:20230816T192837Z
LAST-MODIFIED:20230816T192958Z
UID:10012171-1773514800-1773518400@staging.tricountycenter.org
SUMMARY:Decade Plus Lead (Sa 7:00p)
DESCRIPTION:
URL:https://staging.tricountycenter.org/event/decade-plus-lead-sa-700p/2026-03-14/
LOCATION:Tri-county Center (Main Room)\, 2031 East Kemper Road\, Cincinnati\, OH\, 45241\, United States
CATEGORIES:AA Meetings,Meetings
ORGANIZER;CN="Tri-County%20Center":MAILTO:events@tricountycenter.org
END:VEVENT
BEGIN:VEVENT
DTSTART;TZID=America/New_York:20260315T000000
DTEND;TZID=America/New_York:20260315T010000
DTSTAMP:20260422T190017
CREATED:20230816T181730Z
LAST-MODIFIED:20230816T182629Z
UID:10011910-1773532800-1773536400@staging.tricountycenter.org
SUMMARY:Midnight "It's Not Too Late" (Fr-Sa 11:59p)
DESCRIPTION:
URL:https://staging.tricountycenter.org/event/midnight-its-not-too-late-fr-sa-1159p/2026-03-15/
LOCATION:Tri-county Center (Old Building)
CATEGORIES:AA Meetings,Meetings
ORGANIZER;CN="Tri-County%20Center":MAILTO:events@tricountycenter.org
END:VEVENT
BEGIN:VEVENT
DTSTART;TZID=America/New_York:20260315T070000
DTEND;TZID=America/New_York:20260315T080000
DTSTAMP:20260422T190017
CREATED:20230816T005850Z
LAST-MODIFIED:20230816T170243Z
UID:10000958-1773558000-1773561600@staging.tricountycenter.org
SUMMARY:"Rise and Shine" (S-Sa 7:00a)
DESCRIPTION:
URL:https://staging.tricountycenter.org/event/rise-and-shine/2026-03-15/
LOCATION:Tri-county Center (Main Room)\, 2031 East Kemper Road\, Cincinnati\, OH\, 45241\, United States
CATEGORIES:AA Meetings,Meetings
ORGANIZER;CN="Tri-County%20Center":MAILTO:events@tricountycenter.org
END:VEVENT
BEGIN:VEVENT
DTSTART;TZID=America/New_York:20260315T090000
DTEND;TZID=America/New_York:20260315T100000
DTSTAMP:20260422T190017
CREATED:20230816T022633Z
LAST-MODIFIED:20230816T170243Z
UID:10004590-1773565200-1773568800@staging.tricountycenter.org
SUMMARY:“Fairfield Breakfast Club”
DESCRIPTION:
URL:https://staging.tricountycenter.org/event/fairfield-breakfast-club/2026-03-15/
LOCATION:Tri-county Center (Ball Room)\, 2031 East Kemper Road\, Cincinnati\, OH\, 45246\, United States
CATEGORIES:AA Meetings,Meetings
ORGANIZER;CN="Tri-County%20Center":MAILTO:events@tricountycenter.org
END:VEVENT
BEGIN:VEVENT
DTSTART;TZID=America/New_York:20260315T123000
DTEND;TZID=America/New_York:20260315T133000
DTSTAMP:20260422T190017
CREATED:20230816T023257Z
LAST-MODIFIED:20230816T175850Z
UID:10006310-1773577800-1773581400@staging.tricountycenter.org
SUMMARY:Open Discussion (Su-W\, F-Sa 12:30p)
DESCRIPTION:
URL:https://staging.tricountycenter.org/event/open-discussion-su-w-f-sa-1230p/2026-03-15/
LOCATION:Tri-county Center (Main Room)\, 2031 East Kemper Road\, Cincinnati\, OH\, 45241\, United States
CATEGORIES:AA Meetings,Meetings
ORGANIZER;CN="Tri-County%20Center":MAILTO:events@tricountycenter.org
END:VEVENT
BEGIN:VEVENT
DTSTART;TZID=America/New_York:20260315T160000
DTEND;TZID=America/New_York:20260315T170000
DTSTAMP:20260422T190017
CREATED:20230816T023908Z
LAST-MODIFIED:20230816T170243Z
UID:10008272-1773590400-1773594000@staging.tricountycenter.org
SUMMARY:Closed Discussion (S-Sa 4:00p)
DESCRIPTION:
URL:https://staging.tricountycenter.org/event/closed-discussion-s-sa-400p/2026-03-15/
LOCATION:Tri-county Center (Main Room)\, 2031 East Kemper Road\, Cincinnati\, OH\, 45241\, United States
CATEGORIES:AA Meetings,Meetings
ORGANIZER;CN="Tri-County%20Center":MAILTO:events@tricountycenter.org
END:VEVENT
END:VCALENDAR