BEGIN:VCALENDAR
VERSION:2.0
PRODID:-//Tri-County Center - ECPv6.2.0.1//NONSGML v1.0//EN
CALSCALE:GREGORIAN
METHOD:PUBLISH
X-WR-CALNAME:Tri-County Center
X-ORIGINAL-URL:https://staging.tricountycenter.org
X-WR-CALDESC:Events for Tri-County Center
REFRESH-INTERVAL;VALUE=DURATION:PT1H
X-Robots-Tag:noindex
X-PUBLISHED-TTL:PT1H
BEGIN:VTIMEZONE
TZID:America/New_York
BEGIN:DAYLIGHT
TZOFFSETFROM:-0500
TZOFFSETTO:-0400
TZNAME:EDT
DTSTART:20250309T070000
END:DAYLIGHT
BEGIN:STANDARD
TZOFFSETFROM:-0400
TZOFFSETTO:-0500
TZNAME:EST
DTSTART:20251102T060000
END:STANDARD
END:VTIMEZONE
BEGIN:VEVENT
DTSTART;TZID=America/New_York:20250712T100000
DTEND;TZID=America/New_York:20250712T110000
DTSTAMP:20260424T032850
CREATED:20230816T194910Z
LAST-MODIFIED:20230816T195102Z
UID:10012718-1752314400-1752318000@staging.tricountycenter.org
SUMMARY:Al-Anon Family Groups Meeting
DESCRIPTION:
URL:https://staging.tricountycenter.org/event/al-anon-family-groups-meeting/2025-07-12/
LOCATION:Tri-county Center (Old Building)
CATEGORIES:Al-anon/Alateen Meetings,Meetings
ORGANIZER;CN="Tri-County%20Center":MAILTO:events@tricountycenter.org
END:VEVENT
BEGIN:VEVENT
DTSTART;TZID=America/New_York:20250712T091500
DTEND;TZID=America/New_York:20250712T104500
DTSTAMP:20260424T032850
CREATED:20230816T193939Z
LAST-MODIFIED:20230816T193939Z
UID:10012457-1752311700-1752317100@staging.tricountycenter.org
SUMMARY:Beginner's Meeting
DESCRIPTION:
URL:https://staging.tricountycenter.org/event/beginners-meeting/2025-07-12/
LOCATION:Tri-county Center (Main Room)\, 2031 East Kemper Road\, Cincinnati\, OH\, 45241\, United States
CATEGORIES:AA Meetings,Meetings
ORGANIZER;CN="Tri-County%20Center":MAILTO:events@tricountycenter.org
END:VEVENT
BEGIN:VEVENT
DTSTART;TZID=America/New_York:20250712T070000
DTEND;TZID=America/New_York:20250712T080000
DTSTAMP:20260424T032850
CREATED:20230816T005850Z
LAST-MODIFIED:20230816T170243Z
UID:10000712-1752303600-1752307200@staging.tricountycenter.org
SUMMARY:"Rise and Shine" (S-Sa 7:00a)
DESCRIPTION:
URL:https://staging.tricountycenter.org/event/rise-and-shine/2025-07-12/
LOCATION:Tri-county Center (Main Room)\, 2031 East Kemper Road\, Cincinnati\, OH\, 45241\, United States
CATEGORIES:AA Meetings,Meetings
ORGANIZER;CN="Tri-County%20Center":MAILTO:events@tricountycenter.org
END:VEVENT
BEGIN:VEVENT
DTSTART;TZID=America/New_York:20250712T000000
DTEND;TZID=America/New_York:20250712T010000
DTSTAMP:20260424T032850
CREATED:20230816T181730Z
LAST-MODIFIED:20230816T182629Z
UID:10011614-1752278400-1752282000@staging.tricountycenter.org
SUMMARY:Midnight "It's Not Too Late" (Fr-Sa 11:59p)
DESCRIPTION:
URL:https://staging.tricountycenter.org/event/midnight-its-not-too-late-fr-sa-1159p/2025-07-12/
LOCATION:Tri-county Center (Old Building)
CATEGORIES:AA Meetings,Meetings
ORGANIZER;CN="Tri-County%20Center":MAILTO:events@tricountycenter.org
END:VEVENT
BEGIN:VEVENT
DTSTART;TZID=America/New_York:20250711T193000
DTEND;TZID=America/New_York:20250711T203000
DTSTAMP:20260424T032850
CREATED:20230816T181324Z
LAST-MODIFIED:20230816T181403Z
UID:10010831-1752262200-1752265800@staging.tricountycenter.org
SUMMARY:Lead Meeting (Fr 7:30p)
DESCRIPTION:
URL:https://staging.tricountycenter.org/event/lead-meeting-fr-730p/2025-07-11/
LOCATION:Tri-county Center (Main Room)\, 2031 East Kemper Road\, Cincinnati\, OH\, 45241\, United States
CATEGORIES:AA Meetings,Meetings
ORGANIZER;CN="Tri-County%20Center":MAILTO:events@tricountycenter.org
END:VEVENT
BEGIN:VEVENT
DTSTART;TZID=America/New_York:20250711T173000
DTEND;TZID=America/New_York:20250711T183000
DTSTAMP:20260424T032850
CREATED:20230816T015547Z
LAST-MODIFIED:20230816T174834Z
UID:10002340-1752255000-1752258600@staging.tricountycenter.org
SUMMARY:Happy Hour Open Discussion (M-W\, F-Sa 5:30p)
DESCRIPTION:
URL:https://staging.tricountycenter.org/event/happy-hour-m-w-f-sa-open-discussion-meeting/2025-07-11/
LOCATION:Tri-county Center (Main Room)\, 2031 East Kemper Road\, Cincinnati\, OH\, 45241\, United States
CATEGORIES:AA Meetings,Meetings
ORGANIZER;CN="Tri-County%20Center":MAILTO:events@tricountycenter.org
END:VEVENT
BEGIN:VEVENT
DTSTART;TZID=America/New_York:20250711T160000
DTEND;TZID=America/New_York:20250711T170000
DTSTAMP:20260424T032850
CREATED:20230816T023908Z
LAST-MODIFIED:20230816T170243Z
UID:10008025-1752249600-1752253200@staging.tricountycenter.org
SUMMARY:Closed Discussion (S-Sa 4:00p)
DESCRIPTION:
URL:https://staging.tricountycenter.org/event/closed-discussion-s-sa-400p/2025-07-11/
LOCATION:Tri-county Center (Main Room)\, 2031 East Kemper Road\, Cincinnati\, OH\, 45241\, United States
CATEGORIES:AA Meetings,Meetings
ORGANIZER;CN="Tri-County%20Center":MAILTO:events@tricountycenter.org
END:VEVENT
BEGIN:VEVENT
DTSTART;TZID=America/New_York:20250711T123000
DTEND;TZID=America/New_York:20250711T133000
DTSTAMP:20260424T032850
CREATED:20230816T023257Z
LAST-MODIFIED:20230816T175850Z
UID:10006098-1752237000-1752240600@staging.tricountycenter.org
SUMMARY:Open Discussion (Su-W\, F-Sa 12:30p)
DESCRIPTION:
URL:https://staging.tricountycenter.org/event/open-discussion-su-w-f-sa-1230p/2025-07-11/
LOCATION:Tri-county Center (Main Room)\, 2031 East Kemper Road\, Cincinnati\, OH\, 45241\, United States
CATEGORIES:AA Meetings,Meetings
ORGANIZER;CN="Tri-County%20Center":MAILTO:events@tricountycenter.org
END:VEVENT
BEGIN:VEVENT
DTSTART;TZID=America/New_York:20250711T093000
DTEND;TZID=America/New_York:20250711T103000
DTSTAMP:20260424T032850
CREATED:20230816T020452Z
LAST-MODIFIED:20230816T175516Z
UID:10003970-1752226200-1752229800@staging.tricountycenter.org
SUMMARY:Open Discussion (M\, W\, F 930A)
DESCRIPTION:
URL:https://staging.tricountycenter.org/event/open-discussion-meeting-m-w-f-930a/2025-07-11/
LOCATION:Tri-county Center (Main Room)\, 2031 East Kemper Road\, Cincinnati\, OH\, 45241\, United States
CATEGORIES:AA Meetings,Meetings
ORGANIZER;CN="Tri-County%20Center":MAILTO:events@tricountycenter.org
END:VEVENT
BEGIN:VEVENT
DTSTART;TZID=America/New_York:20250711T070000
DTEND;TZID=America/New_York:20250711T080000
DTSTAMP:20260424T032850
CREATED:20230816T005850Z
LAST-MODIFIED:20230816T170243Z
UID:10000711-1752217200-1752220800@staging.tricountycenter.org
SUMMARY:"Rise and Shine" (S-Sa 7:00a)
DESCRIPTION:
URL:https://staging.tricountycenter.org/event/rise-and-shine/2025-07-11/
LOCATION:Tri-county Center (Main Room)\, 2031 East Kemper Road\, Cincinnati\, OH\, 45241\, United States
CATEGORIES:AA Meetings,Meetings
ORGANIZER;CN="Tri-County%20Center":MAILTO:events@tricountycenter.org
END:VEVENT
BEGIN:VEVENT
DTSTART;TZID=America/New_York:20250710T193000
DTEND;TZID=America/New_York:20250710T203000
DTSTAMP:20260424T032850
CREATED:20230816T181156Z
LAST-MODIFIED:20230816T181156Z
UID:10010569-1752175800-1752179400@staging.tricountycenter.org
SUMMARY:"Valley Group" Lead Meeting (Th 7:30p)
DESCRIPTION:
URL:https://staging.tricountycenter.org/event/valley-group-lead-meeting-th-730p/2025-07-10/
LOCATION:Tri-county Center (Main Room)\, 2031 East Kemper Road\, Cincinnati\, OH\, 45241\, United States
CATEGORIES:AA Meetings,Meetings
ORGANIZER;CN="Tri-County%20Center":MAILTO:events@tricountycenter.org
END:VEVENT
BEGIN:VEVENT
DTSTART;TZID=America/New_York:20250710T190000
DTEND;TZID=America/New_York:20250710T200000
DTSTAMP:20260424T032850
CREATED:20230816T181015Z
LAST-MODIFIED:20230816T191709Z
UID:10010308-1752174000-1752177600@staging.tricountycenter.org
SUMMARY:"Thursday Night Women's Meeting"
DESCRIPTION:
URL:https://staging.tricountycenter.org/event/thursday-night-womens-meeting/2025-07-10/
LOCATION:Tri-county Center (Old Building)
CATEGORIES:AA Meetings,Meetings
ORGANIZER;CN="Tri-County%20Center":MAILTO:events@tricountycenter.org
END:VEVENT
BEGIN:VEVENT
DTSTART;TZID=America/New_York:20250710T170000
DTEND;TZID=America/New_York:20250710T180000
DTSTAMP:20260424T032850
CREATED:20230816T015857Z
LAST-MODIFIED:20230816T170243Z
UID:10003248-1752166800-1752170400@staging.tricountycenter.org
SUMMARY:Happy Hour Open Discussion (Th 5:30p)
DESCRIPTION:
URL:https://staging.tricountycenter.org/event/happy-hour-th-open-discussion-meeting/2025-07-10/
LOCATION:Tri-county Center (Main Room)\, 2031 East Kemper Road\, Cincinnati\, OH\, 45241\, United States
CATEGORIES:AA Meetings,Meetings
ORGANIZER;CN="Tri-County%20Center":MAILTO:events@tricountycenter.org
END:VEVENT
BEGIN:VEVENT
DTSTART;TZID=America/New_York:20250710T160000
DTEND;TZID=America/New_York:20250710T170000
DTSTAMP:20260424T032850
CREATED:20230816T023908Z
LAST-MODIFIED:20230816T170243Z
UID:10008024-1752163200-1752166800@staging.tricountycenter.org
SUMMARY:Closed Discussion (S-Sa 4:00p)
DESCRIPTION:
URL:https://staging.tricountycenter.org/event/closed-discussion-s-sa-400p/2025-07-10/
LOCATION:Tri-county Center (Main Room)\, 2031 East Kemper Road\, Cincinnati\, OH\, 45241\, United States
CATEGORIES:AA Meetings,Meetings
ORGANIZER;CN="Tri-County%20Center":MAILTO:events@tricountycenter.org
END:VEVENT
BEGIN:VEVENT
DTSTART;TZID=America/New_York:20250710T123000
DTEND;TZID=America/New_York:20250710T133000
DTSTAMP:20260424T032850
CREATED:20230816T023554Z
LAST-MODIFIED:20230816T175746Z
UID:10007168-1752150600-1752154200@staging.tricountycenter.org
SUMMARY:Old Timers Lead (Th 12:30p)
DESCRIPTION:
URL:https://staging.tricountycenter.org/event/old-timers-lead-th-1230p/2025-07-10/
LOCATION:Tri-county Center (Ball Room)\, 2031 East Kemper Road\, Cincinnati\, OH\, 45246\, United States
CATEGORIES:AA Meetings,Meetings
ORGANIZER;CN="Tri-County%20Center":MAILTO:events@tricountycenter.org
END:VEVENT
BEGIN:VEVENT
DTSTART;TZID=America/New_York:20250710T093000
DTEND;TZID=America/New_York:20250710T103000
DTSTAMP:20260424T032850
CREATED:20230816T022941Z
LAST-MODIFIED:20230816T175404Z
UID:10005340-1752139800-1752143400@staging.tricountycenter.org
SUMMARY:Big Book Study (Th 9:30a)
DESCRIPTION:
URL:https://staging.tricountycenter.org/event/big-book-study-th-930a/2025-07-10/
LOCATION:Tri-county Center (Main Room)\, 2031 East Kemper Road\, Cincinnati\, OH\, 45241\, United States
CATEGORIES:AA Meetings,Meetings
ORGANIZER;CN="Tri-County%20Center":MAILTO:events@tricountycenter.org
END:VEVENT
BEGIN:VEVENT
DTSTART;TZID=America/New_York:20250710T070000
DTEND;TZID=America/New_York:20250710T080000
DTSTAMP:20260424T032850
CREATED:20230816T005850Z
LAST-MODIFIED:20230816T170243Z
UID:10000710-1752130800-1752134400@staging.tricountycenter.org
SUMMARY:"Rise and Shine" (S-Sa 7:00a)
DESCRIPTION:
URL:https://staging.tricountycenter.org/event/rise-and-shine/2025-07-10/
LOCATION:Tri-county Center (Main Room)\, 2031 East Kemper Road\, Cincinnati\, OH\, 45241\, United States
CATEGORIES:AA Meetings,Meetings
ORGANIZER;CN="Tri-County%20Center":MAILTO:events@tricountycenter.org
END:VEVENT
BEGIN:VEVENT
DTSTART;TZID=America/New_York:20250709T193000
DTEND;TZID=America/New_York:20250709T203000
DTSTAMP:20260424T032850
CREATED:20230816T113223Z
LAST-MODIFIED:20230816T182127Z
UID:10010043-1752089400-1752093000@staging.tricountycenter.org
SUMMARY:Big Book Discussion (W 7:30p)
DESCRIPTION:
URL:https://staging.tricountycenter.org/event/big-book-discussion-w-730p/2025-07-09/
LOCATION:Tri-county Center (Main Room)\, 2031 East Kemper Road\, Cincinnati\, OH\, 45241\, United States
CATEGORIES:AA Meetings,Meetings
ORGANIZER;CN="Tri-County%20Center":MAILTO:events@tricountycenter.org
END:VEVENT
BEGIN:VEVENT
DTSTART;TZID=America/New_York:20250709T190000
DTEND;TZID=America/New_York:20250709T200000
DTSTAMP:20260424T032850
CREATED:20230816T113008Z
LAST-MODIFIED:20230816T170243Z
UID:10009781-1752087600-1752091200@staging.tricountycenter.org
SUMMARY:"Cold Nickel" Men's Closed Discussion (W 7:00p)
DESCRIPTION:
URL:https://staging.tricountycenter.org/event/cold-nickel-mens-closed-discussion-w-700p/2025-07-09/
LOCATION:Tri-county Center (Old Building)
CATEGORIES:AA Meetings,Meetings
ORGANIZER;CN="Tri-County%20Center":MAILTO:events@tricountycenter.org
END:VEVENT
BEGIN:VEVENT
DTSTART;TZID=America/New_York:20250709T173000
DTEND;TZID=America/New_York:20250709T183000
DTSTAMP:20260424T032850
CREATED:20230816T015547Z
LAST-MODIFIED:20230816T174834Z
UID:10002339-1752082200-1752085800@staging.tricountycenter.org
SUMMARY:Happy Hour Open Discussion (M-W\, F-Sa 5:30p)
DESCRIPTION:
URL:https://staging.tricountycenter.org/event/happy-hour-m-w-f-sa-open-discussion-meeting/2025-07-09/
LOCATION:Tri-county Center (Main Room)\, 2031 East Kemper Road\, Cincinnati\, OH\, 45241\, United States
CATEGORIES:AA Meetings,Meetings
ORGANIZER;CN="Tri-County%20Center":MAILTO:events@tricountycenter.org
END:VEVENT
BEGIN:VEVENT
DTSTART;TZID=America/New_York:20250709T160000
DTEND;TZID=America/New_York:20250709T170000
DTSTAMP:20260424T032850
CREATED:20230816T112911Z
LAST-MODIFIED:20230816T170243Z
UID:10009519-1752076800-1752080400@staging.tricountycenter.org
SUMMARY:"Elevation" (W - 4:00p)
DESCRIPTION:
URL:https://staging.tricountycenter.org/event/elevation-w-400p/2025-07-09/
LOCATION:Tri-county Center (Old Building)
CATEGORIES:Meetings
ORGANIZER;CN="Tri-County%20Center":MAILTO:events@tricountycenter.org
END:VEVENT
BEGIN:VEVENT
DTSTART;TZID=America/New_York:20250709T160000
DTEND;TZID=America/New_York:20250709T170000
DTSTAMP:20260424T032850
CREATED:20230816T023908Z
LAST-MODIFIED:20230816T170243Z
UID:10008023-1752076800-1752080400@staging.tricountycenter.org
SUMMARY:Closed Discussion (S-Sa 4:00p)
DESCRIPTION:
URL:https://staging.tricountycenter.org/event/closed-discussion-s-sa-400p/2025-07-09/
LOCATION:Tri-county Center (Main Room)\, 2031 East Kemper Road\, Cincinnati\, OH\, 45241\, United States
CATEGORIES:AA Meetings,Meetings
ORGANIZER;CN="Tri-County%20Center":MAILTO:events@tricountycenter.org
END:VEVENT
BEGIN:VEVENT
DTSTART;TZID=America/New_York:20250709T123000
DTEND;TZID=America/New_York:20250709T133000
DTSTAMP:20260424T032850
CREATED:20230816T023257Z
LAST-MODIFIED:20230816T175850Z
UID:10006097-1752064200-1752067800@staging.tricountycenter.org
SUMMARY:Open Discussion (Su-W\, F-Sa 12:30p)
DESCRIPTION:
URL:https://staging.tricountycenter.org/event/open-discussion-su-w-f-sa-1230p/2025-07-09/
LOCATION:Tri-county Center (Main Room)\, 2031 East Kemper Road\, Cincinnati\, OH\, 45241\, United States
CATEGORIES:AA Meetings,Meetings
ORGANIZER;CN="Tri-County%20Center":MAILTO:events@tricountycenter.org
END:VEVENT
BEGIN:VEVENT
DTSTART;TZID=America/New_York:20250709T093000
DTEND;TZID=America/New_York:20250709T103000
DTSTAMP:20260424T032850
CREATED:20230816T020452Z
LAST-MODIFIED:20230816T175516Z
UID:10003969-1752053400-1752057000@staging.tricountycenter.org
SUMMARY:Open Discussion (M\, W\, F 930A)
DESCRIPTION:
URL:https://staging.tricountycenter.org/event/open-discussion-meeting-m-w-f-930a/2025-07-09/
LOCATION:Tri-county Center (Main Room)\, 2031 East Kemper Road\, Cincinnati\, OH\, 45241\, United States
CATEGORIES:AA Meetings,Meetings
ORGANIZER;CN="Tri-County%20Center":MAILTO:events@tricountycenter.org
END:VEVENT
BEGIN:VEVENT
DTSTART;TZID=America/New_York:20250709T070000
DTEND;TZID=America/New_York:20250709T080000
DTSTAMP:20260424T032850
CREATED:20230816T005850Z
LAST-MODIFIED:20230816T170243Z
UID:10000709-1752044400-1752048000@staging.tricountycenter.org
SUMMARY:"Rise and Shine" (S-Sa 7:00a)
DESCRIPTION:
URL:https://staging.tricountycenter.org/event/rise-and-shine/2025-07-09/
LOCATION:Tri-county Center (Main Room)\, 2031 East Kemper Road\, Cincinnati\, OH\, 45241\, United States
CATEGORIES:AA Meetings,Meetings
ORGANIZER;CN="Tri-County%20Center":MAILTO:events@tricountycenter.org
END:VEVENT
BEGIN:VEVENT
DTSTART;TZID=America/New_York:20250708T173000
DTEND;TZID=America/New_York:20250708T183000
DTSTAMP:20260424T032850
CREATED:20230816T015547Z
LAST-MODIFIED:20230816T174834Z
UID:10002338-1751995800-1751999400@staging.tricountycenter.org
SUMMARY:Happy Hour Open Discussion (M-W\, F-Sa 5:30p)
DESCRIPTION:
URL:https://staging.tricountycenter.org/event/happy-hour-m-w-f-sa-open-discussion-meeting/2025-07-08/
LOCATION:Tri-county Center (Main Room)\, 2031 East Kemper Road\, Cincinnati\, OH\, 45241\, United States
CATEGORIES:AA Meetings,Meetings
ORGANIZER;CN="Tri-County%20Center":MAILTO:events@tricountycenter.org
END:VEVENT
BEGIN:VEVENT
DTSTART;TZID=America/New_York:20250708T160000
DTEND;TZID=America/New_York:20250708T170000
DTSTAMP:20260424T032850
CREATED:20230816T023908Z
LAST-MODIFIED:20230816T170243Z
UID:10008022-1751990400-1751994000@staging.tricountycenter.org
SUMMARY:Closed Discussion (S-Sa 4:00p)
DESCRIPTION:
URL:https://staging.tricountycenter.org/event/closed-discussion-s-sa-400p/2025-07-08/
LOCATION:Tri-county Center (Main Room)\, 2031 East Kemper Road\, Cincinnati\, OH\, 45241\, United States
CATEGORIES:AA Meetings,Meetings
ORGANIZER;CN="Tri-County%20Center":MAILTO:events@tricountycenter.org
END:VEVENT
BEGIN:VEVENT
DTSTART;TZID=America/New_York:20250708T123000
DTEND;TZID=America/New_York:20250708T133000
DTSTAMP:20260424T032850
CREATED:20230816T023257Z
LAST-MODIFIED:20230816T175850Z
UID:10006096-1751977800-1751981400@staging.tricountycenter.org
SUMMARY:Open Discussion (Su-W\, F-Sa 12:30p)
DESCRIPTION:
URL:https://staging.tricountycenter.org/event/open-discussion-su-w-f-sa-1230p/2025-07-08/
LOCATION:Tri-county Center (Main Room)\, 2031 East Kemper Road\, Cincinnati\, OH\, 45241\, United States
CATEGORIES:AA Meetings,Meetings
ORGANIZER;CN="Tri-County%20Center":MAILTO:events@tricountycenter.org
END:VEVENT
BEGIN:VEVENT
DTSTART;TZID=America/New_York:20250708T093000
DTEND;TZID=America/New_York:20250708T103000
DTSTAMP:20260424T032850
CREATED:20230816T022800Z
LAST-MODIFIED:20230816T175442Z
UID:10004816-1751967000-1751970600@staging.tricountycenter.org
SUMMARY:12 & 12 (T 9:30a)
DESCRIPTION:
URL:https://staging.tricountycenter.org/event/12-12-t-930a/2025-07-08/
LOCATION:Tri-county Center (Main Room)\, 2031 East Kemper Road\, Cincinnati\, OH\, 45241\, United States
CATEGORIES:AA Meetings,Meetings
ORGANIZER;CN="Tri-County%20Center":MAILTO:events@tricountycenter.org
END:VEVENT
BEGIN:VEVENT
DTSTART;TZID=America/New_York:20250708T070000
DTEND;TZID=America/New_York:20250708T080000
DTSTAMP:20260424T032850
CREATED:20230816T005850Z
LAST-MODIFIED:20230816T170243Z
UID:10000708-1751958000-1751961600@staging.tricountycenter.org
SUMMARY:"Rise and Shine" (S-Sa 7:00a)
DESCRIPTION:
URL:https://staging.tricountycenter.org/event/rise-and-shine/2025-07-08/
LOCATION:Tri-county Center (Main Room)\, 2031 East Kemper Road\, Cincinnati\, OH\, 45241\, United States
CATEGORIES:AA Meetings,Meetings
ORGANIZER;CN="Tri-County%20Center":MAILTO:events@tricountycenter.org
END:VEVENT
END:VCALENDAR