BEGIN:VCALENDAR
VERSION:2.0
PRODID:-//Tri-County Center - ECPv6.2.0.1//NONSGML v1.0//EN
CALSCALE:GREGORIAN
METHOD:PUBLISH
X-WR-CALNAME:Tri-County Center
X-ORIGINAL-URL:https://staging.tricountycenter.org
X-WR-CALDESC:Events for Tri-County Center
REFRESH-INTERVAL;VALUE=DURATION:PT1H
X-Robots-Tag:noindex
X-PUBLISHED-TTL:PT1H
BEGIN:VTIMEZONE
TZID:America/New_York
BEGIN:DAYLIGHT
TZOFFSETFROM:-0500
TZOFFSETTO:-0400
TZNAME:EDT
DTSTART:20250309T070000
END:DAYLIGHT
BEGIN:STANDARD
TZOFFSETFROM:-0400
TZOFFSETTO:-0500
TZNAME:EST
DTSTART:20251102T060000
END:STANDARD
END:VTIMEZONE
BEGIN:VEVENT
DTSTART;TZID=America/New_York:20250422T123000
DTEND;TZID=America/New_York:20250422T133000
DTSTAMP:20260425T111621
CREATED:20230816T023257Z
LAST-MODIFIED:20230816T175850Z
UID:10006030-1745325000-1745328600@staging.tricountycenter.org
SUMMARY:Open Discussion (Su-W\, F-Sa 12:30p)
DESCRIPTION:
URL:https://staging.tricountycenter.org/event/open-discussion-su-w-f-sa-1230p/2025-04-22/
LOCATION:Tri-county Center (Main Room)\, 2031 East Kemper Road\, Cincinnati\, OH\, 45241\, United States
CATEGORIES:AA Meetings,Meetings
ORGANIZER;CN="Tri-County%20Center":MAILTO:events@tricountycenter.org
END:VEVENT
BEGIN:VEVENT
DTSTART;TZID=America/New_York:20250422T093000
DTEND;TZID=America/New_York:20250422T103000
DTSTAMP:20260425T111621
CREATED:20230816T022800Z
LAST-MODIFIED:20230816T175442Z
UID:10004805-1745314200-1745317800@staging.tricountycenter.org
SUMMARY:12 & 12 (T 9:30a)
DESCRIPTION:
URL:https://staging.tricountycenter.org/event/12-12-t-930a/2025-04-22/
LOCATION:Tri-county Center (Main Room)\, 2031 East Kemper Road\, Cincinnati\, OH\, 45241\, United States
CATEGORIES:AA Meetings,Meetings
ORGANIZER;CN="Tri-County%20Center":MAILTO:events@tricountycenter.org
END:VEVENT
BEGIN:VEVENT
DTSTART;TZID=America/New_York:20250422T070000
DTEND;TZID=America/New_York:20250422T080000
DTSTAMP:20260425T111621
CREATED:20230816T005850Z
LAST-MODIFIED:20230816T170243Z
UID:10000631-1745305200-1745308800@staging.tricountycenter.org
SUMMARY:"Rise and Shine" (S-Sa 7:00a)
DESCRIPTION:
URL:https://staging.tricountycenter.org/event/rise-and-shine/2025-04-22/
LOCATION:Tri-county Center (Main Room)\, 2031 East Kemper Road\, Cincinnati\, OH\, 45241\, United States
CATEGORIES:AA Meetings,Meetings
ORGANIZER;CN="Tri-County%20Center":MAILTO:events@tricountycenter.org
END:VEVENT
BEGIN:VEVENT
DTSTART;TZID=America/New_York:20250421T193000
DTEND;TZID=America/New_York:20250421T203000
DTSTAMP:20260425T111622
CREATED:20230816T112526Z
LAST-MODIFIED:20230816T170243Z
UID:10009246-1745263800-1745267400@staging.tricountycenter.org
SUMMARY:Open Beginner's Lead/Discussion (M 7:30p)
DESCRIPTION:
URL:https://staging.tricountycenter.org/event/open-beginners-lead-discussion-m-730p/2025-04-21/
LOCATION:Tri-county Center (Main Room)\, 2031 East Kemper Road\, Cincinnati\, OH\, 45241\, United States
CATEGORIES:AA Meetings,Meetings
ORGANIZER;CN="Tri-County%20Center":MAILTO:events@tricountycenter.org
END:VEVENT
BEGIN:VEVENT
DTSTART;TZID=America/New_York:20250421T173000
DTEND;TZID=America/New_York:20250421T183000
DTSTAMP:20260425T111622
CREATED:20230816T015547Z
LAST-MODIFIED:20230816T174834Z
UID:10002282-1745256600-1745260200@staging.tricountycenter.org
SUMMARY:Happy Hour Open Discussion (M-W\, F-Sa 5:30p)
DESCRIPTION:
URL:https://staging.tricountycenter.org/event/happy-hour-m-w-f-sa-open-discussion-meeting/2025-04-21/
LOCATION:Tri-county Center (Main Room)\, 2031 East Kemper Road\, Cincinnati\, OH\, 45241\, United States
CATEGORIES:AA Meetings,Meetings
ORGANIZER;CN="Tri-County%20Center":MAILTO:events@tricountycenter.org
END:VEVENT
BEGIN:VEVENT
DTSTART;TZID=America/New_York:20250421T160000
DTEND;TZID=America/New_York:20250421T170000
DTSTAMP:20260425T111622
CREATED:20230816T023908Z
LAST-MODIFIED:20230816T170243Z
UID:10007944-1745251200-1745254800@staging.tricountycenter.org
SUMMARY:Closed Discussion (S-Sa 4:00p)
DESCRIPTION:
URL:https://staging.tricountycenter.org/event/closed-discussion-s-sa-400p/2025-04-21/
LOCATION:Tri-county Center (Main Room)\, 2031 East Kemper Road\, Cincinnati\, OH\, 45241\, United States
CATEGORIES:AA Meetings,Meetings
ORGANIZER;CN="Tri-County%20Center":MAILTO:events@tricountycenter.org
END:VEVENT
BEGIN:VEVENT
DTSTART;TZID=America/New_York:20250421T123000
DTEND;TZID=America/New_York:20250421T133000
DTSTAMP:20260425T111622
CREATED:20230816T023257Z
LAST-MODIFIED:20230816T175850Z
UID:10006029-1745238600-1745242200@staging.tricountycenter.org
SUMMARY:Open Discussion (Su-W\, F-Sa 12:30p)
DESCRIPTION:
URL:https://staging.tricountycenter.org/event/open-discussion-su-w-f-sa-1230p/2025-04-21/
LOCATION:Tri-county Center (Main Room)\, 2031 East Kemper Road\, Cincinnati\, OH\, 45241\, United States
CATEGORIES:AA Meetings,Meetings
ORGANIZER;CN="Tri-County%20Center":MAILTO:events@tricountycenter.org
END:VEVENT
BEGIN:VEVENT
DTSTART;TZID=America/New_York:20250421T093000
DTEND;TZID=America/New_York:20250421T103000
DTSTAMP:20260425T111622
CREATED:20230816T020452Z
LAST-MODIFIED:20230816T175516Z
UID:10003935-1745227800-1745231400@staging.tricountycenter.org
SUMMARY:Open Discussion (M\, W\, F 930A)
DESCRIPTION:
URL:https://staging.tricountycenter.org/event/open-discussion-meeting-m-w-f-930a/2025-04-21/
LOCATION:Tri-county Center (Main Room)\, 2031 East Kemper Road\, Cincinnati\, OH\, 45241\, United States
CATEGORIES:AA Meetings,Meetings
ORGANIZER;CN="Tri-County%20Center":MAILTO:events@tricountycenter.org
END:VEVENT
BEGIN:VEVENT
DTSTART;TZID=America/New_York:20250421T070000
DTEND;TZID=America/New_York:20250421T080000
DTSTAMP:20260425T111622
CREATED:20230816T005850Z
LAST-MODIFIED:20230816T170243Z
UID:10000630-1745218800-1745222400@staging.tricountycenter.org
SUMMARY:"Rise and Shine" (S-Sa 7:00a)
DESCRIPTION:
URL:https://staging.tricountycenter.org/event/rise-and-shine/2025-04-21/
LOCATION:Tri-county Center (Main Room)\, 2031 East Kemper Road\, Cincinnati\, OH\, 45241\, United States
CATEGORIES:AA Meetings,Meetings
ORGANIZER;CN="Tri-County%20Center":MAILTO:events@tricountycenter.org
END:VEVENT
BEGIN:VEVENT
DTSTART;TZID=America/New_York:20250420T190000
DTEND;TZID=America/New_York:20250420T200000
DTSTAMP:20260425T111622
CREATED:20230816T195217Z
LAST-MODIFIED:20230816T195217Z
UID:10013489-1745175600-1745179200@staging.tricountycenter.org
SUMMARY:Al-Anon Discussion
DESCRIPTION:
URL:https://staging.tricountycenter.org/event/al-anon-discussion/2025-04-20/
LOCATION:Tri-county Center (Old Building)
CATEGORIES:Al-anon/Alateen Meetings,Meetings
ORGANIZER;CN="Tri-County%20Center":MAILTO:events@tricountycenter.org
END:VEVENT
BEGIN:VEVENT
DTSTART;TZID=America/New_York:20250420T160000
DTEND;TZID=America/New_York:20250420T170000
DTSTAMP:20260425T111622
CREATED:20230816T023908Z
LAST-MODIFIED:20230816T170243Z
UID:10007943-1745164800-1745168400@staging.tricountycenter.org
SUMMARY:Closed Discussion (S-Sa 4:00p)
DESCRIPTION:
URL:https://staging.tricountycenter.org/event/closed-discussion-s-sa-400p/2025-04-20/
LOCATION:Tri-county Center (Main Room)\, 2031 East Kemper Road\, Cincinnati\, OH\, 45241\, United States
CATEGORIES:AA Meetings,Meetings
ORGANIZER;CN="Tri-County%20Center":MAILTO:events@tricountycenter.org
END:VEVENT
BEGIN:VEVENT
DTSTART;TZID=America/New_York:20250420T123000
DTEND;TZID=America/New_York:20250420T133000
DTSTAMP:20260425T111622
CREATED:20230816T023257Z
LAST-MODIFIED:20230816T175850Z
UID:10006028-1745152200-1745155800@staging.tricountycenter.org
SUMMARY:Open Discussion (Su-W\, F-Sa 12:30p)
DESCRIPTION:
URL:https://staging.tricountycenter.org/event/open-discussion-su-w-f-sa-1230p/2025-04-20/
LOCATION:Tri-county Center (Main Room)\, 2031 East Kemper Road\, Cincinnati\, OH\, 45241\, United States
CATEGORIES:AA Meetings,Meetings
ORGANIZER;CN="Tri-County%20Center":MAILTO:events@tricountycenter.org
END:VEVENT
BEGIN:VEVENT
DTSTART;TZID=America/New_York:20250420T090000
DTEND;TZID=America/New_York:20250420T100000
DTSTAMP:20260425T111622
CREATED:20230816T022633Z
LAST-MODIFIED:20230816T170243Z
UID:10004543-1745139600-1745143200@staging.tricountycenter.org
SUMMARY:“Fairfield Breakfast Club”
DESCRIPTION:
URL:https://staging.tricountycenter.org/event/fairfield-breakfast-club/2025-04-20/
LOCATION:Tri-county Center (Ball Room)\, 2031 East Kemper Road\, Cincinnati\, OH\, 45246\, United States
CATEGORIES:AA Meetings,Meetings
ORGANIZER;CN="Tri-County%20Center":MAILTO:events@tricountycenter.org
END:VEVENT
BEGIN:VEVENT
DTSTART;TZID=America/New_York:20250420T070000
DTEND;TZID=America/New_York:20250420T080000
DTSTAMP:20260425T111622
CREATED:20230816T005850Z
LAST-MODIFIED:20230816T170243Z
UID:10000629-1745132400-1745136000@staging.tricountycenter.org
SUMMARY:"Rise and Shine" (S-Sa 7:00a)
DESCRIPTION:
URL:https://staging.tricountycenter.org/event/rise-and-shine/2025-04-20/
LOCATION:Tri-county Center (Main Room)\, 2031 East Kemper Road\, Cincinnati\, OH\, 45241\, United States
CATEGORIES:AA Meetings,Meetings
ORGANIZER;CN="Tri-County%20Center":MAILTO:events@tricountycenter.org
END:VEVENT
BEGIN:VEVENT
DTSTART;TZID=America/New_York:20250420T000000
DTEND;TZID=America/New_York:20250420T010000
DTSTAMP:20260425T111622
CREATED:20230816T181730Z
LAST-MODIFIED:20230816T182629Z
UID:10011863-1745107200-1745110800@staging.tricountycenter.org
SUMMARY:Midnight "It's Not Too Late" (Fr-Sa 11:59p)
DESCRIPTION:
URL:https://staging.tricountycenter.org/event/midnight-its-not-too-late-fr-sa-1159p/2025-04-20/
LOCATION:Tri-county Center (Old Building)
CATEGORIES:AA Meetings,Meetings
ORGANIZER;CN="Tri-County%20Center":MAILTO:events@tricountycenter.org
END:VEVENT
BEGIN:VEVENT
DTSTART;TZID=America/New_York:20250419T190000
DTEND;TZID=America/New_York:20250419T200000
DTSTAMP:20260425T111622
CREATED:20230816T192837Z
LAST-MODIFIED:20230816T192958Z
UID:10012124-1745089200-1745092800@staging.tricountycenter.org
SUMMARY:Decade Plus Lead (Sa 7:00p)
DESCRIPTION:
URL:https://staging.tricountycenter.org/event/decade-plus-lead-sa-700p/2025-04-19/
LOCATION:Tri-county Center (Main Room)\, 2031 East Kemper Road\, Cincinnati\, OH\, 45241\, United States
CATEGORIES:AA Meetings,Meetings
ORGANIZER;CN="Tri-County%20Center":MAILTO:events@tricountycenter.org
END:VEVENT
BEGIN:VEVENT
DTSTART;TZID=America/New_York:20250419T173000
DTEND;TZID=America/New_York:20250419T183000
DTSTAMP:20260425T111622
CREATED:20230816T015547Z
LAST-MODIFIED:20230816T174834Z
UID:10002281-1745083800-1745087400@staging.tricountycenter.org
SUMMARY:Happy Hour Open Discussion (M-W\, F-Sa 5:30p)
DESCRIPTION:
URL:https://staging.tricountycenter.org/event/happy-hour-m-w-f-sa-open-discussion-meeting/2025-04-19/
LOCATION:Tri-county Center (Main Room)\, 2031 East Kemper Road\, Cincinnati\, OH\, 45241\, United States
CATEGORIES:AA Meetings,Meetings
ORGANIZER;CN="Tri-County%20Center":MAILTO:events@tricountycenter.org
END:VEVENT
BEGIN:VEVENT
DTSTART;TZID=America/New_York:20250419T160000
DTEND;TZID=America/New_York:20250419T170000
DTSTAMP:20260425T111622
CREATED:20230816T023908Z
LAST-MODIFIED:20230816T170243Z
UID:10007942-1745078400-1745082000@staging.tricountycenter.org
SUMMARY:Closed Discussion (S-Sa 4:00p)
DESCRIPTION:
URL:https://staging.tricountycenter.org/event/closed-discussion-s-sa-400p/2025-04-19/
LOCATION:Tri-county Center (Main Room)\, 2031 East Kemper Road\, Cincinnati\, OH\, 45241\, United States
CATEGORIES:AA Meetings,Meetings
ORGANIZER;CN="Tri-County%20Center":MAILTO:events@tricountycenter.org
END:VEVENT
BEGIN:VEVENT
DTSTART;TZID=America/New_York:20250419T123000
DTEND;TZID=America/New_York:20250419T133000
DTSTAMP:20260425T111622
CREATED:20230816T023257Z
LAST-MODIFIED:20230816T175850Z
UID:10006027-1745065800-1745069400@staging.tricountycenter.org
SUMMARY:Open Discussion (Su-W\, F-Sa 12:30p)
DESCRIPTION:
URL:https://staging.tricountycenter.org/event/open-discussion-su-w-f-sa-1230p/2025-04-19/
LOCATION:Tri-county Center (Main Room)\, 2031 East Kemper Road\, Cincinnati\, OH\, 45241\, United States
CATEGORIES:AA Meetings,Meetings
ORGANIZER;CN="Tri-County%20Center":MAILTO:events@tricountycenter.org
END:VEVENT
BEGIN:VEVENT
DTSTART;TZID=America/New_York:20250419T100000
DTEND;TZID=America/New_York:20250419T110000
DTSTAMP:20260425T111622
CREATED:20230816T194910Z
LAST-MODIFIED:20230816T195102Z
UID:10012706-1745056800-1745060400@staging.tricountycenter.org
SUMMARY:Al-Anon Family Groups Meeting
DESCRIPTION:
URL:https://staging.tricountycenter.org/event/al-anon-family-groups-meeting/2025-04-19/
LOCATION:Tri-county Center (Old Building)
CATEGORIES:Al-anon/Alateen Meetings,Meetings
ORGANIZER;CN="Tri-County%20Center":MAILTO:events@tricountycenter.org
END:VEVENT
BEGIN:VEVENT
DTSTART;TZID=America/New_York:20250419T091500
DTEND;TZID=America/New_York:20250419T104500
DTSTAMP:20260425T111622
CREATED:20230816T193939Z
LAST-MODIFIED:20230816T193939Z
UID:10012445-1745054100-1745059500@staging.tricountycenter.org
SUMMARY:Beginner's Meeting
DESCRIPTION:
URL:https://staging.tricountycenter.org/event/beginners-meeting/2025-04-19/
LOCATION:Tri-county Center (Main Room)\, 2031 East Kemper Road\, Cincinnati\, OH\, 45241\, United States
CATEGORIES:AA Meetings,Meetings
ORGANIZER;CN="Tri-County%20Center":MAILTO:events@tricountycenter.org
END:VEVENT
BEGIN:VEVENT
DTSTART;TZID=America/New_York:20250419T070000
DTEND;TZID=America/New_York:20250419T080000
DTSTAMP:20260425T111622
CREATED:20230816T005850Z
LAST-MODIFIED:20230816T170243Z
UID:10000628-1745046000-1745049600@staging.tricountycenter.org
SUMMARY:"Rise and Shine" (S-Sa 7:00a)
DESCRIPTION:
URL:https://staging.tricountycenter.org/event/rise-and-shine/2025-04-19/
LOCATION:Tri-county Center (Main Room)\, 2031 East Kemper Road\, Cincinnati\, OH\, 45241\, United States
CATEGORIES:AA Meetings,Meetings
ORGANIZER;CN="Tri-County%20Center":MAILTO:events@tricountycenter.org
END:VEVENT
BEGIN:VEVENT
DTSTART;TZID=America/New_York:20250419T000000
DTEND;TZID=America/New_York:20250419T010000
DTSTAMP:20260425T111622
CREATED:20230816T181730Z
LAST-MODIFIED:20230816T182629Z
UID:10011602-1745020800-1745024400@staging.tricountycenter.org
SUMMARY:Midnight "It's Not Too Late" (Fr-Sa 11:59p)
DESCRIPTION:
URL:https://staging.tricountycenter.org/event/midnight-its-not-too-late-fr-sa-1159p/2025-04-19/
LOCATION:Tri-county Center (Old Building)
CATEGORIES:AA Meetings,Meetings
ORGANIZER;CN="Tri-County%20Center":MAILTO:events@tricountycenter.org
END:VEVENT
BEGIN:VEVENT
DTSTART;TZID=America/New_York:20250418T193000
DTEND;TZID=America/New_York:20250418T203000
DTSTAMP:20260425T111622
CREATED:20230816T181324Z
LAST-MODIFIED:20230816T181403Z
UID:10010819-1745004600-1745008200@staging.tricountycenter.org
SUMMARY:Lead Meeting (Fr 7:30p)
DESCRIPTION:
URL:https://staging.tricountycenter.org/event/lead-meeting-fr-730p/2025-04-18/
LOCATION:Tri-county Center (Main Room)\, 2031 East Kemper Road\, Cincinnati\, OH\, 45241\, United States
CATEGORIES:AA Meetings,Meetings
ORGANIZER;CN="Tri-County%20Center":MAILTO:events@tricountycenter.org
END:VEVENT
BEGIN:VEVENT
DTSTART;TZID=America/New_York:20250418T173000
DTEND;TZID=America/New_York:20250418T183000
DTSTAMP:20260425T111622
CREATED:20230816T015547Z
LAST-MODIFIED:20230816T174834Z
UID:10002280-1744997400-1745001000@staging.tricountycenter.org
SUMMARY:Happy Hour Open Discussion (M-W\, F-Sa 5:30p)
DESCRIPTION:
URL:https://staging.tricountycenter.org/event/happy-hour-m-w-f-sa-open-discussion-meeting/2025-04-18/
LOCATION:Tri-county Center (Main Room)\, 2031 East Kemper Road\, Cincinnati\, OH\, 45241\, United States
CATEGORIES:AA Meetings,Meetings
ORGANIZER;CN="Tri-County%20Center":MAILTO:events@tricountycenter.org
END:VEVENT
BEGIN:VEVENT
DTSTART;TZID=America/New_York:20250418T160000
DTEND;TZID=America/New_York:20250418T170000
DTSTAMP:20260425T111622
CREATED:20230816T023908Z
LAST-MODIFIED:20230816T170243Z
UID:10007941-1744992000-1744995600@staging.tricountycenter.org
SUMMARY:Closed Discussion (S-Sa 4:00p)
DESCRIPTION:
URL:https://staging.tricountycenter.org/event/closed-discussion-s-sa-400p/2025-04-18/
LOCATION:Tri-county Center (Main Room)\, 2031 East Kemper Road\, Cincinnati\, OH\, 45241\, United States
CATEGORIES:AA Meetings,Meetings
ORGANIZER;CN="Tri-County%20Center":MAILTO:events@tricountycenter.org
END:VEVENT
BEGIN:VEVENT
DTSTART;TZID=America/New_York:20250418T123000
DTEND;TZID=America/New_York:20250418T133000
DTSTAMP:20260425T111622
CREATED:20230816T023257Z
LAST-MODIFIED:20230816T175850Z
UID:10006026-1744979400-1744983000@staging.tricountycenter.org
SUMMARY:Open Discussion (Su-W\, F-Sa 12:30p)
DESCRIPTION:
URL:https://staging.tricountycenter.org/event/open-discussion-su-w-f-sa-1230p/2025-04-18/
LOCATION:Tri-county Center (Main Room)\, 2031 East Kemper Road\, Cincinnati\, OH\, 45241\, United States
CATEGORIES:AA Meetings,Meetings
ORGANIZER;CN="Tri-County%20Center":MAILTO:events@tricountycenter.org
END:VEVENT
BEGIN:VEVENT
DTSTART;TZID=America/New_York:20250418T093000
DTEND;TZID=America/New_York:20250418T103000
DTSTAMP:20260425T111622
CREATED:20230816T020452Z
LAST-MODIFIED:20230816T175516Z
UID:10003934-1744968600-1744972200@staging.tricountycenter.org
SUMMARY:Open Discussion (M\, W\, F 930A)
DESCRIPTION:
URL:https://staging.tricountycenter.org/event/open-discussion-meeting-m-w-f-930a/2025-04-18/
LOCATION:Tri-county Center (Main Room)\, 2031 East Kemper Road\, Cincinnati\, OH\, 45241\, United States
CATEGORIES:AA Meetings,Meetings
ORGANIZER;CN="Tri-County%20Center":MAILTO:events@tricountycenter.org
END:VEVENT
BEGIN:VEVENT
DTSTART;TZID=America/New_York:20250418T070000
DTEND;TZID=America/New_York:20250418T080000
DTSTAMP:20260425T111622
CREATED:20230816T005850Z
LAST-MODIFIED:20230816T170243Z
UID:10000627-1744959600-1744963200@staging.tricountycenter.org
SUMMARY:"Rise and Shine" (S-Sa 7:00a)
DESCRIPTION:
URL:https://staging.tricountycenter.org/event/rise-and-shine/2025-04-18/
LOCATION:Tri-county Center (Main Room)\, 2031 East Kemper Road\, Cincinnati\, OH\, 45241\, United States
CATEGORIES:AA Meetings,Meetings
ORGANIZER;CN="Tri-County%20Center":MAILTO:events@tricountycenter.org
END:VEVENT
BEGIN:VEVENT
DTSTART;TZID=America/New_York:20250417T193000
DTEND;TZID=America/New_York:20250417T203000
DTSTAMP:20260425T111622
CREATED:20230816T181156Z
LAST-MODIFIED:20230816T181156Z
UID:10010557-1744918200-1744921800@staging.tricountycenter.org
SUMMARY:"Valley Group" Lead Meeting (Th 7:30p)
DESCRIPTION:
URL:https://staging.tricountycenter.org/event/valley-group-lead-meeting-th-730p/2025-04-17/
LOCATION:Tri-county Center (Main Room)\, 2031 East Kemper Road\, Cincinnati\, OH\, 45241\, United States
CATEGORIES:AA Meetings,Meetings
ORGANIZER;CN="Tri-County%20Center":MAILTO:events@tricountycenter.org
END:VEVENT
END:VCALENDAR