BEGIN:VCALENDAR
VERSION:2.0
PRODID:-//Tri-County Center - ECPv6.2.0.1//NONSGML v1.0//EN
CALSCALE:GREGORIAN
METHOD:PUBLISH
X-WR-CALNAME:Tri-County Center
X-ORIGINAL-URL:https://staging.tricountycenter.org
X-WR-CALDESC:Events for Tri-County Center
REFRESH-INTERVAL;VALUE=DURATION:PT1H
X-Robots-Tag:noindex
X-PUBLISHED-TTL:PT1H
BEGIN:VTIMEZONE
TZID:America/New_York
BEGIN:DAYLIGHT
TZOFFSETFROM:-0500
TZOFFSETTO:-0400
TZNAME:EDT
DTSTART:20260308T070000
END:DAYLIGHT
BEGIN:STANDARD
TZOFFSETFROM:-0400
TZOFFSETTO:-0500
TZNAME:EST
DTSTART:20261101T060000
END:STANDARD
END:VTIMEZONE
BEGIN:VEVENT
DTSTART;TZID=America/New_York:20260911T193000
DTEND;TZID=America/New_York:20260911T203000
DTSTAMP:20260425T115828
CREATED:20230816T181324Z
LAST-MODIFIED:20230816T181403Z
UID:10010892-1789155000-1789158600@staging.tricountycenter.org
SUMMARY:Lead Meeting (Fr 7:30p)
DESCRIPTION:
URL:https://staging.tricountycenter.org/event/lead-meeting-fr-730p/2026-09-11/
LOCATION:Tri-county Center (Main Room)\, 2031 East Kemper Road\, Cincinnati\, OH\, 45241\, United States
CATEGORIES:AA Meetings,Meetings
ORGANIZER;CN="Tri-County%20Center":MAILTO:events@tricountycenter.org
END:VEVENT
BEGIN:VEVENT
DTSTART;TZID=America/New_York:20260912T000000
DTEND;TZID=America/New_York:20260912T010000
DTSTAMP:20260425T115828
CREATED:20230816T181730Z
LAST-MODIFIED:20230816T182629Z
UID:10011675-1789171200-1789174800@staging.tricountycenter.org
SUMMARY:Midnight "It's Not Too Late" (Fr-Sa 11:59p)
DESCRIPTION:
URL:https://staging.tricountycenter.org/event/midnight-its-not-too-late-fr-sa-1159p/2026-09-12/
LOCATION:Tri-county Center (Old Building)
CATEGORIES:AA Meetings,Meetings
ORGANIZER;CN="Tri-County%20Center":MAILTO:events@tricountycenter.org
END:VEVENT
BEGIN:VEVENT
DTSTART;TZID=America/New_York:20260912T070000
DTEND;TZID=America/New_York:20260912T080000
DTSTAMP:20260425T115828
CREATED:20230816T005850Z
LAST-MODIFIED:20230816T170243Z
UID:10001139-1789196400-1789200000@staging.tricountycenter.org
SUMMARY:"Rise and Shine" (S-Sa 7:00a)
DESCRIPTION:
URL:https://staging.tricountycenter.org/event/rise-and-shine/2026-09-12/
LOCATION:Tri-county Center (Main Room)\, 2031 East Kemper Road\, Cincinnati\, OH\, 45241\, United States
CATEGORIES:AA Meetings,Meetings
ORGANIZER;CN="Tri-County%20Center":MAILTO:events@tricountycenter.org
END:VEVENT
BEGIN:VEVENT
DTSTART;TZID=America/New_York:20260912T091500
DTEND;TZID=America/New_York:20260912T104500
DTSTAMP:20260425T115828
CREATED:20230816T193939Z
LAST-MODIFIED:20230816T193939Z
UID:10012518-1789204500-1789209900@staging.tricountycenter.org
SUMMARY:Beginner's Meeting
DESCRIPTION:
URL:https://staging.tricountycenter.org/event/beginners-meeting/2026-09-12/
LOCATION:Tri-county Center (Main Room)\, 2031 East Kemper Road\, Cincinnati\, OH\, 45241\, United States
CATEGORIES:AA Meetings,Meetings
ORGANIZER;CN="Tri-County%20Center":MAILTO:events@tricountycenter.org
END:VEVENT
BEGIN:VEVENT
DTSTART;TZID=America/New_York:20260912T100000
DTEND;TZID=America/New_York:20260912T110000
DTSTAMP:20260425T115828
CREATED:20230816T194910Z
LAST-MODIFIED:20230816T195102Z
UID:10012779-1789207200-1789210800@staging.tricountycenter.org
SUMMARY:Al-Anon Family Groups Meeting
DESCRIPTION:
URL:https://staging.tricountycenter.org/event/al-anon-family-groups-meeting/2026-09-12/
LOCATION:Tri-county Center (Old Building)
CATEGORIES:Al-anon/Alateen Meetings,Meetings
ORGANIZER;CN="Tri-County%20Center":MAILTO:events@tricountycenter.org
END:VEVENT
BEGIN:VEVENT
DTSTART;TZID=America/New_York:20260912T123000
DTEND;TZID=America/New_York:20260912T133000
DTSTAMP:20260425T115828
CREATED:20230816T023257Z
LAST-MODIFIED:20230816T175850Z
UID:10006465-1789216200-1789219800@staging.tricountycenter.org
SUMMARY:Open Discussion (Su-W\, F-Sa 12:30p)
DESCRIPTION:
URL:https://staging.tricountycenter.org/event/open-discussion-su-w-f-sa-1230p/2026-09-12/
LOCATION:Tri-county Center (Main Room)\, 2031 East Kemper Road\, Cincinnati\, OH\, 45241\, United States
CATEGORIES:AA Meetings,Meetings
ORGANIZER;CN="Tri-County%20Center":MAILTO:events@tricountycenter.org
END:VEVENT
BEGIN:VEVENT
DTSTART;TZID=America/New_York:20260912T160000
DTEND;TZID=America/New_York:20260912T170000
DTSTAMP:20260425T115828
CREATED:20230816T023908Z
LAST-MODIFIED:20230816T170243Z
UID:10008453-1789228800-1789232400@staging.tricountycenter.org
SUMMARY:Closed Discussion (S-Sa 4:00p)
DESCRIPTION:
URL:https://staging.tricountycenter.org/event/closed-discussion-s-sa-400p/2026-09-12/
LOCATION:Tri-county Center (Main Room)\, 2031 East Kemper Road\, Cincinnati\, OH\, 45241\, United States
CATEGORIES:AA Meetings,Meetings
ORGANIZER;CN="Tri-County%20Center":MAILTO:events@tricountycenter.org
END:VEVENT
BEGIN:VEVENT
DTSTART;TZID=America/New_York:20260912T173000
DTEND;TZID=America/New_York:20260912T183000
DTSTAMP:20260425T115828
CREATED:20230816T015547Z
LAST-MODIFIED:20230816T174834Z
UID:10002646-1789234200-1789237800@staging.tricountycenter.org
SUMMARY:Happy Hour Open Discussion (M-W\, F-Sa 5:30p)
DESCRIPTION:
URL:https://staging.tricountycenter.org/event/happy-hour-m-w-f-sa-open-discussion-meeting/2026-09-12/
LOCATION:Tri-county Center (Main Room)\, 2031 East Kemper Road\, Cincinnati\, OH\, 45241\, United States
CATEGORIES:AA Meetings,Meetings
ORGANIZER;CN="Tri-County%20Center":MAILTO:events@tricountycenter.org
END:VEVENT
BEGIN:VEVENT
DTSTART;TZID=America/New_York:20260912T190000
DTEND;TZID=America/New_York:20260912T200000
DTSTAMP:20260425T115828
CREATED:20230816T192837Z
LAST-MODIFIED:20230816T192958Z
UID:10012197-1789239600-1789243200@staging.tricountycenter.org
SUMMARY:Decade Plus Lead (Sa 7:00p)
DESCRIPTION:
URL:https://staging.tricountycenter.org/event/decade-plus-lead-sa-700p/2026-09-12/
LOCATION:Tri-county Center (Main Room)\, 2031 East Kemper Road\, Cincinnati\, OH\, 45241\, United States
CATEGORIES:AA Meetings,Meetings
ORGANIZER;CN="Tri-County%20Center":MAILTO:events@tricountycenter.org
END:VEVENT
BEGIN:VEVENT
DTSTART;TZID=America/New_York:20260913T000000
DTEND;TZID=America/New_York:20260913T010000
DTSTAMP:20260425T115828
CREATED:20230816T181730Z
LAST-MODIFIED:20230816T182629Z
UID:10011936-1789257600-1789261200@staging.tricountycenter.org
SUMMARY:Midnight "It's Not Too Late" (Fr-Sa 11:59p)
DESCRIPTION:
URL:https://staging.tricountycenter.org/event/midnight-its-not-too-late-fr-sa-1159p/2026-09-13/
LOCATION:Tri-county Center (Old Building)
CATEGORIES:AA Meetings,Meetings
ORGANIZER;CN="Tri-County%20Center":MAILTO:events@tricountycenter.org
END:VEVENT
BEGIN:VEVENT
DTSTART;TZID=America/New_York:20260913T070000
DTEND;TZID=America/New_York:20260913T080000
DTSTAMP:20260425T115828
CREATED:20230816T005850Z
LAST-MODIFIED:20230816T170243Z
UID:10001140-1789282800-1789286400@staging.tricountycenter.org
SUMMARY:"Rise and Shine" (S-Sa 7:00a)
DESCRIPTION:
URL:https://staging.tricountycenter.org/event/rise-and-shine/2026-09-13/
LOCATION:Tri-county Center (Main Room)\, 2031 East Kemper Road\, Cincinnati\, OH\, 45241\, United States
CATEGORIES:AA Meetings,Meetings
ORGANIZER;CN="Tri-County%20Center":MAILTO:events@tricountycenter.org
END:VEVENT
BEGIN:VEVENT
DTSTART;TZID=America/New_York:20260913T090000
DTEND;TZID=America/New_York:20260913T100000
DTSTAMP:20260425T115828
CREATED:20230816T022633Z
LAST-MODIFIED:20230816T170243Z
UID:10004616-1789290000-1789293600@staging.tricountycenter.org
SUMMARY:“Fairfield Breakfast Club”
DESCRIPTION:
URL:https://staging.tricountycenter.org/event/fairfield-breakfast-club/2026-09-13/
LOCATION:Tri-county Center (Ball Room)\, 2031 East Kemper Road\, Cincinnati\, OH\, 45246\, United States
CATEGORIES:AA Meetings,Meetings
ORGANIZER;CN="Tri-County%20Center":MAILTO:events@tricountycenter.org
END:VEVENT
BEGIN:VEVENT
DTSTART;TZID=America/New_York:20260913T123000
DTEND;TZID=America/New_York:20260913T133000
DTSTAMP:20260425T115828
CREATED:20230816T023257Z
LAST-MODIFIED:20230816T175850Z
UID:10006466-1789302600-1789306200@staging.tricountycenter.org
SUMMARY:Open Discussion (Su-W\, F-Sa 12:30p)
DESCRIPTION:
URL:https://staging.tricountycenter.org/event/open-discussion-su-w-f-sa-1230p/2026-09-13/
LOCATION:Tri-county Center (Main Room)\, 2031 East Kemper Road\, Cincinnati\, OH\, 45241\, United States
CATEGORIES:AA Meetings,Meetings
ORGANIZER;CN="Tri-County%20Center":MAILTO:events@tricountycenter.org
END:VEVENT
BEGIN:VEVENT
DTSTART;TZID=America/New_York:20260913T160000
DTEND;TZID=America/New_York:20260913T170000
DTSTAMP:20260425T115828
CREATED:20230816T023908Z
LAST-MODIFIED:20230816T170243Z
UID:10008454-1789315200-1789318800@staging.tricountycenter.org
SUMMARY:Closed Discussion (S-Sa 4:00p)
DESCRIPTION:
URL:https://staging.tricountycenter.org/event/closed-discussion-s-sa-400p/2026-09-13/
LOCATION:Tri-county Center (Main Room)\, 2031 East Kemper Road\, Cincinnati\, OH\, 45241\, United States
CATEGORIES:AA Meetings,Meetings
ORGANIZER;CN="Tri-County%20Center":MAILTO:events@tricountycenter.org
END:VEVENT
BEGIN:VEVENT
DTSTART;TZID=America/New_York:20260913T190000
DTEND;TZID=America/New_York:20260913T200000
DTSTAMP:20260425T115828
CREATED:20230816T195217Z
LAST-MODIFIED:20230816T195217Z
UID:10013562-1789326000-1789329600@staging.tricountycenter.org
SUMMARY:Al-Anon Discussion
DESCRIPTION:
URL:https://staging.tricountycenter.org/event/al-anon-discussion/2026-09-13/
LOCATION:Tri-county Center (Old Building)
CATEGORIES:Al-anon/Alateen Meetings,Meetings
ORGANIZER;CN="Tri-County%20Center":MAILTO:events@tricountycenter.org
END:VEVENT
BEGIN:VEVENT
DTSTART;TZID=America/New_York:20260914T070000
DTEND;TZID=America/New_York:20260914T080000
DTSTAMP:20260425T115828
CREATED:20230816T005850Z
LAST-MODIFIED:20230816T170243Z
UID:10001141-1789369200-1789372800@staging.tricountycenter.org
SUMMARY:"Rise and Shine" (S-Sa 7:00a)
DESCRIPTION:
URL:https://staging.tricountycenter.org/event/rise-and-shine/2026-09-14/
LOCATION:Tri-county Center (Main Room)\, 2031 East Kemper Road\, Cincinnati\, OH\, 45241\, United States
CATEGORIES:AA Meetings,Meetings
ORGANIZER;CN="Tri-County%20Center":MAILTO:events@tricountycenter.org
END:VEVENT
BEGIN:VEVENT
DTSTART;TZID=America/New_York:20260914T093000
DTEND;TZID=America/New_York:20260914T103000
DTSTAMP:20260425T115828
CREATED:20230816T020452Z
LAST-MODIFIED:20230816T175516Z
UID:10004154-1789378200-1789381800@staging.tricountycenter.org
SUMMARY:Open Discussion (M\, W\, F 930A)
DESCRIPTION:
URL:https://staging.tricountycenter.org/event/open-discussion-meeting-m-w-f-930a/2026-09-14/
LOCATION:Tri-county Center (Main Room)\, 2031 East Kemper Road\, Cincinnati\, OH\, 45241\, United States
CATEGORIES:AA Meetings,Meetings
ORGANIZER;CN="Tri-County%20Center":MAILTO:events@tricountycenter.org
END:VEVENT
BEGIN:VEVENT
DTSTART;TZID=America/New_York:20260914T123000
DTEND;TZID=America/New_York:20260914T133000
DTSTAMP:20260425T115828
CREATED:20230816T023257Z
LAST-MODIFIED:20230816T175850Z
UID:10006467-1789389000-1789392600@staging.tricountycenter.org
SUMMARY:Open Discussion (Su-W\, F-Sa 12:30p)
DESCRIPTION:
URL:https://staging.tricountycenter.org/event/open-discussion-su-w-f-sa-1230p/2026-09-14/
LOCATION:Tri-county Center (Main Room)\, 2031 East Kemper Road\, Cincinnati\, OH\, 45241\, United States
CATEGORIES:AA Meetings,Meetings
ORGANIZER;CN="Tri-County%20Center":MAILTO:events@tricountycenter.org
END:VEVENT
BEGIN:VEVENT
DTSTART;TZID=America/New_York:20260914T160000
DTEND;TZID=America/New_York:20260914T170000
DTSTAMP:20260425T115828
CREATED:20230816T023908Z
LAST-MODIFIED:20230816T170243Z
UID:10008455-1789401600-1789405200@staging.tricountycenter.org
SUMMARY:Closed Discussion (S-Sa 4:00p)
DESCRIPTION:
URL:https://staging.tricountycenter.org/event/closed-discussion-s-sa-400p/2026-09-14/
LOCATION:Tri-county Center (Main Room)\, 2031 East Kemper Road\, Cincinnati\, OH\, 45241\, United States
CATEGORIES:AA Meetings,Meetings
ORGANIZER;CN="Tri-County%20Center":MAILTO:events@tricountycenter.org
END:VEVENT
BEGIN:VEVENT
DTSTART;TZID=America/New_York:20260914T173000
DTEND;TZID=America/New_York:20260914T183000
DTSTAMP:20260425T115828
CREATED:20230816T015547Z
LAST-MODIFIED:20230816T174834Z
UID:10002647-1789407000-1789410600@staging.tricountycenter.org
SUMMARY:Happy Hour Open Discussion (M-W\, F-Sa 5:30p)
DESCRIPTION:
URL:https://staging.tricountycenter.org/event/happy-hour-m-w-f-sa-open-discussion-meeting/2026-09-14/
LOCATION:Tri-county Center (Main Room)\, 2031 East Kemper Road\, Cincinnati\, OH\, 45241\, United States
CATEGORIES:AA Meetings,Meetings
ORGANIZER;CN="Tri-County%20Center":MAILTO:events@tricountycenter.org
END:VEVENT
BEGIN:VEVENT
DTSTART;TZID=America/New_York:20260914T193000
DTEND;TZID=America/New_York:20260914T203000
DTSTAMP:20260425T115828
CREATED:20230816T112526Z
LAST-MODIFIED:20230816T170243Z
UID:10009319-1789414200-1789417800@staging.tricountycenter.org
SUMMARY:Open Beginner's Lead/Discussion (M 7:30p)
DESCRIPTION:
URL:https://staging.tricountycenter.org/event/open-beginners-lead-discussion-m-730p/2026-09-14/
LOCATION:Tri-county Center (Main Room)\, 2031 East Kemper Road\, Cincinnati\, OH\, 45241\, United States
CATEGORIES:AA Meetings,Meetings
ORGANIZER;CN="Tri-County%20Center":MAILTO:events@tricountycenter.org
END:VEVENT
BEGIN:VEVENT
DTSTART;TZID=America/New_York:20260915T070000
DTEND;TZID=America/New_York:20260915T080000
DTSTAMP:20260425T115828
CREATED:20230816T005850Z
LAST-MODIFIED:20230816T170243Z
UID:10001142-1789455600-1789459200@staging.tricountycenter.org
SUMMARY:"Rise and Shine" (S-Sa 7:00a)
DESCRIPTION:
URL:https://staging.tricountycenter.org/event/rise-and-shine/2026-09-15/
LOCATION:Tri-county Center (Main Room)\, 2031 East Kemper Road\, Cincinnati\, OH\, 45241\, United States
CATEGORIES:AA Meetings,Meetings
ORGANIZER;CN="Tri-County%20Center":MAILTO:events@tricountycenter.org
END:VEVENT
BEGIN:VEVENT
DTSTART;TZID=America/New_York:20260915T093000
DTEND;TZID=America/New_York:20260915T103000
DTSTAMP:20260425T115828
CREATED:20230816T022800Z
LAST-MODIFIED:20230816T175442Z
UID:10004878-1789464600-1789468200@staging.tricountycenter.org
SUMMARY:12 & 12 (T 9:30a)
DESCRIPTION:
URL:https://staging.tricountycenter.org/event/12-12-t-930a/2026-09-15/
LOCATION:Tri-county Center (Main Room)\, 2031 East Kemper Road\, Cincinnati\, OH\, 45241\, United States
CATEGORIES:AA Meetings,Meetings
ORGANIZER;CN="Tri-County%20Center":MAILTO:events@tricountycenter.org
END:VEVENT
BEGIN:VEVENT
DTSTART;TZID=America/New_York:20260915T123000
DTEND;TZID=America/New_York:20260915T133000
DTSTAMP:20260425T115828
CREATED:20230816T023257Z
LAST-MODIFIED:20230816T175850Z
UID:10006468-1789475400-1789479000@staging.tricountycenter.org
SUMMARY:Open Discussion (Su-W\, F-Sa 12:30p)
DESCRIPTION:
URL:https://staging.tricountycenter.org/event/open-discussion-su-w-f-sa-1230p/2026-09-15/
LOCATION:Tri-county Center (Main Room)\, 2031 East Kemper Road\, Cincinnati\, OH\, 45241\, United States
CATEGORIES:AA Meetings,Meetings
ORGANIZER;CN="Tri-County%20Center":MAILTO:events@tricountycenter.org
END:VEVENT
BEGIN:VEVENT
DTSTART;TZID=America/New_York:20260915T160000
DTEND;TZID=America/New_York:20260915T170000
DTSTAMP:20260425T115828
CREATED:20230816T023908Z
LAST-MODIFIED:20230816T170243Z
UID:10008456-1789488000-1789491600@staging.tricountycenter.org
SUMMARY:Closed Discussion (S-Sa 4:00p)
DESCRIPTION:
URL:https://staging.tricountycenter.org/event/closed-discussion-s-sa-400p/2026-09-15/
LOCATION:Tri-county Center (Main Room)\, 2031 East Kemper Road\, Cincinnati\, OH\, 45241\, United States
CATEGORIES:AA Meetings,Meetings
ORGANIZER;CN="Tri-County%20Center":MAILTO:events@tricountycenter.org
END:VEVENT
BEGIN:VEVENT
DTSTART;TZID=America/New_York:20260915T173000
DTEND;TZID=America/New_York:20260915T183000
DTSTAMP:20260425T115828
CREATED:20230816T015547Z
LAST-MODIFIED:20230816T174834Z
UID:10002648-1789493400-1789497000@staging.tricountycenter.org
SUMMARY:Happy Hour Open Discussion (M-W\, F-Sa 5:30p)
DESCRIPTION:
URL:https://staging.tricountycenter.org/event/happy-hour-m-w-f-sa-open-discussion-meeting/2026-09-15/
LOCATION:Tri-county Center (Main Room)\, 2031 East Kemper Road\, Cincinnati\, OH\, 45241\, United States
CATEGORIES:AA Meetings,Meetings
ORGANIZER;CN="Tri-County%20Center":MAILTO:events@tricountycenter.org
END:VEVENT
BEGIN:VEVENT
DTSTART;TZID=America/New_York:20260916T070000
DTEND;TZID=America/New_York:20260916T080000
DTSTAMP:20260425T115828
CREATED:20230816T005850Z
LAST-MODIFIED:20230816T170243Z
UID:10001143-1789542000-1789545600@staging.tricountycenter.org
SUMMARY:"Rise and Shine" (S-Sa 7:00a)
DESCRIPTION:
URL:https://staging.tricountycenter.org/event/rise-and-shine/2026-09-16/
LOCATION:Tri-county Center (Main Room)\, 2031 East Kemper Road\, Cincinnati\, OH\, 45241\, United States
CATEGORIES:AA Meetings,Meetings
ORGANIZER;CN="Tri-County%20Center":MAILTO:events@tricountycenter.org
END:VEVENT
BEGIN:VEVENT
DTSTART;TZID=America/New_York:20260916T093000
DTEND;TZID=America/New_York:20260916T103000
DTSTAMP:20260425T115828
CREATED:20230816T020452Z
LAST-MODIFIED:20230816T175516Z
UID:10004155-1789551000-1789554600@staging.tricountycenter.org
SUMMARY:Open Discussion (M\, W\, F 930A)
DESCRIPTION:
URL:https://staging.tricountycenter.org/event/open-discussion-meeting-m-w-f-930a/2026-09-16/
LOCATION:Tri-county Center (Main Room)\, 2031 East Kemper Road\, Cincinnati\, OH\, 45241\, United States
CATEGORIES:AA Meetings,Meetings
ORGANIZER;CN="Tri-County%20Center":MAILTO:events@tricountycenter.org
END:VEVENT
BEGIN:VEVENT
DTSTART;TZID=America/New_York:20260916T123000
DTEND;TZID=America/New_York:20260916T133000
DTSTAMP:20260425T115828
CREATED:20230816T023257Z
LAST-MODIFIED:20230816T175850Z
UID:10006469-1789561800-1789565400@staging.tricountycenter.org
SUMMARY:Open Discussion (Su-W\, F-Sa 12:30p)
DESCRIPTION:
URL:https://staging.tricountycenter.org/event/open-discussion-su-w-f-sa-1230p/2026-09-16/
LOCATION:Tri-county Center (Main Room)\, 2031 East Kemper Road\, Cincinnati\, OH\, 45241\, United States
CATEGORIES:AA Meetings,Meetings
ORGANIZER;CN="Tri-County%20Center":MAILTO:events@tricountycenter.org
END:VEVENT
BEGIN:VEVENT
DTSTART;TZID=America/New_York:20260916T160000
DTEND;TZID=America/New_York:20260916T170000
DTSTAMP:20260425T115828
CREATED:20230816T023908Z
LAST-MODIFIED:20230816T170243Z
UID:10008457-1789574400-1789578000@staging.tricountycenter.org
SUMMARY:Closed Discussion (S-Sa 4:00p)
DESCRIPTION:
URL:https://staging.tricountycenter.org/event/closed-discussion-s-sa-400p/2026-09-16/
LOCATION:Tri-county Center (Main Room)\, 2031 East Kemper Road\, Cincinnati\, OH\, 45241\, United States
CATEGORIES:AA Meetings,Meetings
ORGANIZER;CN="Tri-County%20Center":MAILTO:events@tricountycenter.org
END:VEVENT
END:VCALENDAR