BEGIN:VCALENDAR
VERSION:2.0
PRODID:-//Tri-County Center - ECPv6.2.0.1//NONSGML v1.0//EN
CALSCALE:GREGORIAN
METHOD:PUBLISH
X-WR-CALNAME:Tri-County Center
X-ORIGINAL-URL:https://staging.tricountycenter.org
X-WR-CALDESC:Events for Tri-County Center
REFRESH-INTERVAL;VALUE=DURATION:PT1H
X-Robots-Tag:noindex
X-PUBLISHED-TTL:PT1H
BEGIN:VTIMEZONE
TZID:America/New_York
BEGIN:DAYLIGHT
TZOFFSETFROM:-0500
TZOFFSETTO:-0400
TZNAME:EDT
DTSTART:20260308T070000
END:DAYLIGHT
BEGIN:STANDARD
TZOFFSETFROM:-0400
TZOFFSETTO:-0500
TZNAME:EST
DTSTART:20261101T060000
END:STANDARD
END:VTIMEZONE
BEGIN:VEVENT
DTSTART;TZID=America/New_York:20260116T193000
DTEND;TZID=America/New_York:20260116T203000
DTSTAMP:20260422T184943
CREATED:20230816T181324Z
LAST-MODIFIED:20230816T181403Z
UID:10010858-1768591800-1768595400@staging.tricountycenter.org
SUMMARY:Lead Meeting (Fr 7:30p)
DESCRIPTION:
URL:https://staging.tricountycenter.org/event/lead-meeting-fr-730p/2026-01-16/
LOCATION:Tri-county Center (Main Room)\, 2031 East Kemper Road\, Cincinnati\, OH\, 45241\, United States
CATEGORIES:AA Meetings,Meetings
ORGANIZER;CN="Tri-County%20Center":MAILTO:events@tricountycenter.org
END:VEVENT
BEGIN:VEVENT
DTSTART;TZID=America/New_York:20260117T000000
DTEND;TZID=America/New_York:20260117T010000
DTSTAMP:20260422T184943
CREATED:20230816T181730Z
LAST-MODIFIED:20230816T182629Z
UID:10011641-1768608000-1768611600@staging.tricountycenter.org
SUMMARY:Midnight "It's Not Too Late" (Fr-Sa 11:59p)
DESCRIPTION:
URL:https://staging.tricountycenter.org/event/midnight-its-not-too-late-fr-sa-1159p/2026-01-17/
LOCATION:Tri-county Center (Old Building)
CATEGORIES:AA Meetings,Meetings
ORGANIZER;CN="Tri-County%20Center":MAILTO:events@tricountycenter.org
END:VEVENT
BEGIN:VEVENT
DTSTART;TZID=America/New_York:20260117T070000
DTEND;TZID=America/New_York:20260117T080000
DTSTAMP:20260422T184943
CREATED:20230816T005850Z
LAST-MODIFIED:20230816T170243Z
UID:10000901-1768633200-1768636800@staging.tricountycenter.org
SUMMARY:"Rise and Shine" (S-Sa 7:00a)
DESCRIPTION:
URL:https://staging.tricountycenter.org/event/rise-and-shine/2026-01-17/
LOCATION:Tri-county Center (Main Room)\, 2031 East Kemper Road\, Cincinnati\, OH\, 45241\, United States
CATEGORIES:AA Meetings,Meetings
ORGANIZER;CN="Tri-County%20Center":MAILTO:events@tricountycenter.org
END:VEVENT
BEGIN:VEVENT
DTSTART;TZID=America/New_York:20260117T091500
DTEND;TZID=America/New_York:20260117T104500
DTSTAMP:20260422T184943
CREATED:20230816T193939Z
LAST-MODIFIED:20230816T193939Z
UID:10012484-1768641300-1768646700@staging.tricountycenter.org
SUMMARY:Beginner's Meeting
DESCRIPTION:
URL:https://staging.tricountycenter.org/event/beginners-meeting/2026-01-17/
LOCATION:Tri-county Center (Main Room)\, 2031 East Kemper Road\, Cincinnati\, OH\, 45241\, United States
CATEGORIES:AA Meetings,Meetings
ORGANIZER;CN="Tri-County%20Center":MAILTO:events@tricountycenter.org
END:VEVENT
BEGIN:VEVENT
DTSTART;TZID=America/New_York:20260117T100000
DTEND;TZID=America/New_York:20260117T110000
DTSTAMP:20260422T184943
CREATED:20230816T194910Z
LAST-MODIFIED:20230816T195102Z
UID:10012745-1768644000-1768647600@staging.tricountycenter.org
SUMMARY:Al-Anon Family Groups Meeting
DESCRIPTION:
URL:https://staging.tricountycenter.org/event/al-anon-family-groups-meeting/2026-01-17/
LOCATION:Tri-county Center (Old Building)
CATEGORIES:Al-anon/Alateen Meetings,Meetings
ORGANIZER;CN="Tri-County%20Center":MAILTO:events@tricountycenter.org
END:VEVENT
BEGIN:VEVENT
DTSTART;TZID=America/New_York:20260117T123000
DTEND;TZID=America/New_York:20260117T133000
DTSTAMP:20260422T184943
CREATED:20230816T023257Z
LAST-MODIFIED:20230816T175850Z
UID:10006261-1768653000-1768656600@staging.tricountycenter.org
SUMMARY:Open Discussion (Su-W\, F-Sa 12:30p)
DESCRIPTION:
URL:https://staging.tricountycenter.org/event/open-discussion-su-w-f-sa-1230p/2026-01-17/
LOCATION:Tri-county Center (Main Room)\, 2031 East Kemper Road\, Cincinnati\, OH\, 45241\, United States
CATEGORIES:AA Meetings,Meetings
ORGANIZER;CN="Tri-County%20Center":MAILTO:events@tricountycenter.org
END:VEVENT
BEGIN:VEVENT
DTSTART;TZID=America/New_York:20260117T160000
DTEND;TZID=America/New_York:20260117T170000
DTSTAMP:20260422T184944
CREATED:20230816T023908Z
LAST-MODIFIED:20230816T170243Z
UID:10008215-1768665600-1768669200@staging.tricountycenter.org
SUMMARY:Closed Discussion (S-Sa 4:00p)
DESCRIPTION:
URL:https://staging.tricountycenter.org/event/closed-discussion-s-sa-400p/2026-01-17/
LOCATION:Tri-county Center (Main Room)\, 2031 East Kemper Road\, Cincinnati\, OH\, 45241\, United States
CATEGORIES:AA Meetings,Meetings
ORGANIZER;CN="Tri-County%20Center":MAILTO:events@tricountycenter.org
END:VEVENT
BEGIN:VEVENT
DTSTART;TZID=America/New_York:20260117T173000
DTEND;TZID=America/New_York:20260117T183000
DTSTAMP:20260422T184944
CREATED:20230816T015547Z
LAST-MODIFIED:20230816T174834Z
UID:10002476-1768671000-1768674600@staging.tricountycenter.org
SUMMARY:Happy Hour Open Discussion (M-W\, F-Sa 5:30p)
DESCRIPTION:
URL:https://staging.tricountycenter.org/event/happy-hour-m-w-f-sa-open-discussion-meeting/2026-01-17/
LOCATION:Tri-county Center (Main Room)\, 2031 East Kemper Road\, Cincinnati\, OH\, 45241\, United States
CATEGORIES:AA Meetings,Meetings
ORGANIZER;CN="Tri-County%20Center":MAILTO:events@tricountycenter.org
END:VEVENT
BEGIN:VEVENT
DTSTART;TZID=America/New_York:20260117T190000
DTEND;TZID=America/New_York:20260117T200000
DTSTAMP:20260422T184944
CREATED:20230816T192837Z
LAST-MODIFIED:20230816T192958Z
UID:10012163-1768676400-1768680000@staging.tricountycenter.org
SUMMARY:Decade Plus Lead (Sa 7:00p)
DESCRIPTION:
URL:https://staging.tricountycenter.org/event/decade-plus-lead-sa-700p/2026-01-17/
LOCATION:Tri-county Center (Main Room)\, 2031 East Kemper Road\, Cincinnati\, OH\, 45241\, United States
CATEGORIES:AA Meetings,Meetings
ORGANIZER;CN="Tri-County%20Center":MAILTO:events@tricountycenter.org
END:VEVENT
BEGIN:VEVENT
DTSTART;TZID=America/New_York:20260118T000000
DTEND;TZID=America/New_York:20260118T010000
DTSTAMP:20260422T184944
CREATED:20230816T181730Z
LAST-MODIFIED:20230816T182629Z
UID:10011902-1768694400-1768698000@staging.tricountycenter.org
SUMMARY:Midnight "It's Not Too Late" (Fr-Sa 11:59p)
DESCRIPTION:
URL:https://staging.tricountycenter.org/event/midnight-its-not-too-late-fr-sa-1159p/2026-01-18/
LOCATION:Tri-county Center (Old Building)
CATEGORIES:AA Meetings,Meetings
ORGANIZER;CN="Tri-County%20Center":MAILTO:events@tricountycenter.org
END:VEVENT
BEGIN:VEVENT
DTSTART;TZID=America/New_York:20260118T070000
DTEND;TZID=America/New_York:20260118T080000
DTSTAMP:20260422T184944
CREATED:20230816T005850Z
LAST-MODIFIED:20230816T170243Z
UID:10000902-1768719600-1768723200@staging.tricountycenter.org
SUMMARY:"Rise and Shine" (S-Sa 7:00a)
DESCRIPTION:
URL:https://staging.tricountycenter.org/event/rise-and-shine/2026-01-18/
LOCATION:Tri-county Center (Main Room)\, 2031 East Kemper Road\, Cincinnati\, OH\, 45241\, United States
CATEGORIES:AA Meetings,Meetings
ORGANIZER;CN="Tri-County%20Center":MAILTO:events@tricountycenter.org
END:VEVENT
BEGIN:VEVENT
DTSTART;TZID=America/New_York:20260118T090000
DTEND;TZID=America/New_York:20260118T100000
DTSTAMP:20260422T184944
CREATED:20230816T022633Z
LAST-MODIFIED:20230816T170243Z
UID:10004582-1768726800-1768730400@staging.tricountycenter.org
SUMMARY:“Fairfield Breakfast Club”
DESCRIPTION:
URL:https://staging.tricountycenter.org/event/fairfield-breakfast-club/2026-01-18/
LOCATION:Tri-county Center (Ball Room)\, 2031 East Kemper Road\, Cincinnati\, OH\, 45246\, United States
CATEGORIES:AA Meetings,Meetings
ORGANIZER;CN="Tri-County%20Center":MAILTO:events@tricountycenter.org
END:VEVENT
BEGIN:VEVENT
DTSTART;TZID=America/New_York:20260118T123000
DTEND;TZID=America/New_York:20260118T133000
DTSTAMP:20260422T184944
CREATED:20230816T023257Z
LAST-MODIFIED:20230816T175850Z
UID:10006262-1768739400-1768743000@staging.tricountycenter.org
SUMMARY:Open Discussion (Su-W\, F-Sa 12:30p)
DESCRIPTION:
URL:https://staging.tricountycenter.org/event/open-discussion-su-w-f-sa-1230p/2026-01-18/
LOCATION:Tri-county Center (Main Room)\, 2031 East Kemper Road\, Cincinnati\, OH\, 45241\, United States
CATEGORIES:AA Meetings,Meetings
ORGANIZER;CN="Tri-County%20Center":MAILTO:events@tricountycenter.org
END:VEVENT
BEGIN:VEVENT
DTSTART;TZID=America/New_York:20260118T160000
DTEND;TZID=America/New_York:20260118T170000
DTSTAMP:20260422T184944
CREATED:20230816T023908Z
LAST-MODIFIED:20230816T170243Z
UID:10008216-1768752000-1768755600@staging.tricountycenter.org
SUMMARY:Closed Discussion (S-Sa 4:00p)
DESCRIPTION:
URL:https://staging.tricountycenter.org/event/closed-discussion-s-sa-400p/2026-01-18/
LOCATION:Tri-county Center (Main Room)\, 2031 East Kemper Road\, Cincinnati\, OH\, 45241\, United States
CATEGORIES:AA Meetings,Meetings
ORGANIZER;CN="Tri-County%20Center":MAILTO:events@tricountycenter.org
END:VEVENT
BEGIN:VEVENT
DTSTART;TZID=America/New_York:20260118T190000
DTEND;TZID=America/New_York:20260118T200000
DTSTAMP:20260422T184944
CREATED:20230816T195217Z
LAST-MODIFIED:20230816T195217Z
UID:10013528-1768762800-1768766400@staging.tricountycenter.org
SUMMARY:Al-Anon Discussion
DESCRIPTION:
URL:https://staging.tricountycenter.org/event/al-anon-discussion/2026-01-18/
LOCATION:Tri-county Center (Old Building)
CATEGORIES:Al-anon/Alateen Meetings,Meetings
ORGANIZER;CN="Tri-County%20Center":MAILTO:events@tricountycenter.org
END:VEVENT
BEGIN:VEVENT
DTSTART;TZID=America/New_York:20260119T070000
DTEND;TZID=America/New_York:20260119T080000
DTSTAMP:20260422T184944
CREATED:20230816T005850Z
LAST-MODIFIED:20230816T170243Z
UID:10000903-1768806000-1768809600@staging.tricountycenter.org
SUMMARY:"Rise and Shine" (S-Sa 7:00a)
DESCRIPTION:
URL:https://staging.tricountycenter.org/event/rise-and-shine/2026-01-19/
LOCATION:Tri-county Center (Main Room)\, 2031 East Kemper Road\, Cincinnati\, OH\, 45241\, United States
CATEGORIES:AA Meetings,Meetings
ORGANIZER;CN="Tri-County%20Center":MAILTO:events@tricountycenter.org
END:VEVENT
BEGIN:VEVENT
DTSTART;TZID=America/New_York:20260119T093000
DTEND;TZID=America/New_York:20260119T103000
DTSTAMP:20260422T184944
CREATED:20230816T020452Z
LAST-MODIFIED:20230816T175516Z
UID:10004052-1768815000-1768818600@staging.tricountycenter.org
SUMMARY:Open Discussion (M\, W\, F 930A)
DESCRIPTION:
URL:https://staging.tricountycenter.org/event/open-discussion-meeting-m-w-f-930a/2026-01-19/
LOCATION:Tri-county Center (Main Room)\, 2031 East Kemper Road\, Cincinnati\, OH\, 45241\, United States
CATEGORIES:AA Meetings,Meetings
ORGANIZER;CN="Tri-County%20Center":MAILTO:events@tricountycenter.org
END:VEVENT
BEGIN:VEVENT
DTSTART;TZID=America/New_York:20260119T123000
DTEND;TZID=America/New_York:20260119T133000
DTSTAMP:20260422T184944
CREATED:20230816T023257Z
LAST-MODIFIED:20230816T175850Z
UID:10006263-1768825800-1768829400@staging.tricountycenter.org
SUMMARY:Open Discussion (Su-W\, F-Sa 12:30p)
DESCRIPTION:
URL:https://staging.tricountycenter.org/event/open-discussion-su-w-f-sa-1230p/2026-01-19/
LOCATION:Tri-county Center (Main Room)\, 2031 East Kemper Road\, Cincinnati\, OH\, 45241\, United States
CATEGORIES:AA Meetings,Meetings
ORGANIZER;CN="Tri-County%20Center":MAILTO:events@tricountycenter.org
END:VEVENT
BEGIN:VEVENT
DTSTART;TZID=America/New_York:20260119T160000
DTEND;TZID=America/New_York:20260119T170000
DTSTAMP:20260422T184944
CREATED:20230816T023908Z
LAST-MODIFIED:20230816T170243Z
UID:10008217-1768838400-1768842000@staging.tricountycenter.org
SUMMARY:Closed Discussion (S-Sa 4:00p)
DESCRIPTION:
URL:https://staging.tricountycenter.org/event/closed-discussion-s-sa-400p/2026-01-19/
LOCATION:Tri-county Center (Main Room)\, 2031 East Kemper Road\, Cincinnati\, OH\, 45241\, United States
CATEGORIES:AA Meetings,Meetings
ORGANIZER;CN="Tri-County%20Center":MAILTO:events@tricountycenter.org
END:VEVENT
BEGIN:VEVENT
DTSTART;TZID=America/New_York:20260119T173000
DTEND;TZID=America/New_York:20260119T183000
DTSTAMP:20260422T184944
CREATED:20230816T015547Z
LAST-MODIFIED:20230816T174834Z
UID:10002477-1768843800-1768847400@staging.tricountycenter.org
SUMMARY:Happy Hour Open Discussion (M-W\, F-Sa 5:30p)
DESCRIPTION:
URL:https://staging.tricountycenter.org/event/happy-hour-m-w-f-sa-open-discussion-meeting/2026-01-19/
LOCATION:Tri-county Center (Main Room)\, 2031 East Kemper Road\, Cincinnati\, OH\, 45241\, United States
CATEGORIES:AA Meetings,Meetings
ORGANIZER;CN="Tri-County%20Center":MAILTO:events@tricountycenter.org
END:VEVENT
BEGIN:VEVENT
DTSTART;TZID=America/New_York:20260119T193000
DTEND;TZID=America/New_York:20260119T203000
DTSTAMP:20260422T184944
CREATED:20230816T112526Z
LAST-MODIFIED:20230816T170243Z
UID:10009285-1768851000-1768854600@staging.tricountycenter.org
SUMMARY:Open Beginner's Lead/Discussion (M 7:30p)
DESCRIPTION:
URL:https://staging.tricountycenter.org/event/open-beginners-lead-discussion-m-730p/2026-01-19/
LOCATION:Tri-county Center (Main Room)\, 2031 East Kemper Road\, Cincinnati\, OH\, 45241\, United States
CATEGORIES:AA Meetings,Meetings
ORGANIZER;CN="Tri-County%20Center":MAILTO:events@tricountycenter.org
END:VEVENT
BEGIN:VEVENT
DTSTART;TZID=America/New_York:20260120T070000
DTEND;TZID=America/New_York:20260120T080000
DTSTAMP:20260422T184944
CREATED:20230816T005850Z
LAST-MODIFIED:20230816T170243Z
UID:10000904-1768892400-1768896000@staging.tricountycenter.org
SUMMARY:"Rise and Shine" (S-Sa 7:00a)
DESCRIPTION:
URL:https://staging.tricountycenter.org/event/rise-and-shine/2026-01-20/
LOCATION:Tri-county Center (Main Room)\, 2031 East Kemper Road\, Cincinnati\, OH\, 45241\, United States
CATEGORIES:AA Meetings,Meetings
ORGANIZER;CN="Tri-County%20Center":MAILTO:events@tricountycenter.org
END:VEVENT
BEGIN:VEVENT
DTSTART;TZID=America/New_York:20260120T093000
DTEND;TZID=America/New_York:20260120T103000
DTSTAMP:20260422T184944
CREATED:20230816T022800Z
LAST-MODIFIED:20230816T175442Z
UID:10004844-1768901400-1768905000@staging.tricountycenter.org
SUMMARY:12 & 12 (T 9:30a)
DESCRIPTION:
URL:https://staging.tricountycenter.org/event/12-12-t-930a/2026-01-20/
LOCATION:Tri-county Center (Main Room)\, 2031 East Kemper Road\, Cincinnati\, OH\, 45241\, United States
CATEGORIES:AA Meetings,Meetings
ORGANIZER;CN="Tri-County%20Center":MAILTO:events@tricountycenter.org
END:VEVENT
BEGIN:VEVENT
DTSTART;TZID=America/New_York:20260120T123000
DTEND;TZID=America/New_York:20260120T133000
DTSTAMP:20260422T184944
CREATED:20230816T023257Z
LAST-MODIFIED:20230816T175850Z
UID:10006264-1768912200-1768915800@staging.tricountycenter.org
SUMMARY:Open Discussion (Su-W\, F-Sa 12:30p)
DESCRIPTION:
URL:https://staging.tricountycenter.org/event/open-discussion-su-w-f-sa-1230p/2026-01-20/
LOCATION:Tri-county Center (Main Room)\, 2031 East Kemper Road\, Cincinnati\, OH\, 45241\, United States
CATEGORIES:AA Meetings,Meetings
ORGANIZER;CN="Tri-County%20Center":MAILTO:events@tricountycenter.org
END:VEVENT
BEGIN:VEVENT
DTSTART;TZID=America/New_York:20260120T160000
DTEND;TZID=America/New_York:20260120T170000
DTSTAMP:20260422T184944
CREATED:20230816T023908Z
LAST-MODIFIED:20230816T170243Z
UID:10008218-1768924800-1768928400@staging.tricountycenter.org
SUMMARY:Closed Discussion (S-Sa 4:00p)
DESCRIPTION:
URL:https://staging.tricountycenter.org/event/closed-discussion-s-sa-400p/2026-01-20/
LOCATION:Tri-county Center (Main Room)\, 2031 East Kemper Road\, Cincinnati\, OH\, 45241\, United States
CATEGORIES:AA Meetings,Meetings
ORGANIZER;CN="Tri-County%20Center":MAILTO:events@tricountycenter.org
END:VEVENT
BEGIN:VEVENT
DTSTART;TZID=America/New_York:20260120T173000
DTEND;TZID=America/New_York:20260120T183000
DTSTAMP:20260422T184944
CREATED:20230816T015547Z
LAST-MODIFIED:20230816T174834Z
UID:10002478-1768930200-1768933800@staging.tricountycenter.org
SUMMARY:Happy Hour Open Discussion (M-W\, F-Sa 5:30p)
DESCRIPTION:
URL:https://staging.tricountycenter.org/event/happy-hour-m-w-f-sa-open-discussion-meeting/2026-01-20/
LOCATION:Tri-county Center (Main Room)\, 2031 East Kemper Road\, Cincinnati\, OH\, 45241\, United States
CATEGORIES:AA Meetings,Meetings
ORGANIZER;CN="Tri-County%20Center":MAILTO:events@tricountycenter.org
END:VEVENT
BEGIN:VEVENT
DTSTART;TZID=America/New_York:20260121T070000
DTEND;TZID=America/New_York:20260121T080000
DTSTAMP:20260422T184944
CREATED:20230816T005850Z
LAST-MODIFIED:20230816T170243Z
UID:10000905-1768978800-1768982400@staging.tricountycenter.org
SUMMARY:"Rise and Shine" (S-Sa 7:00a)
DESCRIPTION:
URL:https://staging.tricountycenter.org/event/rise-and-shine/2026-01-21/
LOCATION:Tri-county Center (Main Room)\, 2031 East Kemper Road\, Cincinnati\, OH\, 45241\, United States
CATEGORIES:AA Meetings,Meetings
ORGANIZER;CN="Tri-County%20Center":MAILTO:events@tricountycenter.org
END:VEVENT
BEGIN:VEVENT
DTSTART;TZID=America/New_York:20260121T093000
DTEND;TZID=America/New_York:20260121T103000
DTSTAMP:20260422T184944
CREATED:20230816T020452Z
LAST-MODIFIED:20230816T175516Z
UID:10004053-1768987800-1768991400@staging.tricountycenter.org
SUMMARY:Open Discussion (M\, W\, F 930A)
DESCRIPTION:
URL:https://staging.tricountycenter.org/event/open-discussion-meeting-m-w-f-930a/2026-01-21/
LOCATION:Tri-county Center (Main Room)\, 2031 East Kemper Road\, Cincinnati\, OH\, 45241\, United States
CATEGORIES:AA Meetings,Meetings
ORGANIZER;CN="Tri-County%20Center":MAILTO:events@tricountycenter.org
END:VEVENT
BEGIN:VEVENT
DTSTART;TZID=America/New_York:20260121T123000
DTEND;TZID=America/New_York:20260121T133000
DTSTAMP:20260422T184944
CREATED:20230816T023257Z
LAST-MODIFIED:20230816T175850Z
UID:10006265-1768998600-1769002200@staging.tricountycenter.org
SUMMARY:Open Discussion (Su-W\, F-Sa 12:30p)
DESCRIPTION:
URL:https://staging.tricountycenter.org/event/open-discussion-su-w-f-sa-1230p/2026-01-21/
LOCATION:Tri-county Center (Main Room)\, 2031 East Kemper Road\, Cincinnati\, OH\, 45241\, United States
CATEGORIES:AA Meetings,Meetings
ORGANIZER;CN="Tri-County%20Center":MAILTO:events@tricountycenter.org
END:VEVENT
BEGIN:VEVENT
DTSTART;TZID=America/New_York:20260121T160000
DTEND;TZID=America/New_York:20260121T170000
DTSTAMP:20260422T184944
CREATED:20230816T023908Z
LAST-MODIFIED:20230816T170243Z
UID:10008219-1769011200-1769014800@staging.tricountycenter.org
SUMMARY:Closed Discussion (S-Sa 4:00p)
DESCRIPTION:
URL:https://staging.tricountycenter.org/event/closed-discussion-s-sa-400p/2026-01-21/
LOCATION:Tri-county Center (Main Room)\, 2031 East Kemper Road\, Cincinnati\, OH\, 45241\, United States
CATEGORIES:AA Meetings,Meetings
ORGANIZER;CN="Tri-County%20Center":MAILTO:events@tricountycenter.org
END:VEVENT
END:VCALENDAR