BEGIN:VCALENDAR
VERSION:2.0
PRODID:-//Tri-County Center - ECPv6.2.0.1//NONSGML v1.0//EN
CALSCALE:GREGORIAN
METHOD:PUBLISH
X-WR-CALNAME:Tri-County Center
X-ORIGINAL-URL:https://staging.tricountycenter.org
X-WR-CALDESC:Events for Tri-County Center
REFRESH-INTERVAL;VALUE=DURATION:PT1H
X-Robots-Tag:noindex
X-PUBLISHED-TTL:PT1H
BEGIN:VTIMEZONE
TZID:America/New_York
BEGIN:DAYLIGHT
TZOFFSETFROM:-0500
TZOFFSETTO:-0400
TZNAME:EDT
DTSTART:20260308T070000
END:DAYLIGHT
BEGIN:STANDARD
TZOFFSETFROM:-0400
TZOFFSETTO:-0500
TZNAME:EST
DTSTART:20261101T060000
END:STANDARD
END:VTIMEZONE
BEGIN:VEVENT
DTSTART;TZID=America/New_York:20260630T070000
DTEND;TZID=America/New_York:20260630T080000
DTSTAMP:20260422T081726
CREATED:20230816T005850Z
LAST-MODIFIED:20230816T170243Z
UID:10001065-1782802800-1782806400@staging.tricountycenter.org
SUMMARY:"Rise and Shine" (S-Sa 7:00a)
DESCRIPTION:
URL:https://staging.tricountycenter.org/event/rise-and-shine/2026-06-30/
LOCATION:Tri-county Center (Main Room)\, 2031 East Kemper Road\, Cincinnati\, OH\, 45241\, United States
CATEGORIES:AA Meetings,Meetings
ORGANIZER;CN="Tri-County%20Center":MAILTO:events@tricountycenter.org
END:VEVENT
BEGIN:VEVENT
DTSTART;TZID=America/New_York:20260629T193000
DTEND;TZID=America/New_York:20260629T203000
DTSTAMP:20260422T081726
CREATED:20230816T112526Z
LAST-MODIFIED:20230816T170243Z
UID:10009308-1782761400-1782765000@staging.tricountycenter.org
SUMMARY:Open Beginner's Lead/Discussion (M 7:30p)
DESCRIPTION:
URL:https://staging.tricountycenter.org/event/open-beginners-lead-discussion-m-730p/2026-06-29/
LOCATION:Tri-county Center (Main Room)\, 2031 East Kemper Road\, Cincinnati\, OH\, 45241\, United States
CATEGORIES:AA Meetings,Meetings
ORGANIZER;CN="Tri-County%20Center":MAILTO:events@tricountycenter.org
END:VEVENT
BEGIN:VEVENT
DTSTART;TZID=America/New_York:20260629T173000
DTEND;TZID=America/New_York:20260629T183000
DTSTAMP:20260422T081726
CREATED:20230816T015547Z
LAST-MODIFIED:20230816T174834Z
UID:10002592-1782754200-1782757800@staging.tricountycenter.org
SUMMARY:Happy Hour Open Discussion (M-W\, F-Sa 5:30p)
DESCRIPTION:
URL:https://staging.tricountycenter.org/event/happy-hour-m-w-f-sa-open-discussion-meeting/2026-06-29/
LOCATION:Tri-county Center (Main Room)\, 2031 East Kemper Road\, Cincinnati\, OH\, 45241\, United States
CATEGORIES:AA Meetings,Meetings
ORGANIZER;CN="Tri-County%20Center":MAILTO:events@tricountycenter.org
END:VEVENT
BEGIN:VEVENT
DTSTART;TZID=America/New_York:20260629T160000
DTEND;TZID=America/New_York:20260629T170000
DTSTAMP:20260422T081726
CREATED:20230816T023908Z
LAST-MODIFIED:20230816T170243Z
UID:10008378-1782748800-1782752400@staging.tricountycenter.org
SUMMARY:Closed Discussion (S-Sa 4:00p)
DESCRIPTION:
URL:https://staging.tricountycenter.org/event/closed-discussion-s-sa-400p/2026-06-29/
LOCATION:Tri-county Center (Main Room)\, 2031 East Kemper Road\, Cincinnati\, OH\, 45241\, United States
CATEGORIES:AA Meetings,Meetings
ORGANIZER;CN="Tri-County%20Center":MAILTO:events@tricountycenter.org
END:VEVENT
BEGIN:VEVENT
DTSTART;TZID=America/New_York:20260629T123000
DTEND;TZID=America/New_York:20260629T133000
DTSTAMP:20260422T081726
CREATED:20230816T023257Z
LAST-MODIFIED:20230816T175850Z
UID:10006401-1782736200-1782739800@staging.tricountycenter.org
SUMMARY:Open Discussion (Su-W\, F-Sa 12:30p)
DESCRIPTION:
URL:https://staging.tricountycenter.org/event/open-discussion-su-w-f-sa-1230p/2026-06-29/
LOCATION:Tri-county Center (Main Room)\, 2031 East Kemper Road\, Cincinnati\, OH\, 45241\, United States
CATEGORIES:AA Meetings,Meetings
ORGANIZER;CN="Tri-County%20Center":MAILTO:events@tricountycenter.org
END:VEVENT
BEGIN:VEVENT
DTSTART;TZID=America/New_York:20260629T093000
DTEND;TZID=America/New_York:20260629T103000
DTSTAMP:20260422T081726
CREATED:20230816T020452Z
LAST-MODIFIED:20230816T175516Z
UID:10004121-1782725400-1782729000@staging.tricountycenter.org
SUMMARY:Open Discussion (M\, W\, F 930A)
DESCRIPTION:
URL:https://staging.tricountycenter.org/event/open-discussion-meeting-m-w-f-930a/2026-06-29/
LOCATION:Tri-county Center (Main Room)\, 2031 East Kemper Road\, Cincinnati\, OH\, 45241\, United States
CATEGORIES:AA Meetings,Meetings
ORGANIZER;CN="Tri-County%20Center":MAILTO:events@tricountycenter.org
END:VEVENT
BEGIN:VEVENT
DTSTART;TZID=America/New_York:20260629T070000
DTEND;TZID=America/New_York:20260629T080000
DTSTAMP:20260422T081726
CREATED:20230816T005850Z
LAST-MODIFIED:20230816T170243Z
UID:10001064-1782716400-1782720000@staging.tricountycenter.org
SUMMARY:"Rise and Shine" (S-Sa 7:00a)
DESCRIPTION:
URL:https://staging.tricountycenter.org/event/rise-and-shine/2026-06-29/
LOCATION:Tri-county Center (Main Room)\, 2031 East Kemper Road\, Cincinnati\, OH\, 45241\, United States
CATEGORIES:AA Meetings,Meetings
ORGANIZER;CN="Tri-County%20Center":MAILTO:events@tricountycenter.org
END:VEVENT
BEGIN:VEVENT
DTSTART;TZID=America/New_York:20260628T190000
DTEND;TZID=America/New_York:20260628T200000
DTSTAMP:20260422T081726
CREATED:20230816T195217Z
LAST-MODIFIED:20230816T195217Z
UID:10013551-1782673200-1782676800@staging.tricountycenter.org
SUMMARY:Al-Anon Discussion
DESCRIPTION:
URL:https://staging.tricountycenter.org/event/al-anon-discussion/2026-06-28/
LOCATION:Tri-county Center (Old Building)
CATEGORIES:Al-anon/Alateen Meetings,Meetings
ORGANIZER;CN="Tri-County%20Center":MAILTO:events@tricountycenter.org
END:VEVENT
BEGIN:VEVENT
DTSTART;TZID=America/New_York:20260628T160000
DTEND;TZID=America/New_York:20260628T170000
DTSTAMP:20260422T081726
CREATED:20230816T023908Z
LAST-MODIFIED:20230816T170243Z
UID:10008377-1782662400-1782666000@staging.tricountycenter.org
SUMMARY:Closed Discussion (S-Sa 4:00p)
DESCRIPTION:
URL:https://staging.tricountycenter.org/event/closed-discussion-s-sa-400p/2026-06-28/
LOCATION:Tri-county Center (Main Room)\, 2031 East Kemper Road\, Cincinnati\, OH\, 45241\, United States
CATEGORIES:AA Meetings,Meetings
ORGANIZER;CN="Tri-County%20Center":MAILTO:events@tricountycenter.org
END:VEVENT
BEGIN:VEVENT
DTSTART;TZID=America/New_York:20260628T123000
DTEND;TZID=America/New_York:20260628T133000
DTSTAMP:20260422T081726
CREATED:20230816T023257Z
LAST-MODIFIED:20230816T175850Z
UID:10006400-1782649800-1782653400@staging.tricountycenter.org
SUMMARY:Open Discussion (Su-W\, F-Sa 12:30p)
DESCRIPTION:
URL:https://staging.tricountycenter.org/event/open-discussion-su-w-f-sa-1230p/2026-06-28/
LOCATION:Tri-county Center (Main Room)\, 2031 East Kemper Road\, Cincinnati\, OH\, 45241\, United States
CATEGORIES:AA Meetings,Meetings
ORGANIZER;CN="Tri-County%20Center":MAILTO:events@tricountycenter.org
END:VEVENT
BEGIN:VEVENT
DTSTART;TZID=America/New_York:20260628T090000
DTEND;TZID=America/New_York:20260628T100000
DTSTAMP:20260422T081726
CREATED:20230816T022633Z
LAST-MODIFIED:20230816T170243Z
UID:10004605-1782637200-1782640800@staging.tricountycenter.org
SUMMARY:“Fairfield Breakfast Club”
DESCRIPTION:
URL:https://staging.tricountycenter.org/event/fairfield-breakfast-club/2026-06-28/
LOCATION:Tri-county Center (Ball Room)\, 2031 East Kemper Road\, Cincinnati\, OH\, 45246\, United States
CATEGORIES:AA Meetings,Meetings
ORGANIZER;CN="Tri-County%20Center":MAILTO:events@tricountycenter.org
END:VEVENT
BEGIN:VEVENT
DTSTART;TZID=America/New_York:20260628T070000
DTEND;TZID=America/New_York:20260628T080000
DTSTAMP:20260422T081726
CREATED:20230816T005850Z
LAST-MODIFIED:20230816T170243Z
UID:10001063-1782630000-1782633600@staging.tricountycenter.org
SUMMARY:"Rise and Shine" (S-Sa 7:00a)
DESCRIPTION:
URL:https://staging.tricountycenter.org/event/rise-and-shine/2026-06-28/
LOCATION:Tri-county Center (Main Room)\, 2031 East Kemper Road\, Cincinnati\, OH\, 45241\, United States
CATEGORIES:AA Meetings,Meetings
ORGANIZER;CN="Tri-County%20Center":MAILTO:events@tricountycenter.org
END:VEVENT
BEGIN:VEVENT
DTSTART;TZID=America/New_York:20260628T000000
DTEND;TZID=America/New_York:20260628T010000
DTSTAMP:20260422T081726
CREATED:20230816T181730Z
LAST-MODIFIED:20230816T182629Z
UID:10011925-1782604800-1782608400@staging.tricountycenter.org
SUMMARY:Midnight "It's Not Too Late" (Fr-Sa 11:59p)
DESCRIPTION:
URL:https://staging.tricountycenter.org/event/midnight-its-not-too-late-fr-sa-1159p/2026-06-28/
LOCATION:Tri-county Center (Old Building)
CATEGORIES:AA Meetings,Meetings
ORGANIZER;CN="Tri-County%20Center":MAILTO:events@tricountycenter.org
END:VEVENT
BEGIN:VEVENT
DTSTART;TZID=America/New_York:20260627T190000
DTEND;TZID=America/New_York:20260627T200000
DTSTAMP:20260422T081726
CREATED:20230816T193240Z
LAST-MODIFIED:20230816T193240Z
UID:10012332-1782586800-1782590400@staging.tricountycenter.org
SUMMARY:Monthly Anniversary Meeting
DESCRIPTION:
URL:https://staging.tricountycenter.org/event/monthly-anniversary-meeting/2026-06-27/
LOCATION:Tri-county Center (Main Room)\, 2031 East Kemper Road\, Cincinnati\, OH\, 45241\, United States
CATEGORIES:AA Meetings,Meetings
ORGANIZER;CN="Tri-County%20Center":MAILTO:events@tricountycenter.org
END:VEVENT
BEGIN:VEVENT
DTSTART;TZID=America/New_York:20260627T173000
DTEND;TZID=America/New_York:20260627T183000
DTSTAMP:20260422T081726
CREATED:20230816T015547Z
LAST-MODIFIED:20230816T174834Z
UID:10002591-1782581400-1782585000@staging.tricountycenter.org
SUMMARY:Happy Hour Open Discussion (M-W\, F-Sa 5:30p)
DESCRIPTION:
URL:https://staging.tricountycenter.org/event/happy-hour-m-w-f-sa-open-discussion-meeting/2026-06-27/
LOCATION:Tri-county Center (Main Room)\, 2031 East Kemper Road\, Cincinnati\, OH\, 45241\, United States
CATEGORIES:AA Meetings,Meetings
ORGANIZER;CN="Tri-County%20Center":MAILTO:events@tricountycenter.org
END:VEVENT
BEGIN:VEVENT
DTSTART;TZID=America/New_York:20260627T160000
DTEND;TZID=America/New_York:20260627T170000
DTSTAMP:20260422T081726
CREATED:20230816T023908Z
LAST-MODIFIED:20230816T170243Z
UID:10008376-1782576000-1782579600@staging.tricountycenter.org
SUMMARY:Closed Discussion (S-Sa 4:00p)
DESCRIPTION:
URL:https://staging.tricountycenter.org/event/closed-discussion-s-sa-400p/2026-06-27/
LOCATION:Tri-county Center (Main Room)\, 2031 East Kemper Road\, Cincinnati\, OH\, 45241\, United States
CATEGORIES:AA Meetings,Meetings
ORGANIZER;CN="Tri-County%20Center":MAILTO:events@tricountycenter.org
END:VEVENT
BEGIN:VEVENT
DTSTART;TZID=America/New_York:20260627T123000
DTEND;TZID=America/New_York:20260627T133000
DTSTAMP:20260422T081726
CREATED:20230816T023257Z
LAST-MODIFIED:20230816T175850Z
UID:10006399-1782563400-1782567000@staging.tricountycenter.org
SUMMARY:Open Discussion (Su-W\, F-Sa 12:30p)
DESCRIPTION:
URL:https://staging.tricountycenter.org/event/open-discussion-su-w-f-sa-1230p/2026-06-27/
LOCATION:Tri-county Center (Main Room)\, 2031 East Kemper Road\, Cincinnati\, OH\, 45241\, United States
CATEGORIES:AA Meetings,Meetings
ORGANIZER;CN="Tri-County%20Center":MAILTO:events@tricountycenter.org
END:VEVENT
BEGIN:VEVENT
DTSTART;TZID=America/New_York:20260627T100000
DTEND;TZID=America/New_York:20260627T110000
DTSTAMP:20260422T081726
CREATED:20230816T194910Z
LAST-MODIFIED:20230816T195102Z
UID:10012768-1782554400-1782558000@staging.tricountycenter.org
SUMMARY:Al-Anon Family Groups Meeting
DESCRIPTION:
URL:https://staging.tricountycenter.org/event/al-anon-family-groups-meeting/2026-06-27/
LOCATION:Tri-county Center (Old Building)
CATEGORIES:Al-anon/Alateen Meetings,Meetings
ORGANIZER;CN="Tri-County%20Center":MAILTO:events@tricountycenter.org
END:VEVENT
BEGIN:VEVENT
DTSTART;TZID=America/New_York:20260627T091500
DTEND;TZID=America/New_York:20260627T104500
DTSTAMP:20260422T081726
CREATED:20230816T193939Z
LAST-MODIFIED:20230816T193939Z
UID:10012507-1782551700-1782557100@staging.tricountycenter.org
SUMMARY:Beginner's Meeting
DESCRIPTION:
URL:https://staging.tricountycenter.org/event/beginners-meeting/2026-06-27/
LOCATION:Tri-county Center (Main Room)\, 2031 East Kemper Road\, Cincinnati\, OH\, 45241\, United States
CATEGORIES:AA Meetings,Meetings
ORGANIZER;CN="Tri-County%20Center":MAILTO:events@tricountycenter.org
END:VEVENT
BEGIN:VEVENT
DTSTART;TZID=America/New_York:20260627T070000
DTEND;TZID=America/New_York:20260627T080000
DTSTAMP:20260422T081726
CREATED:20230816T005850Z
LAST-MODIFIED:20230816T170243Z
UID:10001062-1782543600-1782547200@staging.tricountycenter.org
SUMMARY:"Rise and Shine" (S-Sa 7:00a)
DESCRIPTION:
URL:https://staging.tricountycenter.org/event/rise-and-shine/2026-06-27/
LOCATION:Tri-county Center (Main Room)\, 2031 East Kemper Road\, Cincinnati\, OH\, 45241\, United States
CATEGORIES:AA Meetings,Meetings
ORGANIZER;CN="Tri-County%20Center":MAILTO:events@tricountycenter.org
END:VEVENT
BEGIN:VEVENT
DTSTART;TZID=America/New_York:20260627T000000
DTEND;TZID=America/New_York:20260627T010000
DTSTAMP:20260422T081726
CREATED:20230816T181730Z
LAST-MODIFIED:20230816T182629Z
UID:10011664-1782518400-1782522000@staging.tricountycenter.org
SUMMARY:Midnight "It's Not Too Late" (Fr-Sa 11:59p)
DESCRIPTION:
URL:https://staging.tricountycenter.org/event/midnight-its-not-too-late-fr-sa-1159p/2026-06-27/
LOCATION:Tri-county Center (Old Building)
CATEGORIES:AA Meetings,Meetings
ORGANIZER;CN="Tri-County%20Center":MAILTO:events@tricountycenter.org
END:VEVENT
BEGIN:VEVENT
DTSTART;TZID=America/New_York:20260626T193000
DTEND;TZID=America/New_York:20260626T203000
DTSTAMP:20260422T081726
CREATED:20230816T181324Z
LAST-MODIFIED:20230816T181403Z
UID:10010881-1782502200-1782505800@staging.tricountycenter.org
SUMMARY:Lead Meeting (Fr 7:30p)
DESCRIPTION:
URL:https://staging.tricountycenter.org/event/lead-meeting-fr-730p/2026-06-26/
LOCATION:Tri-county Center (Main Room)\, 2031 East Kemper Road\, Cincinnati\, OH\, 45241\, United States
CATEGORIES:AA Meetings,Meetings
ORGANIZER;CN="Tri-County%20Center":MAILTO:events@tricountycenter.org
END:VEVENT
BEGIN:VEVENT
DTSTART;TZID=America/New_York:20260626T173000
DTEND;TZID=America/New_York:20260626T183000
DTSTAMP:20260422T081726
CREATED:20230816T015547Z
LAST-MODIFIED:20230816T174834Z
UID:10002590-1782495000-1782498600@staging.tricountycenter.org
SUMMARY:Happy Hour Open Discussion (M-W\, F-Sa 5:30p)
DESCRIPTION:
URL:https://staging.tricountycenter.org/event/happy-hour-m-w-f-sa-open-discussion-meeting/2026-06-26/
LOCATION:Tri-county Center (Main Room)\, 2031 East Kemper Road\, Cincinnati\, OH\, 45241\, United States
CATEGORIES:AA Meetings,Meetings
ORGANIZER;CN="Tri-County%20Center":MAILTO:events@tricountycenter.org
END:VEVENT
BEGIN:VEVENT
DTSTART;TZID=America/New_York:20260626T160000
DTEND;TZID=America/New_York:20260626T170000
DTSTAMP:20260422T081726
CREATED:20230816T023908Z
LAST-MODIFIED:20230816T170243Z
UID:10008375-1782489600-1782493200@staging.tricountycenter.org
SUMMARY:Closed Discussion (S-Sa 4:00p)
DESCRIPTION:
URL:https://staging.tricountycenter.org/event/closed-discussion-s-sa-400p/2026-06-26/
LOCATION:Tri-county Center (Main Room)\, 2031 East Kemper Road\, Cincinnati\, OH\, 45241\, United States
CATEGORIES:AA Meetings,Meetings
ORGANIZER;CN="Tri-County%20Center":MAILTO:events@tricountycenter.org
END:VEVENT
BEGIN:VEVENT
DTSTART;TZID=America/New_York:20260626T123000
DTEND;TZID=America/New_York:20260626T133000
DTSTAMP:20260422T081726
CREATED:20230816T023257Z
LAST-MODIFIED:20230816T175850Z
UID:10006398-1782477000-1782480600@staging.tricountycenter.org
SUMMARY:Open Discussion (Su-W\, F-Sa 12:30p)
DESCRIPTION:
URL:https://staging.tricountycenter.org/event/open-discussion-su-w-f-sa-1230p/2026-06-26/
LOCATION:Tri-county Center (Main Room)\, 2031 East Kemper Road\, Cincinnati\, OH\, 45241\, United States
CATEGORIES:AA Meetings,Meetings
ORGANIZER;CN="Tri-County%20Center":MAILTO:events@tricountycenter.org
END:VEVENT
BEGIN:VEVENT
DTSTART;TZID=America/New_York:20260626T093000
DTEND;TZID=America/New_York:20260626T103000
DTSTAMP:20260422T081727
CREATED:20230816T020452Z
LAST-MODIFIED:20230816T175516Z
UID:10004120-1782466200-1782469800@staging.tricountycenter.org
SUMMARY:Open Discussion (M\, W\, F 930A)
DESCRIPTION:
URL:https://staging.tricountycenter.org/event/open-discussion-meeting-m-w-f-930a/2026-06-26/
LOCATION:Tri-county Center (Main Room)\, 2031 East Kemper Road\, Cincinnati\, OH\, 45241\, United States
CATEGORIES:AA Meetings,Meetings
ORGANIZER;CN="Tri-County%20Center":MAILTO:events@tricountycenter.org
END:VEVENT
BEGIN:VEVENT
DTSTART;TZID=America/New_York:20260626T070000
DTEND;TZID=America/New_York:20260626T080000
DTSTAMP:20260422T081727
CREATED:20230816T005850Z
LAST-MODIFIED:20230816T170243Z
UID:10001061-1782457200-1782460800@staging.tricountycenter.org
SUMMARY:"Rise and Shine" (S-Sa 7:00a)
DESCRIPTION:
URL:https://staging.tricountycenter.org/event/rise-and-shine/2026-06-26/
LOCATION:Tri-county Center (Main Room)\, 2031 East Kemper Road\, Cincinnati\, OH\, 45241\, United States
CATEGORIES:AA Meetings,Meetings
ORGANIZER;CN="Tri-County%20Center":MAILTO:events@tricountycenter.org
END:VEVENT
BEGIN:VEVENT
DTSTART;TZID=America/New_York:20260625T193000
DTEND;TZID=America/New_York:20260625T203000
DTSTAMP:20260422T081727
CREATED:20230816T181156Z
LAST-MODIFIED:20230816T181156Z
UID:10010619-1782415800-1782419400@staging.tricountycenter.org
SUMMARY:"Valley Group" Lead Meeting (Th 7:30p)
DESCRIPTION:
URL:https://staging.tricountycenter.org/event/valley-group-lead-meeting-th-730p/2026-06-25/
LOCATION:Tri-county Center (Main Room)\, 2031 East Kemper Road\, Cincinnati\, OH\, 45241\, United States
CATEGORIES:AA Meetings,Meetings
ORGANIZER;CN="Tri-County%20Center":MAILTO:events@tricountycenter.org
END:VEVENT
BEGIN:VEVENT
DTSTART;TZID=America/New_York:20260625T190000
DTEND;TZID=America/New_York:20260625T200000
DTSTAMP:20260422T081727
CREATED:20230816T181015Z
LAST-MODIFIED:20230816T191709Z
UID:10010358-1782414000-1782417600@staging.tricountycenter.org
SUMMARY:"Thursday Night Women's Meeting"
DESCRIPTION:
URL:https://staging.tricountycenter.org/event/thursday-night-womens-meeting/2026-06-25/
LOCATION:Tri-county Center (Old Building)
CATEGORIES:AA Meetings,Meetings
ORGANIZER;CN="Tri-County%20Center":MAILTO:events@tricountycenter.org
END:VEVENT
BEGIN:VEVENT
DTSTART;TZID=America/New_York:20260625T170000
DTEND;TZID=America/New_York:20260625T180000
DTSTAMP:20260422T081727
CREATED:20230816T015857Z
LAST-MODIFIED:20230816T170243Z
UID:10003298-1782406800-1782410400@staging.tricountycenter.org
SUMMARY:Happy Hour Open Discussion (Th 5:30p)
DESCRIPTION:
URL:https://staging.tricountycenter.org/event/happy-hour-th-open-discussion-meeting/2026-06-25/
LOCATION:Tri-county Center (Main Room)\, 2031 East Kemper Road\, Cincinnati\, OH\, 45241\, United States
CATEGORIES:AA Meetings,Meetings
ORGANIZER;CN="Tri-County%20Center":MAILTO:events@tricountycenter.org
END:VEVENT
END:VCALENDAR