BEGIN:VCALENDAR
VERSION:2.0
PRODID:-//Tri-County Center - ECPv6.2.0.1//NONSGML v1.0//EN
CALSCALE:GREGORIAN
METHOD:PUBLISH
X-ORIGINAL-URL:https://staging.tricountycenter.org
X-WR-CALDESC:Events for Tri-County Center
REFRESH-INTERVAL;VALUE=DURATION:PT1H
X-Robots-Tag:noindex
X-PUBLISHED-TTL:PT1H
BEGIN:VTIMEZONE
TZID:America/New_York
BEGIN:DAYLIGHT
TZOFFSETFROM:-0500
TZOFFSETTO:-0400
TZNAME:EDT
DTSTART:20250309T070000
END:DAYLIGHT
BEGIN:STANDARD
TZOFFSETFROM:-0400
TZOFFSETTO:-0500
TZNAME:EST
DTSTART:20251102T060000
END:STANDARD
END:VTIMEZONE
BEGIN:VEVENT
DTSTART;TZID=America/New_York:20250529T070000
DTEND;TZID=America/New_York:20250529T080000
DTSTAMP:20260424T072623
CREATED:20230816T005850Z
LAST-MODIFIED:20230816T170243Z
UID:10000668-1748502000-1748505600@staging.tricountycenter.org
SUMMARY:"Rise and Shine" (S-Sa 7:00a)
DESCRIPTION:
URL:https://staging.tricountycenter.org/event/rise-and-shine/2025-05-29/
LOCATION:Tri-county Center (Main Room)\, 2031 East Kemper Road\, Cincinnati\, OH\, 45241\, United States
CATEGORIES:AA Meetings,Meetings
ORGANIZER;CN="Tri-County%20Center":MAILTO:events@tricountycenter.org
END:VEVENT
BEGIN:VEVENT
DTSTART;TZID=America/New_York:20250529T093000
DTEND;TZID=America/New_York:20250529T103000
DTSTAMP:20260424T072623
CREATED:20230816T022941Z
LAST-MODIFIED:20230816T175404Z
UID:10005334-1748511000-1748514600@staging.tricountycenter.org
SUMMARY:Big Book Study (Th 9:30a)
DESCRIPTION:
URL:https://staging.tricountycenter.org/event/big-book-study-th-930a/2025-05-29/
LOCATION:Tri-county Center (Main Room)\, 2031 East Kemper Road\, Cincinnati\, OH\, 45241\, United States
CATEGORIES:AA Meetings,Meetings
ORGANIZER;CN="Tri-County%20Center":MAILTO:events@tricountycenter.org
END:VEVENT
BEGIN:VEVENT
DTSTART;TZID=America/New_York:20250529T123000
DTEND;TZID=America/New_York:20250529T133000
DTSTAMP:20260424T072623
CREATED:20230816T023554Z
LAST-MODIFIED:20230816T175746Z
UID:10007162-1748521800-1748525400@staging.tricountycenter.org
SUMMARY:Old Timers Lead (Th 12:30p)
DESCRIPTION:
URL:https://staging.tricountycenter.org/event/old-timers-lead-th-1230p/2025-05-29/
LOCATION:Tri-county Center (Ball Room)\, 2031 East Kemper Road\, Cincinnati\, OH\, 45246\, United States
CATEGORIES:AA Meetings,Meetings
ORGANIZER;CN="Tri-County%20Center":MAILTO:events@tricountycenter.org
END:VEVENT
BEGIN:VEVENT
DTSTART;TZID=America/New_York:20250529T160000
DTEND;TZID=America/New_York:20250529T170000
DTSTAMP:20260424T072623
CREATED:20230816T023908Z
LAST-MODIFIED:20230816T170243Z
UID:10007982-1748534400-1748538000@staging.tricountycenter.org
SUMMARY:Closed Discussion (S-Sa 4:00p)
DESCRIPTION:
URL:https://staging.tricountycenter.org/event/closed-discussion-s-sa-400p/2025-05-29/
LOCATION:Tri-county Center (Main Room)\, 2031 East Kemper Road\, Cincinnati\, OH\, 45241\, United States
CATEGORIES:AA Meetings,Meetings
ORGANIZER;CN="Tri-County%20Center":MAILTO:events@tricountycenter.org
END:VEVENT
BEGIN:VEVENT
DTSTART;TZID=America/New_York:20250529T170000
DTEND;TZID=America/New_York:20250529T180000
DTSTAMP:20260424T072623
CREATED:20230816T015857Z
LAST-MODIFIED:20230816T170243Z
UID:10003242-1748538000-1748541600@staging.tricountycenter.org
SUMMARY:Happy Hour Open Discussion (Th 5:30p)
DESCRIPTION:
URL:https://staging.tricountycenter.org/event/happy-hour-th-open-discussion-meeting/2025-05-29/
LOCATION:Tri-county Center (Main Room)\, 2031 East Kemper Road\, Cincinnati\, OH\, 45241\, United States
CATEGORIES:AA Meetings,Meetings
ORGANIZER;CN="Tri-County%20Center":MAILTO:events@tricountycenter.org
END:VEVENT
BEGIN:VEVENT
DTSTART;TZID=America/New_York:20250529T190000
DTEND;TZID=America/New_York:20250529T200000
DTSTAMP:20260424T072623
CREATED:20230816T181015Z
LAST-MODIFIED:20230816T191709Z
UID:10010302-1748545200-1748548800@staging.tricountycenter.org
SUMMARY:"Thursday Night Women's Meeting"
DESCRIPTION:
URL:https://staging.tricountycenter.org/event/thursday-night-womens-meeting/2025-05-29/
LOCATION:Tri-county Center (Old Building)
CATEGORIES:AA Meetings,Meetings
ORGANIZER;CN="Tri-County%20Center":MAILTO:events@tricountycenter.org
END:VEVENT
BEGIN:VEVENT
DTSTART;TZID=America/New_York:20250529T193000
DTEND;TZID=America/New_York:20250529T203000
DTSTAMP:20260424T072623
CREATED:20230816T181156Z
LAST-MODIFIED:20230816T181156Z
UID:10010563-1748547000-1748550600@staging.tricountycenter.org
SUMMARY:"Valley Group" Lead Meeting (Th 7:30p)
DESCRIPTION:
URL:https://staging.tricountycenter.org/event/valley-group-lead-meeting-th-730p/2025-05-29/
LOCATION:Tri-county Center (Main Room)\, 2031 East Kemper Road\, Cincinnati\, OH\, 45241\, United States
CATEGORIES:AA Meetings,Meetings
ORGANIZER;CN="Tri-County%20Center":MAILTO:events@tricountycenter.org
END:VEVENT
BEGIN:VEVENT
DTSTART;TZID=America/New_York:20250530T070000
DTEND;TZID=America/New_York:20250530T080000
DTSTAMP:20260424T072623
CREATED:20230816T005850Z
LAST-MODIFIED:20230816T170243Z
UID:10000669-1748588400-1748592000@staging.tricountycenter.org
SUMMARY:"Rise and Shine" (S-Sa 7:00a)
DESCRIPTION:
URL:https://staging.tricountycenter.org/event/rise-and-shine/2025-05-30/
LOCATION:Tri-county Center (Main Room)\, 2031 East Kemper Road\, Cincinnati\, OH\, 45241\, United States
CATEGORIES:AA Meetings,Meetings
ORGANIZER;CN="Tri-County%20Center":MAILTO:events@tricountycenter.org
END:VEVENT
BEGIN:VEVENT
DTSTART;TZID=America/New_York:20250530T093000
DTEND;TZID=America/New_York:20250530T103000
DTSTAMP:20260424T072623
CREATED:20230816T020452Z
LAST-MODIFIED:20230816T175516Z
UID:10003952-1748597400-1748601000@staging.tricountycenter.org
SUMMARY:Open Discussion (M\, W\, F 930A)
DESCRIPTION:
URL:https://staging.tricountycenter.org/event/open-discussion-meeting-m-w-f-930a/2025-05-30/
LOCATION:Tri-county Center (Main Room)\, 2031 East Kemper Road\, Cincinnati\, OH\, 45241\, United States
CATEGORIES:AA Meetings,Meetings
ORGANIZER;CN="Tri-County%20Center":MAILTO:events@tricountycenter.org
END:VEVENT
BEGIN:VEVENT
DTSTART;TZID=America/New_York:20250530T123000
DTEND;TZID=America/New_York:20250530T133000
DTSTAMP:20260424T072623
CREATED:20230816T023257Z
LAST-MODIFIED:20230816T175850Z
UID:10006062-1748608200-1748611800@staging.tricountycenter.org
SUMMARY:Open Discussion (Su-W\, F-Sa 12:30p)
DESCRIPTION:
URL:https://staging.tricountycenter.org/event/open-discussion-su-w-f-sa-1230p/2025-05-30/
LOCATION:Tri-county Center (Main Room)\, 2031 East Kemper Road\, Cincinnati\, OH\, 45241\, United States
CATEGORIES:AA Meetings,Meetings
ORGANIZER;CN="Tri-County%20Center":MAILTO:events@tricountycenter.org
END:VEVENT
BEGIN:VEVENT
DTSTART;TZID=America/New_York:20250530T160000
DTEND;TZID=America/New_York:20250530T170000
DTSTAMP:20260424T072623
CREATED:20230816T023908Z
LAST-MODIFIED:20230816T170243Z
UID:10007983-1748620800-1748624400@staging.tricountycenter.org
SUMMARY:Closed Discussion (S-Sa 4:00p)
DESCRIPTION:
URL:https://staging.tricountycenter.org/event/closed-discussion-s-sa-400p/2025-05-30/
LOCATION:Tri-county Center (Main Room)\, 2031 East Kemper Road\, Cincinnati\, OH\, 45241\, United States
CATEGORIES:AA Meetings,Meetings
ORGANIZER;CN="Tri-County%20Center":MAILTO:events@tricountycenter.org
END:VEVENT
BEGIN:VEVENT
DTSTART;TZID=America/New_York:20250530T173000
DTEND;TZID=America/New_York:20250530T183000
DTSTAMP:20260424T072623
CREATED:20230816T015547Z
LAST-MODIFIED:20230816T174834Z
UID:10002310-1748626200-1748629800@staging.tricountycenter.org
SUMMARY:Happy Hour Open Discussion (M-W\, F-Sa 5:30p)
DESCRIPTION:
URL:https://staging.tricountycenter.org/event/happy-hour-m-w-f-sa-open-discussion-meeting/2025-05-30/
LOCATION:Tri-county Center (Main Room)\, 2031 East Kemper Road\, Cincinnati\, OH\, 45241\, United States
CATEGORIES:AA Meetings,Meetings
ORGANIZER;CN="Tri-County%20Center":MAILTO:events@tricountycenter.org
END:VEVENT
BEGIN:VEVENT
DTSTART;TZID=America/New_York:20250530T193000
DTEND;TZID=America/New_York:20250530T203000
DTSTAMP:20260424T072623
CREATED:20230816T181324Z
LAST-MODIFIED:20230816T181403Z
UID:10010825-1748633400-1748637000@staging.tricountycenter.org
SUMMARY:Lead Meeting (Fr 7:30p)
DESCRIPTION:
URL:https://staging.tricountycenter.org/event/lead-meeting-fr-730p/2025-05-30/
LOCATION:Tri-county Center (Main Room)\, 2031 East Kemper Road\, Cincinnati\, OH\, 45241\, United States
CATEGORIES:AA Meetings,Meetings
ORGANIZER;CN="Tri-County%20Center":MAILTO:events@tricountycenter.org
END:VEVENT
BEGIN:VEVENT
DTSTART;TZID=America/New_York:20250531T000000
DTEND;TZID=America/New_York:20250531T010000
DTSTAMP:20260424T072623
CREATED:20230816T181730Z
LAST-MODIFIED:20230816T182629Z
UID:10011608-1748649600-1748653200@staging.tricountycenter.org
SUMMARY:Midnight "It's Not Too Late" (Fr-Sa 11:59p)
DESCRIPTION:
URL:https://staging.tricountycenter.org/event/midnight-its-not-too-late-fr-sa-1159p/2025-05-31/
LOCATION:Tri-county Center (Old Building)
CATEGORIES:AA Meetings,Meetings
ORGANIZER;CN="Tri-County%20Center":MAILTO:events@tricountycenter.org
END:VEVENT
BEGIN:VEVENT
DTSTART;TZID=America/New_York:20250531T070000
DTEND;TZID=America/New_York:20250531T080000
DTSTAMP:20260424T072623
CREATED:20230816T005850Z
LAST-MODIFIED:20230816T170243Z
UID:10000670-1748674800-1748678400@staging.tricountycenter.org
SUMMARY:"Rise and Shine" (S-Sa 7:00a)
DESCRIPTION:
URL:https://staging.tricountycenter.org/event/rise-and-shine/2025-05-31/
LOCATION:Tri-county Center (Main Room)\, 2031 East Kemper Road\, Cincinnati\, OH\, 45241\, United States
CATEGORIES:AA Meetings,Meetings
ORGANIZER;CN="Tri-County%20Center":MAILTO:events@tricountycenter.org
END:VEVENT
BEGIN:VEVENT
DTSTART;TZID=America/New_York:20250531T091500
DTEND;TZID=America/New_York:20250531T104500
DTSTAMP:20260424T072623
CREATED:20230816T193939Z
LAST-MODIFIED:20230816T193939Z
UID:10012451-1748682900-1748688300@staging.tricountycenter.org
SUMMARY:Beginner's Meeting
DESCRIPTION:
URL:https://staging.tricountycenter.org/event/beginners-meeting/2025-05-31/
LOCATION:Tri-county Center (Main Room)\, 2031 East Kemper Road\, Cincinnati\, OH\, 45241\, United States
CATEGORIES:AA Meetings,Meetings
ORGANIZER;CN="Tri-County%20Center":MAILTO:events@tricountycenter.org
END:VEVENT
BEGIN:VEVENT
DTSTART;TZID=America/New_York:20250531T100000
DTEND;TZID=America/New_York:20250531T110000
DTSTAMP:20260424T072623
CREATED:20230816T194910Z
LAST-MODIFIED:20230816T195102Z
UID:10012712-1748685600-1748689200@staging.tricountycenter.org
SUMMARY:Al-Anon Family Groups Meeting
DESCRIPTION:
URL:https://staging.tricountycenter.org/event/al-anon-family-groups-meeting/2025-05-31/
LOCATION:Tri-county Center (Old Building)
CATEGORIES:Al-anon/Alateen Meetings,Meetings
ORGANIZER;CN="Tri-County%20Center":MAILTO:events@tricountycenter.org
END:VEVENT
BEGIN:VEVENT
DTSTART;TZID=America/New_York:20250531T123000
DTEND;TZID=America/New_York:20250531T133000
DTSTAMP:20260424T072623
CREATED:20230816T023257Z
LAST-MODIFIED:20230816T175850Z
UID:10006063-1748694600-1748698200@staging.tricountycenter.org
SUMMARY:Open Discussion (Su-W\, F-Sa 12:30p)
DESCRIPTION:
URL:https://staging.tricountycenter.org/event/open-discussion-su-w-f-sa-1230p/2025-05-31/
LOCATION:Tri-county Center (Main Room)\, 2031 East Kemper Road\, Cincinnati\, OH\, 45241\, United States
CATEGORIES:AA Meetings,Meetings
ORGANIZER;CN="Tri-County%20Center":MAILTO:events@tricountycenter.org
END:VEVENT
BEGIN:VEVENT
DTSTART;TZID=America/New_York:20250531T160000
DTEND;TZID=America/New_York:20250531T170000
DTSTAMP:20260424T072623
CREATED:20230816T023908Z
LAST-MODIFIED:20230816T170243Z
UID:10007984-1748707200-1748710800@staging.tricountycenter.org
SUMMARY:Closed Discussion (S-Sa 4:00p)
DESCRIPTION:
URL:https://staging.tricountycenter.org/event/closed-discussion-s-sa-400p/2025-05-31/
LOCATION:Tri-county Center (Main Room)\, 2031 East Kemper Road\, Cincinnati\, OH\, 45241\, United States
CATEGORIES:AA Meetings,Meetings
ORGANIZER;CN="Tri-County%20Center":MAILTO:events@tricountycenter.org
END:VEVENT
BEGIN:VEVENT
DTSTART;TZID=America/New_York:20250531T173000
DTEND;TZID=America/New_York:20250531T183000
DTSTAMP:20260424T072623
CREATED:20230816T015547Z
LAST-MODIFIED:20230816T174834Z
UID:10002311-1748712600-1748716200@staging.tricountycenter.org
SUMMARY:Happy Hour Open Discussion (M-W\, F-Sa 5:30p)
DESCRIPTION:
URL:https://staging.tricountycenter.org/event/happy-hour-m-w-f-sa-open-discussion-meeting/2025-05-31/
LOCATION:Tri-county Center (Main Room)\, 2031 East Kemper Road\, Cincinnati\, OH\, 45241\, United States
CATEGORIES:AA Meetings,Meetings
ORGANIZER;CN="Tri-County%20Center":MAILTO:events@tricountycenter.org
END:VEVENT
BEGIN:VEVENT
DTSTART;TZID=America/New_York:20250531T190000
DTEND;TZID=America/New_York:20250531T200000
DTSTAMP:20260424T072623
CREATED:20230816T193240Z
LAST-MODIFIED:20230816T193240Z
UID:10012319-1748718000-1748721600@staging.tricountycenter.org
SUMMARY:Monthly Anniversary Meeting
DESCRIPTION:
URL:https://staging.tricountycenter.org/event/monthly-anniversary-meeting/2025-05-31/
LOCATION:Tri-county Center (Main Room)\, 2031 East Kemper Road\, Cincinnati\, OH\, 45241\, United States
CATEGORIES:AA Meetings,Meetings
ORGANIZER;CN="Tri-County%20Center":MAILTO:events@tricountycenter.org
END:VEVENT
BEGIN:VEVENT
DTSTART;TZID=America/New_York:20250601T000000
DTEND;TZID=America/New_York:20250601T010000
DTSTAMP:20260424T072623
CREATED:20230816T181730Z
LAST-MODIFIED:20230816T182629Z
UID:10011869-1748736000-1748739600@staging.tricountycenter.org
SUMMARY:Midnight "It's Not Too Late" (Fr-Sa 11:59p)
DESCRIPTION:
URL:https://staging.tricountycenter.org/event/midnight-its-not-too-late-fr-sa-1159p/2025-06-01/
LOCATION:Tri-county Center (Old Building)
CATEGORIES:AA Meetings,Meetings
ORGANIZER;CN="Tri-County%20Center":MAILTO:events@tricountycenter.org
END:VEVENT
BEGIN:VEVENT
DTSTART;TZID=America/New_York:20250601T070000
DTEND;TZID=America/New_York:20250601T080000
DTSTAMP:20260424T072623
CREATED:20230816T005850Z
LAST-MODIFIED:20230816T170243Z
UID:10000671-1748761200-1748764800@staging.tricountycenter.org
SUMMARY:"Rise and Shine" (S-Sa 7:00a)
DESCRIPTION:
URL:https://staging.tricountycenter.org/event/rise-and-shine/2025-06-01/
LOCATION:Tri-county Center (Main Room)\, 2031 East Kemper Road\, Cincinnati\, OH\, 45241\, United States
CATEGORIES:AA Meetings,Meetings
ORGANIZER;CN="Tri-County%20Center":MAILTO:events@tricountycenter.org
END:VEVENT
BEGIN:VEVENT
DTSTART;TZID=America/New_York:20250601T090000
DTEND;TZID=America/New_York:20250601T100000
DTSTAMP:20260424T072623
CREATED:20230816T022633Z
LAST-MODIFIED:20230816T170243Z
UID:10004549-1748768400-1748772000@staging.tricountycenter.org
SUMMARY:“Fairfield Breakfast Club”
DESCRIPTION:
URL:https://staging.tricountycenter.org/event/fairfield-breakfast-club/2025-06-01/
LOCATION:Tri-county Center (Ball Room)\, 2031 East Kemper Road\, Cincinnati\, OH\, 45246\, United States
CATEGORIES:AA Meetings,Meetings
ORGANIZER;CN="Tri-County%20Center":MAILTO:events@tricountycenter.org
END:VEVENT
BEGIN:VEVENT
DTSTART;TZID=America/New_York:20250601T123000
DTEND;TZID=America/New_York:20250601T133000
DTSTAMP:20260424T072623
CREATED:20230816T023257Z
LAST-MODIFIED:20230816T175850Z
UID:10006064-1748781000-1748784600@staging.tricountycenter.org
SUMMARY:Open Discussion (Su-W\, F-Sa 12:30p)
DESCRIPTION:
URL:https://staging.tricountycenter.org/event/open-discussion-su-w-f-sa-1230p/2025-06-01/
LOCATION:Tri-county Center (Main Room)\, 2031 East Kemper Road\, Cincinnati\, OH\, 45241\, United States
CATEGORIES:AA Meetings,Meetings
ORGANIZER;CN="Tri-County%20Center":MAILTO:events@tricountycenter.org
END:VEVENT
BEGIN:VEVENT
DTSTART;TZID=America/New_York:20250601T160000
DTEND;TZID=America/New_York:20250601T170000
DTSTAMP:20260424T072623
CREATED:20230816T023908Z
LAST-MODIFIED:20230816T170243Z
UID:10007985-1748793600-1748797200@staging.tricountycenter.org
SUMMARY:Closed Discussion (S-Sa 4:00p)
DESCRIPTION:
URL:https://staging.tricountycenter.org/event/closed-discussion-s-sa-400p/2025-06-01/
LOCATION:Tri-county Center (Main Room)\, 2031 East Kemper Road\, Cincinnati\, OH\, 45241\, United States
CATEGORIES:AA Meetings,Meetings
ORGANIZER;CN="Tri-County%20Center":MAILTO:events@tricountycenter.org
END:VEVENT
BEGIN:VEVENT
DTSTART;TZID=America/New_York:20250601T190000
DTEND;TZID=America/New_York:20250601T200000
DTSTAMP:20260424T072623
CREATED:20230816T195217Z
LAST-MODIFIED:20230816T195217Z
UID:10013495-1748804400-1748808000@staging.tricountycenter.org
SUMMARY:Al-Anon Discussion
DESCRIPTION:
URL:https://staging.tricountycenter.org/event/al-anon-discussion/2025-06-01/
LOCATION:Tri-county Center (Old Building)
CATEGORIES:Al-anon/Alateen Meetings,Meetings
ORGANIZER;CN="Tri-County%20Center":MAILTO:events@tricountycenter.org
END:VEVENT
BEGIN:VEVENT
DTSTART;TZID=America/New_York:20250602T070000
DTEND;TZID=America/New_York:20250602T080000
DTSTAMP:20260424T072623
CREATED:20230816T005850Z
LAST-MODIFIED:20230816T170243Z
UID:10000672-1748847600-1748851200@staging.tricountycenter.org
SUMMARY:"Rise and Shine" (S-Sa 7:00a)
DESCRIPTION:
URL:https://staging.tricountycenter.org/event/rise-and-shine/2025-06-02/
LOCATION:Tri-county Center (Main Room)\, 2031 East Kemper Road\, Cincinnati\, OH\, 45241\, United States
CATEGORIES:AA Meetings,Meetings
ORGANIZER;CN="Tri-County%20Center":MAILTO:events@tricountycenter.org
END:VEVENT
BEGIN:VEVENT
DTSTART;TZID=America/New_York:20250602T093000
DTEND;TZID=America/New_York:20250602T103000
DTSTAMP:20260424T072623
CREATED:20230816T020452Z
LAST-MODIFIED:20230816T175516Z
UID:10003953-1748856600-1748860200@staging.tricountycenter.org
SUMMARY:Open Discussion (M\, W\, F 930A)
DESCRIPTION:
URL:https://staging.tricountycenter.org/event/open-discussion-meeting-m-w-f-930a/2025-06-02/
LOCATION:Tri-county Center (Main Room)\, 2031 East Kemper Road\, Cincinnati\, OH\, 45241\, United States
CATEGORIES:AA Meetings,Meetings
ORGANIZER;CN="Tri-County%20Center":MAILTO:events@tricountycenter.org
END:VEVENT
BEGIN:VEVENT
DTSTART;TZID=America/New_York:20250602T123000
DTEND;TZID=America/New_York:20250602T133000
DTSTAMP:20260424T072623
CREATED:20230816T023257Z
LAST-MODIFIED:20230816T175850Z
UID:10006065-1748867400-1748871000@staging.tricountycenter.org
SUMMARY:Open Discussion (Su-W\, F-Sa 12:30p)
DESCRIPTION:
URL:https://staging.tricountycenter.org/event/open-discussion-su-w-f-sa-1230p/2025-06-02/
LOCATION:Tri-county Center (Main Room)\, 2031 East Kemper Road\, Cincinnati\, OH\, 45241\, United States
CATEGORIES:AA Meetings,Meetings
ORGANIZER;CN="Tri-County%20Center":MAILTO:events@tricountycenter.org
END:VEVENT
END:VCALENDAR