BEGIN:VCALENDAR
VERSION:2.0
PRODID:-//Tri-County Center - ECPv6.2.0.1//NONSGML v1.0//EN
CALSCALE:GREGORIAN
METHOD:PUBLISH
X-WR-CALNAME:Tri-County Center
X-ORIGINAL-URL:https://staging.tricountycenter.org
X-WR-CALDESC:Events for Tri-County Center
REFRESH-INTERVAL;VALUE=DURATION:PT1H
X-Robots-Tag:noindex
X-PUBLISHED-TTL:PT1H
BEGIN:VTIMEZONE
TZID:America/New_York
BEGIN:DAYLIGHT
TZOFFSETFROM:-0500
TZOFFSETTO:-0400
TZNAME:EDT
DTSTART:20260308T070000
END:DAYLIGHT
BEGIN:STANDARD
TZOFFSETFROM:-0400
TZOFFSETTO:-0500
TZNAME:EST
DTSTART:20261101T060000
END:STANDARD
END:VTIMEZONE
BEGIN:VEVENT
DTSTART;TZID=America/New_York:20260307T190000
DTEND;TZID=America/New_York:20260307T200000
DTSTAMP:20260421T212447
CREATED:20230816T192837Z
LAST-MODIFIED:20230816T192958Z
UID:10012170-1772910000-1772913600@staging.tricountycenter.org
SUMMARY:Decade Plus Lead (Sa 7:00p)
DESCRIPTION:
URL:https://staging.tricountycenter.org/event/decade-plus-lead-sa-700p/2026-03-07/
LOCATION:Tri-county Center (Main Room)\, 2031 East Kemper Road\, Cincinnati\, OH\, 45241\, United States
CATEGORIES:AA Meetings,Meetings
ORGANIZER;CN="Tri-County%20Center":MAILTO:events@tricountycenter.org
END:VEVENT
BEGIN:VEVENT
DTSTART;TZID=America/New_York:20260307T173000
DTEND;TZID=America/New_York:20260307T183000
DTSTAMP:20260421T212447
CREATED:20230816T015547Z
LAST-MODIFIED:20230816T174834Z
UID:10002511-1772904600-1772908200@staging.tricountycenter.org
SUMMARY:Happy Hour Open Discussion (M-W\, F-Sa 5:30p)
DESCRIPTION:
URL:https://staging.tricountycenter.org/event/happy-hour-m-w-f-sa-open-discussion-meeting/2026-03-07/
LOCATION:Tri-county Center (Main Room)\, 2031 East Kemper Road\, Cincinnati\, OH\, 45241\, United States
CATEGORIES:AA Meetings,Meetings
ORGANIZER;CN="Tri-County%20Center":MAILTO:events@tricountycenter.org
END:VEVENT
BEGIN:VEVENT
DTSTART;TZID=America/New_York:20260307T160000
DTEND;TZID=America/New_York:20260307T170000
DTSTAMP:20260421T212447
CREATED:20230816T023908Z
LAST-MODIFIED:20230816T170243Z
UID:10008264-1772899200-1772902800@staging.tricountycenter.org
SUMMARY:Closed Discussion (S-Sa 4:00p)
DESCRIPTION:
URL:https://staging.tricountycenter.org/event/closed-discussion-s-sa-400p/2026-03-07/
LOCATION:Tri-county Center (Main Room)\, 2031 East Kemper Road\, Cincinnati\, OH\, 45241\, United States
CATEGORIES:AA Meetings,Meetings
ORGANIZER;CN="Tri-County%20Center":MAILTO:events@tricountycenter.org
END:VEVENT
BEGIN:VEVENT
DTSTART;TZID=America/New_York:20260307T123000
DTEND;TZID=America/New_York:20260307T133000
DTSTAMP:20260421T212447
CREATED:20230816T023257Z
LAST-MODIFIED:20230816T175850Z
UID:10006303-1772886600-1772890200@staging.tricountycenter.org
SUMMARY:Open Discussion (Su-W\, F-Sa 12:30p)
DESCRIPTION:
URL:https://staging.tricountycenter.org/event/open-discussion-su-w-f-sa-1230p/2026-03-07/
LOCATION:Tri-county Center (Main Room)\, 2031 East Kemper Road\, Cincinnati\, OH\, 45241\, United States
CATEGORIES:AA Meetings,Meetings
ORGANIZER;CN="Tri-County%20Center":MAILTO:events@tricountycenter.org
END:VEVENT
BEGIN:VEVENT
DTSTART;TZID=America/New_York:20260307T100000
DTEND;TZID=America/New_York:20260307T110000
DTSTAMP:20260421T212447
CREATED:20230816T194910Z
LAST-MODIFIED:20230816T195102Z
UID:10012752-1772877600-1772881200@staging.tricountycenter.org
SUMMARY:Al-Anon Family Groups Meeting
DESCRIPTION:
URL:https://staging.tricountycenter.org/event/al-anon-family-groups-meeting/2026-03-07/
LOCATION:Tri-county Center (Old Building)
CATEGORIES:Al-anon/Alateen Meetings,Meetings
ORGANIZER;CN="Tri-County%20Center":MAILTO:events@tricountycenter.org
END:VEVENT
BEGIN:VEVENT
DTSTART;TZID=America/New_York:20260307T091500
DTEND;TZID=America/New_York:20260307T104500
DTSTAMP:20260421T212447
CREATED:20230816T193939Z
LAST-MODIFIED:20230816T193939Z
UID:10012491-1772874900-1772880300@staging.tricountycenter.org
SUMMARY:Beginner's Meeting
DESCRIPTION:
URL:https://staging.tricountycenter.org/event/beginners-meeting/2026-03-07/
LOCATION:Tri-county Center (Main Room)\, 2031 East Kemper Road\, Cincinnati\, OH\, 45241\, United States
CATEGORIES:AA Meetings,Meetings
ORGANIZER;CN="Tri-County%20Center":MAILTO:events@tricountycenter.org
END:VEVENT
BEGIN:VEVENT
DTSTART;TZID=America/New_York:20260307T070000
DTEND;TZID=America/New_York:20260307T080000
DTSTAMP:20260421T212447
CREATED:20230816T005850Z
LAST-MODIFIED:20230816T170243Z
UID:10000950-1772866800-1772870400@staging.tricountycenter.org
SUMMARY:"Rise and Shine" (S-Sa 7:00a)
DESCRIPTION:
URL:https://staging.tricountycenter.org/event/rise-and-shine/2026-03-07/
LOCATION:Tri-county Center (Main Room)\, 2031 East Kemper Road\, Cincinnati\, OH\, 45241\, United States
CATEGORIES:AA Meetings,Meetings
ORGANIZER;CN="Tri-County%20Center":MAILTO:events@tricountycenter.org
END:VEVENT
BEGIN:VEVENT
DTSTART;TZID=America/New_York:20260307T000000
DTEND;TZID=America/New_York:20260307T010000
DTSTAMP:20260421T212447
CREATED:20230816T181730Z
LAST-MODIFIED:20230816T182629Z
UID:10011648-1772841600-1772845200@staging.tricountycenter.org
SUMMARY:Midnight "It's Not Too Late" (Fr-Sa 11:59p)
DESCRIPTION:
URL:https://staging.tricountycenter.org/event/midnight-its-not-too-late-fr-sa-1159p/2026-03-07/
LOCATION:Tri-county Center (Old Building)
CATEGORIES:AA Meetings,Meetings
ORGANIZER;CN="Tri-County%20Center":MAILTO:events@tricountycenter.org
END:VEVENT
BEGIN:VEVENT
DTSTART;TZID=America/New_York:20260306T193000
DTEND;TZID=America/New_York:20260306T203000
DTSTAMP:20260421T212447
CREATED:20230816T181324Z
LAST-MODIFIED:20230816T181403Z
UID:10010865-1772825400-1772829000@staging.tricountycenter.org
SUMMARY:Lead Meeting (Fr 7:30p)
DESCRIPTION:
URL:https://staging.tricountycenter.org/event/lead-meeting-fr-730p/2026-03-06/
LOCATION:Tri-county Center (Main Room)\, 2031 East Kemper Road\, Cincinnati\, OH\, 45241\, United States
CATEGORIES:AA Meetings,Meetings
ORGANIZER;CN="Tri-County%20Center":MAILTO:events@tricountycenter.org
END:VEVENT
BEGIN:VEVENT
DTSTART;TZID=America/New_York:20260306T173000
DTEND;TZID=America/New_York:20260306T183000
DTSTAMP:20260421T212448
CREATED:20230816T015547Z
LAST-MODIFIED:20230816T174834Z
UID:10002510-1772818200-1772821800@staging.tricountycenter.org
SUMMARY:Happy Hour Open Discussion (M-W\, F-Sa 5:30p)
DESCRIPTION:
URL:https://staging.tricountycenter.org/event/happy-hour-m-w-f-sa-open-discussion-meeting/2026-03-06/
LOCATION:Tri-county Center (Main Room)\, 2031 East Kemper Road\, Cincinnati\, OH\, 45241\, United States
CATEGORIES:AA Meetings,Meetings
ORGANIZER;CN="Tri-County%20Center":MAILTO:events@tricountycenter.org
END:VEVENT
BEGIN:VEVENT
DTSTART;TZID=America/New_York:20260306T160000
DTEND;TZID=America/New_York:20260306T170000
DTSTAMP:20260421T212448
CREATED:20230816T023908Z
LAST-MODIFIED:20230816T170243Z
UID:10008263-1772812800-1772816400@staging.tricountycenter.org
SUMMARY:Closed Discussion (S-Sa 4:00p)
DESCRIPTION:
URL:https://staging.tricountycenter.org/event/closed-discussion-s-sa-400p/2026-03-06/
LOCATION:Tri-county Center (Main Room)\, 2031 East Kemper Road\, Cincinnati\, OH\, 45241\, United States
CATEGORIES:AA Meetings,Meetings
ORGANIZER;CN="Tri-County%20Center":MAILTO:events@tricountycenter.org
END:VEVENT
BEGIN:VEVENT
DTSTART;TZID=America/New_York:20260306T123000
DTEND;TZID=America/New_York:20260306T133000
DTSTAMP:20260421T212448
CREATED:20230816T023257Z
LAST-MODIFIED:20230816T175850Z
UID:10006302-1772800200-1772803800@staging.tricountycenter.org
SUMMARY:Open Discussion (Su-W\, F-Sa 12:30p)
DESCRIPTION:
URL:https://staging.tricountycenter.org/event/open-discussion-su-w-f-sa-1230p/2026-03-06/
LOCATION:Tri-county Center (Main Room)\, 2031 East Kemper Road\, Cincinnati\, OH\, 45241\, United States
CATEGORIES:AA Meetings,Meetings
ORGANIZER;CN="Tri-County%20Center":MAILTO:events@tricountycenter.org
END:VEVENT
BEGIN:VEVENT
DTSTART;TZID=America/New_York:20260306T093000
DTEND;TZID=America/New_York:20260306T103000
DTSTAMP:20260421T212448
CREATED:20230816T020452Z
LAST-MODIFIED:20230816T175516Z
UID:10004072-1772789400-1772793000@staging.tricountycenter.org
SUMMARY:Open Discussion (M\, W\, F 930A)
DESCRIPTION:
URL:https://staging.tricountycenter.org/event/open-discussion-meeting-m-w-f-930a/2026-03-06/
LOCATION:Tri-county Center (Main Room)\, 2031 East Kemper Road\, Cincinnati\, OH\, 45241\, United States
CATEGORIES:AA Meetings,Meetings
ORGANIZER;CN="Tri-County%20Center":MAILTO:events@tricountycenter.org
END:VEVENT
BEGIN:VEVENT
DTSTART;TZID=America/New_York:20260306T070000
DTEND;TZID=America/New_York:20260306T080000
DTSTAMP:20260421T212448
CREATED:20230816T005850Z
LAST-MODIFIED:20230816T170243Z
UID:10000949-1772780400-1772784000@staging.tricountycenter.org
SUMMARY:"Rise and Shine" (S-Sa 7:00a)
DESCRIPTION:
URL:https://staging.tricountycenter.org/event/rise-and-shine/2026-03-06/
LOCATION:Tri-county Center (Main Room)\, 2031 East Kemper Road\, Cincinnati\, OH\, 45241\, United States
CATEGORIES:AA Meetings,Meetings
ORGANIZER;CN="Tri-County%20Center":MAILTO:events@tricountycenter.org
END:VEVENT
BEGIN:VEVENT
DTSTART;TZID=America/New_York:20260305T193000
DTEND;TZID=America/New_York:20260305T203000
DTSTAMP:20260421T212448
CREATED:20230816T181156Z
LAST-MODIFIED:20230816T181156Z
UID:10010603-1772739000-1772742600@staging.tricountycenter.org
SUMMARY:"Valley Group" Lead Meeting (Th 7:30p)
DESCRIPTION:
URL:https://staging.tricountycenter.org/event/valley-group-lead-meeting-th-730p/2026-03-05/
LOCATION:Tri-county Center (Main Room)\, 2031 East Kemper Road\, Cincinnati\, OH\, 45241\, United States
CATEGORIES:AA Meetings,Meetings
ORGANIZER;CN="Tri-County%20Center":MAILTO:events@tricountycenter.org
END:VEVENT
BEGIN:VEVENT
DTSTART;TZID=America/New_York:20260305T190000
DTEND;TZID=America/New_York:20260305T200000
DTSTAMP:20260421T212448
CREATED:20230816T181015Z
LAST-MODIFIED:20230816T191709Z
UID:10010342-1772737200-1772740800@staging.tricountycenter.org
SUMMARY:"Thursday Night Women's Meeting"
DESCRIPTION:
URL:https://staging.tricountycenter.org/event/thursday-night-womens-meeting/2026-03-05/
LOCATION:Tri-county Center (Old Building)
CATEGORIES:AA Meetings,Meetings
ORGANIZER;CN="Tri-County%20Center":MAILTO:events@tricountycenter.org
END:VEVENT
BEGIN:VEVENT
DTSTART;TZID=America/New_York:20260305T170000
DTEND;TZID=America/New_York:20260305T180000
DTSTAMP:20260421T212448
CREATED:20230816T015857Z
LAST-MODIFIED:20230816T170243Z
UID:10003282-1772730000-1772733600@staging.tricountycenter.org
SUMMARY:Happy Hour Open Discussion (Th 5:30p)
DESCRIPTION:
URL:https://staging.tricountycenter.org/event/happy-hour-th-open-discussion-meeting/2026-03-05/
LOCATION:Tri-county Center (Main Room)\, 2031 East Kemper Road\, Cincinnati\, OH\, 45241\, United States
CATEGORIES:AA Meetings,Meetings
ORGANIZER;CN="Tri-County%20Center":MAILTO:events@tricountycenter.org
END:VEVENT
BEGIN:VEVENT
DTSTART;TZID=America/New_York:20260305T160000
DTEND;TZID=America/New_York:20260305T170000
DTSTAMP:20260421T212448
CREATED:20230816T023908Z
LAST-MODIFIED:20230816T170243Z
UID:10008262-1772726400-1772730000@staging.tricountycenter.org
SUMMARY:Closed Discussion (S-Sa 4:00p)
DESCRIPTION:
URL:https://staging.tricountycenter.org/event/closed-discussion-s-sa-400p/2026-03-05/
LOCATION:Tri-county Center (Main Room)\, 2031 East Kemper Road\, Cincinnati\, OH\, 45241\, United States
CATEGORIES:AA Meetings,Meetings
ORGANIZER;CN="Tri-County%20Center":MAILTO:events@tricountycenter.org
END:VEVENT
BEGIN:VEVENT
DTSTART;TZID=America/New_York:20260305T123000
DTEND;TZID=America/New_York:20260305T133000
DTSTAMP:20260421T212448
CREATED:20230816T023554Z
LAST-MODIFIED:20230816T175746Z
UID:10007202-1772713800-1772717400@staging.tricountycenter.org
SUMMARY:Old Timers Lead (Th 12:30p)
DESCRIPTION:
URL:https://staging.tricountycenter.org/event/old-timers-lead-th-1230p/2026-03-05/
LOCATION:Tri-county Center (Ball Room)\, 2031 East Kemper Road\, Cincinnati\, OH\, 45246\, United States
CATEGORIES:AA Meetings,Meetings
ORGANIZER;CN="Tri-County%20Center":MAILTO:events@tricountycenter.org
END:VEVENT
BEGIN:VEVENT
DTSTART;TZID=America/New_York:20260305T093000
DTEND;TZID=America/New_York:20260305T103000
DTSTAMP:20260421T212448
CREATED:20230816T022941Z
LAST-MODIFIED:20230816T175404Z
UID:10005374-1772703000-1772706600@staging.tricountycenter.org
SUMMARY:Big Book Study (Th 9:30a)
DESCRIPTION:
URL:https://staging.tricountycenter.org/event/big-book-study-th-930a/2026-03-05/
LOCATION:Tri-county Center (Main Room)\, 2031 East Kemper Road\, Cincinnati\, OH\, 45241\, United States
CATEGORIES:AA Meetings,Meetings
ORGANIZER;CN="Tri-County%20Center":MAILTO:events@tricountycenter.org
END:VEVENT
BEGIN:VEVENT
DTSTART;TZID=America/New_York:20260305T070000
DTEND;TZID=America/New_York:20260305T080000
DTSTAMP:20260421T212448
CREATED:20230816T005850Z
LAST-MODIFIED:20230816T170243Z
UID:10000948-1772694000-1772697600@staging.tricountycenter.org
SUMMARY:"Rise and Shine" (S-Sa 7:00a)
DESCRIPTION:
URL:https://staging.tricountycenter.org/event/rise-and-shine/2026-03-05/
LOCATION:Tri-county Center (Main Room)\, 2031 East Kemper Road\, Cincinnati\, OH\, 45241\, United States
CATEGORIES:AA Meetings,Meetings
ORGANIZER;CN="Tri-County%20Center":MAILTO:events@tricountycenter.org
END:VEVENT
BEGIN:VEVENT
DTSTART;TZID=America/New_York:20260304T193000
DTEND;TZID=America/New_York:20260304T203000
DTSTAMP:20260421T212448
CREATED:20230816T113223Z
LAST-MODIFIED:20230816T182127Z
UID:10010077-1772652600-1772656200@staging.tricountycenter.org
SUMMARY:Big Book Discussion (W 7:30p)
DESCRIPTION:
URL:https://staging.tricountycenter.org/event/big-book-discussion-w-730p/2026-03-04/
LOCATION:Tri-county Center (Main Room)\, 2031 East Kemper Road\, Cincinnati\, OH\, 45241\, United States
CATEGORIES:AA Meetings,Meetings
ORGANIZER;CN="Tri-County%20Center":MAILTO:events@tricountycenter.org
END:VEVENT
BEGIN:VEVENT
DTSTART;TZID=America/New_York:20260304T190000
DTEND;TZID=America/New_York:20260304T200000
DTSTAMP:20260421T212448
CREATED:20230816T113008Z
LAST-MODIFIED:20230816T170243Z
UID:10009815-1772650800-1772654400@staging.tricountycenter.org
SUMMARY:"Cold Nickel" Men's Closed Discussion (W 7:00p)
DESCRIPTION:
URL:https://staging.tricountycenter.org/event/cold-nickel-mens-closed-discussion-w-700p/2026-03-04/
LOCATION:Tri-county Center (Old Building)
CATEGORIES:AA Meetings,Meetings
ORGANIZER;CN="Tri-County%20Center":MAILTO:events@tricountycenter.org
END:VEVENT
BEGIN:VEVENT
DTSTART;TZID=America/New_York:20260304T173000
DTEND;TZID=America/New_York:20260304T183000
DTSTAMP:20260421T212448
CREATED:20230816T015547Z
LAST-MODIFIED:20230816T174834Z
UID:10002509-1772645400-1772649000@staging.tricountycenter.org
SUMMARY:Happy Hour Open Discussion (M-W\, F-Sa 5:30p)
DESCRIPTION:
URL:https://staging.tricountycenter.org/event/happy-hour-m-w-f-sa-open-discussion-meeting/2026-03-04/
LOCATION:Tri-county Center (Main Room)\, 2031 East Kemper Road\, Cincinnati\, OH\, 45241\, United States
CATEGORIES:AA Meetings,Meetings
ORGANIZER;CN="Tri-County%20Center":MAILTO:events@tricountycenter.org
END:VEVENT
BEGIN:VEVENT
DTSTART;TZID=America/New_York:20260304T160000
DTEND;TZID=America/New_York:20260304T170000
DTSTAMP:20260421T212448
CREATED:20230816T112911Z
LAST-MODIFIED:20230816T170243Z
UID:10009553-1772640000-1772643600@staging.tricountycenter.org
SUMMARY:"Elevation" (W - 4:00p)
DESCRIPTION:
URL:https://staging.tricountycenter.org/event/elevation-w-400p/2026-03-04/
LOCATION:Tri-county Center (Old Building)
CATEGORIES:Meetings
ORGANIZER;CN="Tri-County%20Center":MAILTO:events@tricountycenter.org
END:VEVENT
BEGIN:VEVENT
DTSTART;TZID=America/New_York:20260304T160000
DTEND;TZID=America/New_York:20260304T170000
DTSTAMP:20260421T212448
CREATED:20230816T023908Z
LAST-MODIFIED:20230816T170243Z
UID:10008261-1772640000-1772643600@staging.tricountycenter.org
SUMMARY:Closed Discussion (S-Sa 4:00p)
DESCRIPTION:
URL:https://staging.tricountycenter.org/event/closed-discussion-s-sa-400p/2026-03-04/
LOCATION:Tri-county Center (Main Room)\, 2031 East Kemper Road\, Cincinnati\, OH\, 45241\, United States
CATEGORIES:AA Meetings,Meetings
ORGANIZER;CN="Tri-County%20Center":MAILTO:events@tricountycenter.org
END:VEVENT
BEGIN:VEVENT
DTSTART;TZID=America/New_York:20260304T123000
DTEND;TZID=America/New_York:20260304T133000
DTSTAMP:20260421T212448
CREATED:20230816T023257Z
LAST-MODIFIED:20230816T175850Z
UID:10006301-1772627400-1772631000@staging.tricountycenter.org
SUMMARY:Open Discussion (Su-W\, F-Sa 12:30p)
DESCRIPTION:
URL:https://staging.tricountycenter.org/event/open-discussion-su-w-f-sa-1230p/2026-03-04/
LOCATION:Tri-county Center (Main Room)\, 2031 East Kemper Road\, Cincinnati\, OH\, 45241\, United States
CATEGORIES:AA Meetings,Meetings
ORGANIZER;CN="Tri-County%20Center":MAILTO:events@tricountycenter.org
END:VEVENT
BEGIN:VEVENT
DTSTART;TZID=America/New_York:20260304T093000
DTEND;TZID=America/New_York:20260304T103000
DTSTAMP:20260421T212448
CREATED:20230816T020452Z
LAST-MODIFIED:20230816T175516Z
UID:10004071-1772616600-1772620200@staging.tricountycenter.org
SUMMARY:Open Discussion (M\, W\, F 930A)
DESCRIPTION:
URL:https://staging.tricountycenter.org/event/open-discussion-meeting-m-w-f-930a/2026-03-04/
LOCATION:Tri-county Center (Main Room)\, 2031 East Kemper Road\, Cincinnati\, OH\, 45241\, United States
CATEGORIES:AA Meetings,Meetings
ORGANIZER;CN="Tri-County%20Center":MAILTO:events@tricountycenter.org
END:VEVENT
BEGIN:VEVENT
DTSTART;TZID=America/New_York:20260304T070000
DTEND;TZID=America/New_York:20260304T080000
DTSTAMP:20260421T212448
CREATED:20230816T005850Z
LAST-MODIFIED:20230816T170243Z
UID:10000947-1772607600-1772611200@staging.tricountycenter.org
SUMMARY:"Rise and Shine" (S-Sa 7:00a)
DESCRIPTION:
URL:https://staging.tricountycenter.org/event/rise-and-shine/2026-03-04/
LOCATION:Tri-county Center (Main Room)\, 2031 East Kemper Road\, Cincinnati\, OH\, 45241\, United States
CATEGORIES:AA Meetings,Meetings
ORGANIZER;CN="Tri-County%20Center":MAILTO:events@tricountycenter.org
END:VEVENT
BEGIN:VEVENT
DTSTART;TZID=America/New_York:20260303T173000
DTEND;TZID=America/New_York:20260303T183000
DTSTAMP:20260421T212448
CREATED:20230816T015547Z
LAST-MODIFIED:20230816T174834Z
UID:10002508-1772559000-1772562600@staging.tricountycenter.org
SUMMARY:Happy Hour Open Discussion (M-W\, F-Sa 5:30p)
DESCRIPTION:
URL:https://staging.tricountycenter.org/event/happy-hour-m-w-f-sa-open-discussion-meeting/2026-03-03/
LOCATION:Tri-county Center (Main Room)\, 2031 East Kemper Road\, Cincinnati\, OH\, 45241\, United States
CATEGORIES:AA Meetings,Meetings
ORGANIZER;CN="Tri-County%20Center":MAILTO:events@tricountycenter.org
END:VEVENT
END:VCALENDAR