BEGIN:VCALENDAR
VERSION:2.0
PRODID:-//Tri-County Center - ECPv6.2.0.1//NONSGML v1.0//EN
CALSCALE:GREGORIAN
METHOD:PUBLISH
X-WR-CALNAME:Tri-County Center
X-ORIGINAL-URL:https://staging.tricountycenter.org
X-WR-CALDESC:Events for Tri-County Center
REFRESH-INTERVAL;VALUE=DURATION:PT1H
X-Robots-Tag:noindex
X-PUBLISHED-TTL:PT1H
BEGIN:VTIMEZONE
TZID:America/New_York
BEGIN:DAYLIGHT
TZOFFSETFROM:-0500
TZOFFSETTO:-0400
TZNAME:EDT
DTSTART:20280312T070000
END:DAYLIGHT
BEGIN:STANDARD
TZOFFSETFROM:-0400
TZOFFSETTO:-0500
TZNAME:EST
DTSTART:20281105T060000
END:STANDARD
END:VTIMEZONE
BEGIN:VEVENT
DTSTART;TZID=America/New_York:20280226T100000
DTEND;TZID=America/New_York:20280226T110000
DTSTAMP:20260423T072837
CREATED:20230816T194910Z
LAST-MODIFIED:20230816T195102Z
UID:10012855-1835172000-1835175600@staging.tricountycenter.org
SUMMARY:Al-Anon Family Groups Meeting
DESCRIPTION:
URL:https://staging.tricountycenter.org/event/al-anon-family-groups-meeting/2028-02-26/
LOCATION:Tri-county Center (Old Building)
CATEGORIES:Al-anon/Alateen Meetings,Meetings
ORGANIZER;CN="Tri-County%20Center":MAILTO:events@tricountycenter.org
END:VEVENT
BEGIN:VEVENT
DTSTART;TZID=America/New_York:20280227T190000
DTEND;TZID=America/New_York:20280227T200000
DTSTAMP:20260423T072837
CREATED:20230816T195217Z
LAST-MODIFIED:20230816T195217Z
UID:10013638-1835290800-1835294400@staging.tricountycenter.org
SUMMARY:Al-Anon Discussion
DESCRIPTION:
URL:https://staging.tricountycenter.org/event/al-anon-discussion/2028-02-27/
LOCATION:Tri-county Center (Old Building)
CATEGORIES:Al-anon/Alateen Meetings,Meetings
ORGANIZER;CN="Tri-County%20Center":MAILTO:events@tricountycenter.org
END:VEVENT
BEGIN:VEVENT
DTSTART;TZID=America/New_York:20280304T100000
DTEND;TZID=America/New_York:20280304T110000
DTSTAMP:20260423T072837
CREATED:20230816T194910Z
LAST-MODIFIED:20230816T195102Z
UID:10012856-1835776800-1835780400@staging.tricountycenter.org
SUMMARY:Al-Anon Family Groups Meeting
DESCRIPTION:
URL:https://staging.tricountycenter.org/event/al-anon-family-groups-meeting/2028-03-04/
LOCATION:Tri-county Center (Old Building)
CATEGORIES:Al-anon/Alateen Meetings,Meetings
ORGANIZER;CN="Tri-County%20Center":MAILTO:events@tricountycenter.org
END:VEVENT
BEGIN:VEVENT
DTSTART;TZID=America/New_York:20280305T190000
DTEND;TZID=America/New_York:20280305T200000
DTSTAMP:20260423T072837
CREATED:20230816T195217Z
LAST-MODIFIED:20230816T195217Z
UID:10013639-1835895600-1835899200@staging.tricountycenter.org
SUMMARY:Al-Anon Discussion
DESCRIPTION:
URL:https://staging.tricountycenter.org/event/al-anon-discussion/2028-03-05/
LOCATION:Tri-county Center (Old Building)
CATEGORIES:Al-anon/Alateen Meetings,Meetings
ORGANIZER;CN="Tri-County%20Center":MAILTO:events@tricountycenter.org
END:VEVENT
BEGIN:VEVENT
DTSTART;TZID=America/New_York:20280311T100000
DTEND;TZID=America/New_York:20280311T110000
DTSTAMP:20260423T072837
CREATED:20230816T194910Z
LAST-MODIFIED:20230816T195102Z
UID:10012857-1836381600-1836385200@staging.tricountycenter.org
SUMMARY:Al-Anon Family Groups Meeting
DESCRIPTION:
URL:https://staging.tricountycenter.org/event/al-anon-family-groups-meeting/2028-03-11/
LOCATION:Tri-county Center (Old Building)
CATEGORIES:Al-anon/Alateen Meetings,Meetings
ORGANIZER;CN="Tri-County%20Center":MAILTO:events@tricountycenter.org
END:VEVENT
BEGIN:VEVENT
DTSTART;TZID=America/New_York:20280312T190000
DTEND;TZID=America/New_York:20280312T200000
DTSTAMP:20260423T072837
CREATED:20230816T195217Z
LAST-MODIFIED:20230816T195217Z
UID:10013640-1836500400-1836504000@staging.tricountycenter.org
SUMMARY:Al-Anon Discussion
DESCRIPTION:
URL:https://staging.tricountycenter.org/event/al-anon-discussion/2028-03-12/
LOCATION:Tri-county Center (Old Building)
CATEGORIES:Al-anon/Alateen Meetings,Meetings
ORGANIZER;CN="Tri-County%20Center":MAILTO:events@tricountycenter.org
END:VEVENT
BEGIN:VEVENT
DTSTART;TZID=America/New_York:20280318T100000
DTEND;TZID=America/New_York:20280318T110000
DTSTAMP:20260423T072837
CREATED:20230816T194910Z
LAST-MODIFIED:20230816T195102Z
UID:10012858-1836986400-1836990000@staging.tricountycenter.org
SUMMARY:Al-Anon Family Groups Meeting
DESCRIPTION:
URL:https://staging.tricountycenter.org/event/al-anon-family-groups-meeting/2028-03-18/
LOCATION:Tri-county Center (Old Building)
CATEGORIES:Al-anon/Alateen Meetings,Meetings
ORGANIZER;CN="Tri-County%20Center":MAILTO:events@tricountycenter.org
END:VEVENT
BEGIN:VEVENT
DTSTART;TZID=America/New_York:20280319T190000
DTEND;TZID=America/New_York:20280319T200000
DTSTAMP:20260423T072837
CREATED:20230816T195217Z
LAST-MODIFIED:20230816T195217Z
UID:10013641-1837105200-1837108800@staging.tricountycenter.org
SUMMARY:Al-Anon Discussion
DESCRIPTION:
URL:https://staging.tricountycenter.org/event/al-anon-discussion/2028-03-19/
LOCATION:Tri-county Center (Old Building)
CATEGORIES:Al-anon/Alateen Meetings,Meetings
ORGANIZER;CN="Tri-County%20Center":MAILTO:events@tricountycenter.org
END:VEVENT
BEGIN:VEVENT
DTSTART;TZID=America/New_York:20280325T100000
DTEND;TZID=America/New_York:20280325T110000
DTSTAMP:20260423T072837
CREATED:20230816T194910Z
LAST-MODIFIED:20230816T195102Z
UID:10012859-1837591200-1837594800@staging.tricountycenter.org
SUMMARY:Al-Anon Family Groups Meeting
DESCRIPTION:
URL:https://staging.tricountycenter.org/event/al-anon-family-groups-meeting/2028-03-25/
LOCATION:Tri-county Center (Old Building)
CATEGORIES:Al-anon/Alateen Meetings,Meetings
ORGANIZER;CN="Tri-County%20Center":MAILTO:events@tricountycenter.org
END:VEVENT
BEGIN:VEVENT
DTSTART;TZID=America/New_York:20280326T190000
DTEND;TZID=America/New_York:20280326T200000
DTSTAMP:20260423T072837
CREATED:20230816T195217Z
LAST-MODIFIED:20230816T195217Z
UID:10013642-1837710000-1837713600@staging.tricountycenter.org
SUMMARY:Al-Anon Discussion
DESCRIPTION:
URL:https://staging.tricountycenter.org/event/al-anon-discussion/2028-03-26/
LOCATION:Tri-county Center (Old Building)
CATEGORIES:Al-anon/Alateen Meetings,Meetings
ORGANIZER;CN="Tri-County%20Center":MAILTO:events@tricountycenter.org
END:VEVENT
BEGIN:VEVENT
DTSTART;TZID=America/New_York:20280401T100000
DTEND;TZID=America/New_York:20280401T110000
DTSTAMP:20260423T072837
CREATED:20230816T194910Z
LAST-MODIFIED:20230816T195102Z
UID:10012860-1838196000-1838199600@staging.tricountycenter.org
SUMMARY:Al-Anon Family Groups Meeting
DESCRIPTION:
URL:https://staging.tricountycenter.org/event/al-anon-family-groups-meeting/2028-04-01/
LOCATION:Tri-county Center (Old Building)
CATEGORIES:Al-anon/Alateen Meetings,Meetings
ORGANIZER;CN="Tri-County%20Center":MAILTO:events@tricountycenter.org
END:VEVENT
BEGIN:VEVENT
DTSTART;TZID=America/New_York:20280402T190000
DTEND;TZID=America/New_York:20280402T200000
DTSTAMP:20260423T072837
CREATED:20230816T195217Z
LAST-MODIFIED:20230816T195217Z
UID:10013643-1838314800-1838318400@staging.tricountycenter.org
SUMMARY:Al-Anon Discussion
DESCRIPTION:
URL:https://staging.tricountycenter.org/event/al-anon-discussion/2028-04-02/
LOCATION:Tri-county Center (Old Building)
CATEGORIES:Al-anon/Alateen Meetings,Meetings
ORGANIZER;CN="Tri-County%20Center":MAILTO:events@tricountycenter.org
END:VEVENT
BEGIN:VEVENT
DTSTART;TZID=America/New_York:20280408T100000
DTEND;TZID=America/New_York:20280408T110000
DTSTAMP:20260423T072837
CREATED:20230816T194910Z
LAST-MODIFIED:20230816T195102Z
UID:10012861-1838800800-1838804400@staging.tricountycenter.org
SUMMARY:Al-Anon Family Groups Meeting
DESCRIPTION:
URL:https://staging.tricountycenter.org/event/al-anon-family-groups-meeting/2028-04-08/
LOCATION:Tri-county Center (Old Building)
CATEGORIES:Al-anon/Alateen Meetings,Meetings
ORGANIZER;CN="Tri-County%20Center":MAILTO:events@tricountycenter.org
END:VEVENT
BEGIN:VEVENT
DTSTART;TZID=America/New_York:20280409T190000
DTEND;TZID=America/New_York:20280409T200000
DTSTAMP:20260423T072837
CREATED:20230816T195217Z
LAST-MODIFIED:20230816T195217Z
UID:10013644-1838919600-1838923200@staging.tricountycenter.org
SUMMARY:Al-Anon Discussion
DESCRIPTION:
URL:https://staging.tricountycenter.org/event/al-anon-discussion/2028-04-09/
LOCATION:Tri-county Center (Old Building)
CATEGORIES:Al-anon/Alateen Meetings,Meetings
ORGANIZER;CN="Tri-County%20Center":MAILTO:events@tricountycenter.org
END:VEVENT
BEGIN:VEVENT
DTSTART;TZID=America/New_York:20280415T100000
DTEND;TZID=America/New_York:20280415T110000
DTSTAMP:20260423T072837
CREATED:20230816T194910Z
LAST-MODIFIED:20230816T195102Z
UID:10012862-1839405600-1839409200@staging.tricountycenter.org
SUMMARY:Al-Anon Family Groups Meeting
DESCRIPTION:
URL:https://staging.tricountycenter.org/event/al-anon-family-groups-meeting/2028-04-15/
LOCATION:Tri-county Center (Old Building)
CATEGORIES:Al-anon/Alateen Meetings,Meetings
ORGANIZER;CN="Tri-County%20Center":MAILTO:events@tricountycenter.org
END:VEVENT
BEGIN:VEVENT
DTSTART;TZID=America/New_York:20280416T190000
DTEND;TZID=America/New_York:20280416T200000
DTSTAMP:20260423T072837
CREATED:20230816T195217Z
LAST-MODIFIED:20230816T195217Z
UID:10013645-1839524400-1839528000@staging.tricountycenter.org
SUMMARY:Al-Anon Discussion
DESCRIPTION:
URL:https://staging.tricountycenter.org/event/al-anon-discussion/2028-04-16/
LOCATION:Tri-county Center (Old Building)
CATEGORIES:Al-anon/Alateen Meetings,Meetings
ORGANIZER;CN="Tri-County%20Center":MAILTO:events@tricountycenter.org
END:VEVENT
BEGIN:VEVENT
DTSTART;TZID=America/New_York:20280422T100000
DTEND;TZID=America/New_York:20280422T110000
DTSTAMP:20260423T072837
CREATED:20230816T194910Z
LAST-MODIFIED:20230816T195102Z
UID:10012863-1840010400-1840014000@staging.tricountycenter.org
SUMMARY:Al-Anon Family Groups Meeting
DESCRIPTION:
URL:https://staging.tricountycenter.org/event/al-anon-family-groups-meeting/2028-04-22/
LOCATION:Tri-county Center (Old Building)
CATEGORIES:Al-anon/Alateen Meetings,Meetings
ORGANIZER;CN="Tri-County%20Center":MAILTO:events@tricountycenter.org
END:VEVENT
BEGIN:VEVENT
DTSTART;TZID=America/New_York:20280423T190000
DTEND;TZID=America/New_York:20280423T200000
DTSTAMP:20260423T072837
CREATED:20230816T195217Z
LAST-MODIFIED:20230816T195217Z
UID:10013646-1840129200-1840132800@staging.tricountycenter.org
SUMMARY:Al-Anon Discussion
DESCRIPTION:
URL:https://staging.tricountycenter.org/event/al-anon-discussion/2028-04-23/
LOCATION:Tri-county Center (Old Building)
CATEGORIES:Al-anon/Alateen Meetings,Meetings
ORGANIZER;CN="Tri-County%20Center":MAILTO:events@tricountycenter.org
END:VEVENT
BEGIN:VEVENT
DTSTART;TZID=America/New_York:20280429T100000
DTEND;TZID=America/New_York:20280429T110000
DTSTAMP:20260423T072837
CREATED:20230816T194910Z
LAST-MODIFIED:20230816T195102Z
UID:10012864-1840615200-1840618800@staging.tricountycenter.org
SUMMARY:Al-Anon Family Groups Meeting
DESCRIPTION:
URL:https://staging.tricountycenter.org/event/al-anon-family-groups-meeting/2028-04-29/
LOCATION:Tri-county Center (Old Building)
CATEGORIES:Al-anon/Alateen Meetings,Meetings
ORGANIZER;CN="Tri-County%20Center":MAILTO:events@tricountycenter.org
END:VEVENT
BEGIN:VEVENT
DTSTART;TZID=America/New_York:20280430T190000
DTEND;TZID=America/New_York:20280430T200000
DTSTAMP:20260423T072837
CREATED:20230816T195217Z
LAST-MODIFIED:20230816T195217Z
UID:10013647-1840734000-1840737600@staging.tricountycenter.org
SUMMARY:Al-Anon Discussion
DESCRIPTION:
URL:https://staging.tricountycenter.org/event/al-anon-discussion/2028-04-30/
LOCATION:Tri-county Center (Old Building)
CATEGORIES:Al-anon/Alateen Meetings,Meetings
ORGANIZER;CN="Tri-County%20Center":MAILTO:events@tricountycenter.org
END:VEVENT
BEGIN:VEVENT
DTSTART;TZID=America/New_York:20280506T100000
DTEND;TZID=America/New_York:20280506T110000
DTSTAMP:20260423T072837
CREATED:20230816T194910Z
LAST-MODIFIED:20230816T195102Z
UID:10012865-1841220000-1841223600@staging.tricountycenter.org
SUMMARY:Al-Anon Family Groups Meeting
DESCRIPTION:
URL:https://staging.tricountycenter.org/event/al-anon-family-groups-meeting/2028-05-06/
LOCATION:Tri-county Center (Old Building)
CATEGORIES:Al-anon/Alateen Meetings,Meetings
ORGANIZER;CN="Tri-County%20Center":MAILTO:events@tricountycenter.org
END:VEVENT
BEGIN:VEVENT
DTSTART;TZID=America/New_York:20280507T190000
DTEND;TZID=America/New_York:20280507T200000
DTSTAMP:20260423T072837
CREATED:20230816T195217Z
LAST-MODIFIED:20230816T195217Z
UID:10013648-1841338800-1841342400@staging.tricountycenter.org
SUMMARY:Al-Anon Discussion
DESCRIPTION:
URL:https://staging.tricountycenter.org/event/al-anon-discussion/2028-05-07/
LOCATION:Tri-county Center (Old Building)
CATEGORIES:Al-anon/Alateen Meetings,Meetings
ORGANIZER;CN="Tri-County%20Center":MAILTO:events@tricountycenter.org
END:VEVENT
BEGIN:VEVENT
DTSTART;TZID=America/New_York:20280513T100000
DTEND;TZID=America/New_York:20280513T110000
DTSTAMP:20260423T072837
CREATED:20230816T194910Z
LAST-MODIFIED:20230816T195102Z
UID:10012866-1841824800-1841828400@staging.tricountycenter.org
SUMMARY:Al-Anon Family Groups Meeting
DESCRIPTION:
URL:https://staging.tricountycenter.org/event/al-anon-family-groups-meeting/2028-05-13/
LOCATION:Tri-county Center (Old Building)
CATEGORIES:Al-anon/Alateen Meetings,Meetings
ORGANIZER;CN="Tri-County%20Center":MAILTO:events@tricountycenter.org
END:VEVENT
BEGIN:VEVENT
DTSTART;TZID=America/New_York:20280514T190000
DTEND;TZID=America/New_York:20280514T200000
DTSTAMP:20260423T072837
CREATED:20230816T195217Z
LAST-MODIFIED:20230816T195217Z
UID:10013649-1841943600-1841947200@staging.tricountycenter.org
SUMMARY:Al-Anon Discussion
DESCRIPTION:
URL:https://staging.tricountycenter.org/event/al-anon-discussion/2028-05-14/
LOCATION:Tri-county Center (Old Building)
CATEGORIES:Al-anon/Alateen Meetings,Meetings
ORGANIZER;CN="Tri-County%20Center":MAILTO:events@tricountycenter.org
END:VEVENT
BEGIN:VEVENT
DTSTART;TZID=America/New_York:20280520T100000
DTEND;TZID=America/New_York:20280520T110000
DTSTAMP:20260423T072837
CREATED:20230816T194910Z
LAST-MODIFIED:20230816T195102Z
UID:10012867-1842429600-1842433200@staging.tricountycenter.org
SUMMARY:Al-Anon Family Groups Meeting
DESCRIPTION:
URL:https://staging.tricountycenter.org/event/al-anon-family-groups-meeting/2028-05-20/
LOCATION:Tri-county Center (Old Building)
CATEGORIES:Al-anon/Alateen Meetings,Meetings
ORGANIZER;CN="Tri-County%20Center":MAILTO:events@tricountycenter.org
END:VEVENT
BEGIN:VEVENT
DTSTART;TZID=America/New_York:20280521T190000
DTEND;TZID=America/New_York:20280521T200000
DTSTAMP:20260423T072837
CREATED:20230816T195217Z
LAST-MODIFIED:20230816T195217Z
UID:10013650-1842548400-1842552000@staging.tricountycenter.org
SUMMARY:Al-Anon Discussion
DESCRIPTION:
URL:https://staging.tricountycenter.org/event/al-anon-discussion/2028-05-21/
LOCATION:Tri-county Center (Old Building)
CATEGORIES:Al-anon/Alateen Meetings,Meetings
ORGANIZER;CN="Tri-County%20Center":MAILTO:events@tricountycenter.org
END:VEVENT
BEGIN:VEVENT
DTSTART;TZID=America/New_York:20280527T100000
DTEND;TZID=America/New_York:20280527T110000
DTSTAMP:20260423T072837
CREATED:20230816T194910Z
LAST-MODIFIED:20230816T195102Z
UID:10012868-1843034400-1843038000@staging.tricountycenter.org
SUMMARY:Al-Anon Family Groups Meeting
DESCRIPTION:
URL:https://staging.tricountycenter.org/event/al-anon-family-groups-meeting/2028-05-27/
LOCATION:Tri-county Center (Old Building)
CATEGORIES:Al-anon/Alateen Meetings,Meetings
ORGANIZER;CN="Tri-County%20Center":MAILTO:events@tricountycenter.org
END:VEVENT
BEGIN:VEVENT
DTSTART;TZID=America/New_York:20280528T190000
DTEND;TZID=America/New_York:20280528T200000
DTSTAMP:20260423T072837
CREATED:20230816T195217Z
LAST-MODIFIED:20230816T195217Z
UID:10013651-1843153200-1843156800@staging.tricountycenter.org
SUMMARY:Al-Anon Discussion
DESCRIPTION:
URL:https://staging.tricountycenter.org/event/al-anon-discussion/2028-05-28/
LOCATION:Tri-county Center (Old Building)
CATEGORIES:Al-anon/Alateen Meetings,Meetings
ORGANIZER;CN="Tri-County%20Center":MAILTO:events@tricountycenter.org
END:VEVENT
BEGIN:VEVENT
DTSTART;TZID=America/New_York:20280603T100000
DTEND;TZID=America/New_York:20280603T110000
DTSTAMP:20260423T072837
CREATED:20230816T194910Z
LAST-MODIFIED:20230816T195102Z
UID:10012869-1843639200-1843642800@staging.tricountycenter.org
SUMMARY:Al-Anon Family Groups Meeting
DESCRIPTION:
URL:https://staging.tricountycenter.org/event/al-anon-family-groups-meeting/2028-06-03/
LOCATION:Tri-county Center (Old Building)
CATEGORIES:Al-anon/Alateen Meetings,Meetings
ORGANIZER;CN="Tri-County%20Center":MAILTO:events@tricountycenter.org
END:VEVENT
BEGIN:VEVENT
DTSTART;TZID=America/New_York:20280604T190000
DTEND;TZID=America/New_York:20280604T200000
DTSTAMP:20260423T072837
CREATED:20230816T195217Z
LAST-MODIFIED:20230816T195217Z
UID:10013652-1843758000-1843761600@staging.tricountycenter.org
SUMMARY:Al-Anon Discussion
DESCRIPTION:
URL:https://staging.tricountycenter.org/event/al-anon-discussion/2028-06-04/
LOCATION:Tri-county Center (Old Building)
CATEGORIES:Al-anon/Alateen Meetings,Meetings
ORGANIZER;CN="Tri-County%20Center":MAILTO:events@tricountycenter.org
END:VEVENT
END:VCALENDAR