BEGIN:VCALENDAR
VERSION:2.0
PRODID:-//Tri-County Center - ECPv6.2.0.1//NONSGML v1.0//EN
CALSCALE:GREGORIAN
METHOD:PUBLISH
X-WR-CALNAME:Tri-County Center
X-ORIGINAL-URL:https://staging.tricountycenter.org
X-WR-CALDESC:Events for Tri-County Center
REFRESH-INTERVAL;VALUE=DURATION:PT1H
X-Robots-Tag:noindex
X-PUBLISHED-TTL:PT1H
BEGIN:VTIMEZONE
TZID:America/New_York
BEGIN:DAYLIGHT
TZOFFSETFROM:-0500
TZOFFSETTO:-0400
TZNAME:EDT
DTSTART:20270314T070000
END:DAYLIGHT
BEGIN:STANDARD
TZOFFSETFROM:-0400
TZOFFSETTO:-0500
TZNAME:EST
DTSTART:20271107T060000
END:STANDARD
END:VTIMEZONE
BEGIN:VEVENT
DTSTART;TZID=America/New_York:20270619T100000
DTEND;TZID=America/New_York:20270619T110000
DTSTAMP:20260422T221452
CREATED:20230816T194910Z
LAST-MODIFIED:20230816T195102Z
UID:10012819-1813399200-1813402800@staging.tricountycenter.org
SUMMARY:Al-Anon Family Groups Meeting
DESCRIPTION:
URL:https://staging.tricountycenter.org/event/al-anon-family-groups-meeting/2027-06-19/
LOCATION:Tri-county Center (Old Building)
CATEGORIES:Al-anon/Alateen Meetings,Meetings
ORGANIZER;CN="Tri-County%20Center":MAILTO:events@tricountycenter.org
END:VEVENT
BEGIN:VEVENT
DTSTART;TZID=America/New_York:20270620T190000
DTEND;TZID=America/New_York:20270620T200000
DTSTAMP:20260422T221452
CREATED:20230816T195217Z
LAST-MODIFIED:20230816T195217Z
UID:10013602-1813518000-1813521600@staging.tricountycenter.org
SUMMARY:Al-Anon Discussion
DESCRIPTION:
URL:https://staging.tricountycenter.org/event/al-anon-discussion/2027-06-20/
LOCATION:Tri-county Center (Old Building)
CATEGORIES:Al-anon/Alateen Meetings,Meetings
ORGANIZER;CN="Tri-County%20Center":MAILTO:events@tricountycenter.org
END:VEVENT
BEGIN:VEVENT
DTSTART;TZID=America/New_York:20270626T100000
DTEND;TZID=America/New_York:20270626T110000
DTSTAMP:20260422T221452
CREATED:20230816T194910Z
LAST-MODIFIED:20230816T195102Z
UID:10012820-1814004000-1814007600@staging.tricountycenter.org
SUMMARY:Al-Anon Family Groups Meeting
DESCRIPTION:
URL:https://staging.tricountycenter.org/event/al-anon-family-groups-meeting/2027-06-26/
LOCATION:Tri-county Center (Old Building)
CATEGORIES:Al-anon/Alateen Meetings,Meetings
ORGANIZER;CN="Tri-County%20Center":MAILTO:events@tricountycenter.org
END:VEVENT
BEGIN:VEVENT
DTSTART;TZID=America/New_York:20270627T190000
DTEND;TZID=America/New_York:20270627T200000
DTSTAMP:20260422T221452
CREATED:20230816T195217Z
LAST-MODIFIED:20230816T195217Z
UID:10013603-1814122800-1814126400@staging.tricountycenter.org
SUMMARY:Al-Anon Discussion
DESCRIPTION:
URL:https://staging.tricountycenter.org/event/al-anon-discussion/2027-06-27/
LOCATION:Tri-county Center (Old Building)
CATEGORIES:Al-anon/Alateen Meetings,Meetings
ORGANIZER;CN="Tri-County%20Center":MAILTO:events@tricountycenter.org
END:VEVENT
BEGIN:VEVENT
DTSTART;TZID=America/New_York:20270703T100000
DTEND;TZID=America/New_York:20270703T110000
DTSTAMP:20260422T221452
CREATED:20230816T194910Z
LAST-MODIFIED:20230816T195102Z
UID:10012821-1814608800-1814612400@staging.tricountycenter.org
SUMMARY:Al-Anon Family Groups Meeting
DESCRIPTION:
URL:https://staging.tricountycenter.org/event/al-anon-family-groups-meeting/2027-07-03/
LOCATION:Tri-county Center (Old Building)
CATEGORIES:Al-anon/Alateen Meetings,Meetings
ORGANIZER;CN="Tri-County%20Center":MAILTO:events@tricountycenter.org
END:VEVENT
BEGIN:VEVENT
DTSTART;TZID=America/New_York:20270704T190000
DTEND;TZID=America/New_York:20270704T200000
DTSTAMP:20260422T221452
CREATED:20230816T195217Z
LAST-MODIFIED:20230816T195217Z
UID:10013604-1814727600-1814731200@staging.tricountycenter.org
SUMMARY:Al-Anon Discussion
DESCRIPTION:
URL:https://staging.tricountycenter.org/event/al-anon-discussion/2027-07-04/
LOCATION:Tri-county Center (Old Building)
CATEGORIES:Al-anon/Alateen Meetings,Meetings
ORGANIZER;CN="Tri-County%20Center":MAILTO:events@tricountycenter.org
END:VEVENT
BEGIN:VEVENT
DTSTART;TZID=America/New_York:20270710T100000
DTEND;TZID=America/New_York:20270710T110000
DTSTAMP:20260422T221452
CREATED:20230816T194910Z
LAST-MODIFIED:20230816T195102Z
UID:10012822-1815213600-1815217200@staging.tricountycenter.org
SUMMARY:Al-Anon Family Groups Meeting
DESCRIPTION:
URL:https://staging.tricountycenter.org/event/al-anon-family-groups-meeting/2027-07-10/
LOCATION:Tri-county Center (Old Building)
CATEGORIES:Al-anon/Alateen Meetings,Meetings
ORGANIZER;CN="Tri-County%20Center":MAILTO:events@tricountycenter.org
END:VEVENT
BEGIN:VEVENT
DTSTART;TZID=America/New_York:20270711T190000
DTEND;TZID=America/New_York:20270711T200000
DTSTAMP:20260422T221452
CREATED:20230816T195217Z
LAST-MODIFIED:20230816T195217Z
UID:10013605-1815332400-1815336000@staging.tricountycenter.org
SUMMARY:Al-Anon Discussion
DESCRIPTION:
URL:https://staging.tricountycenter.org/event/al-anon-discussion/2027-07-11/
LOCATION:Tri-county Center (Old Building)
CATEGORIES:Al-anon/Alateen Meetings,Meetings
ORGANIZER;CN="Tri-County%20Center":MAILTO:events@tricountycenter.org
END:VEVENT
BEGIN:VEVENT
DTSTART;TZID=America/New_York:20270717T100000
DTEND;TZID=America/New_York:20270717T110000
DTSTAMP:20260422T221452
CREATED:20230816T194910Z
LAST-MODIFIED:20230816T195102Z
UID:10012823-1815818400-1815822000@staging.tricountycenter.org
SUMMARY:Al-Anon Family Groups Meeting
DESCRIPTION:
URL:https://staging.tricountycenter.org/event/al-anon-family-groups-meeting/2027-07-17/
LOCATION:Tri-county Center (Old Building)
CATEGORIES:Al-anon/Alateen Meetings,Meetings
ORGANIZER;CN="Tri-County%20Center":MAILTO:events@tricountycenter.org
END:VEVENT
BEGIN:VEVENT
DTSTART;TZID=America/New_York:20270718T190000
DTEND;TZID=America/New_York:20270718T200000
DTSTAMP:20260422T221452
CREATED:20230816T195217Z
LAST-MODIFIED:20230816T195217Z
UID:10013606-1815937200-1815940800@staging.tricountycenter.org
SUMMARY:Al-Anon Discussion
DESCRIPTION:
URL:https://staging.tricountycenter.org/event/al-anon-discussion/2027-07-18/
LOCATION:Tri-county Center (Old Building)
CATEGORIES:Al-anon/Alateen Meetings,Meetings
ORGANIZER;CN="Tri-County%20Center":MAILTO:events@tricountycenter.org
END:VEVENT
BEGIN:VEVENT
DTSTART;TZID=America/New_York:20270724T100000
DTEND;TZID=America/New_York:20270724T110000
DTSTAMP:20260422T221452
CREATED:20230816T194910Z
LAST-MODIFIED:20230816T195102Z
UID:10012824-1816423200-1816426800@staging.tricountycenter.org
SUMMARY:Al-Anon Family Groups Meeting
DESCRIPTION:
URL:https://staging.tricountycenter.org/event/al-anon-family-groups-meeting/2027-07-24/
LOCATION:Tri-county Center (Old Building)
CATEGORIES:Al-anon/Alateen Meetings,Meetings
ORGANIZER;CN="Tri-County%20Center":MAILTO:events@tricountycenter.org
END:VEVENT
BEGIN:VEVENT
DTSTART;TZID=America/New_York:20270725T190000
DTEND;TZID=America/New_York:20270725T200000
DTSTAMP:20260422T221452
CREATED:20230816T195217Z
LAST-MODIFIED:20230816T195217Z
UID:10013607-1816542000-1816545600@staging.tricountycenter.org
SUMMARY:Al-Anon Discussion
DESCRIPTION:
URL:https://staging.tricountycenter.org/event/al-anon-discussion/2027-07-25/
LOCATION:Tri-county Center (Old Building)
CATEGORIES:Al-anon/Alateen Meetings,Meetings
ORGANIZER;CN="Tri-County%20Center":MAILTO:events@tricountycenter.org
END:VEVENT
BEGIN:VEVENT
DTSTART;TZID=America/New_York:20270731T100000
DTEND;TZID=America/New_York:20270731T110000
DTSTAMP:20260422T221452
CREATED:20230816T194910Z
LAST-MODIFIED:20230816T195102Z
UID:10012825-1817028000-1817031600@staging.tricountycenter.org
SUMMARY:Al-Anon Family Groups Meeting
DESCRIPTION:
URL:https://staging.tricountycenter.org/event/al-anon-family-groups-meeting/2027-07-31/
LOCATION:Tri-county Center (Old Building)
CATEGORIES:Al-anon/Alateen Meetings,Meetings
ORGANIZER;CN="Tri-County%20Center":MAILTO:events@tricountycenter.org
END:VEVENT
BEGIN:VEVENT
DTSTART;TZID=America/New_York:20270801T190000
DTEND;TZID=America/New_York:20270801T200000
DTSTAMP:20260422T221452
CREATED:20230816T195217Z
LAST-MODIFIED:20230816T195217Z
UID:10013608-1817146800-1817150400@staging.tricountycenter.org
SUMMARY:Al-Anon Discussion
DESCRIPTION:
URL:https://staging.tricountycenter.org/event/al-anon-discussion/2027-08-01/
LOCATION:Tri-county Center (Old Building)
CATEGORIES:Al-anon/Alateen Meetings,Meetings
ORGANIZER;CN="Tri-County%20Center":MAILTO:events@tricountycenter.org
END:VEVENT
BEGIN:VEVENT
DTSTART;TZID=America/New_York:20270807T100000
DTEND;TZID=America/New_York:20270807T110000
DTSTAMP:20260422T221452
CREATED:20230816T194910Z
LAST-MODIFIED:20230816T195102Z
UID:10012826-1817632800-1817636400@staging.tricountycenter.org
SUMMARY:Al-Anon Family Groups Meeting
DESCRIPTION:
URL:https://staging.tricountycenter.org/event/al-anon-family-groups-meeting/2027-08-07/
LOCATION:Tri-county Center (Old Building)
CATEGORIES:Al-anon/Alateen Meetings,Meetings
ORGANIZER;CN="Tri-County%20Center":MAILTO:events@tricountycenter.org
END:VEVENT
BEGIN:VEVENT
DTSTART;TZID=America/New_York:20270808T190000
DTEND;TZID=America/New_York:20270808T200000
DTSTAMP:20260422T221452
CREATED:20230816T195217Z
LAST-MODIFIED:20230816T195217Z
UID:10013609-1817751600-1817755200@staging.tricountycenter.org
SUMMARY:Al-Anon Discussion
DESCRIPTION:
URL:https://staging.tricountycenter.org/event/al-anon-discussion/2027-08-08/
LOCATION:Tri-county Center (Old Building)
CATEGORIES:Al-anon/Alateen Meetings,Meetings
ORGANIZER;CN="Tri-County%20Center":MAILTO:events@tricountycenter.org
END:VEVENT
BEGIN:VEVENT
DTSTART;TZID=America/New_York:20270814T100000
DTEND;TZID=America/New_York:20270814T110000
DTSTAMP:20260422T221452
CREATED:20230816T194910Z
LAST-MODIFIED:20230816T195102Z
UID:10012827-1818237600-1818241200@staging.tricountycenter.org
SUMMARY:Al-Anon Family Groups Meeting
DESCRIPTION:
URL:https://staging.tricountycenter.org/event/al-anon-family-groups-meeting/2027-08-14/
LOCATION:Tri-county Center (Old Building)
CATEGORIES:Al-anon/Alateen Meetings,Meetings
ORGANIZER;CN="Tri-County%20Center":MAILTO:events@tricountycenter.org
END:VEVENT
BEGIN:VEVENT
DTSTART;TZID=America/New_York:20270815T190000
DTEND;TZID=America/New_York:20270815T200000
DTSTAMP:20260422T221452
CREATED:20230816T195217Z
LAST-MODIFIED:20230816T195217Z
UID:10013610-1818356400-1818360000@staging.tricountycenter.org
SUMMARY:Al-Anon Discussion
DESCRIPTION:
URL:https://staging.tricountycenter.org/event/al-anon-discussion/2027-08-15/
LOCATION:Tri-county Center (Old Building)
CATEGORIES:Al-anon/Alateen Meetings,Meetings
ORGANIZER;CN="Tri-County%20Center":MAILTO:events@tricountycenter.org
END:VEVENT
BEGIN:VEVENT
DTSTART;TZID=America/New_York:20270821T100000
DTEND;TZID=America/New_York:20270821T110000
DTSTAMP:20260422T221452
CREATED:20230816T194910Z
LAST-MODIFIED:20230816T195102Z
UID:10012828-1818842400-1818846000@staging.tricountycenter.org
SUMMARY:Al-Anon Family Groups Meeting
DESCRIPTION:
URL:https://staging.tricountycenter.org/event/al-anon-family-groups-meeting/2027-08-21/
LOCATION:Tri-county Center (Old Building)
CATEGORIES:Al-anon/Alateen Meetings,Meetings
ORGANIZER;CN="Tri-County%20Center":MAILTO:events@tricountycenter.org
END:VEVENT
BEGIN:VEVENT
DTSTART;TZID=America/New_York:20270822T190000
DTEND;TZID=America/New_York:20270822T200000
DTSTAMP:20260422T221452
CREATED:20230816T195217Z
LAST-MODIFIED:20230816T195217Z
UID:10013611-1818961200-1818964800@staging.tricountycenter.org
SUMMARY:Al-Anon Discussion
DESCRIPTION:
URL:https://staging.tricountycenter.org/event/al-anon-discussion/2027-08-22/
LOCATION:Tri-county Center (Old Building)
CATEGORIES:Al-anon/Alateen Meetings,Meetings
ORGANIZER;CN="Tri-County%20Center":MAILTO:events@tricountycenter.org
END:VEVENT
BEGIN:VEVENT
DTSTART;TZID=America/New_York:20270828T100000
DTEND;TZID=America/New_York:20270828T110000
DTSTAMP:20260422T221452
CREATED:20230816T194910Z
LAST-MODIFIED:20230816T195102Z
UID:10012829-1819447200-1819450800@staging.tricountycenter.org
SUMMARY:Al-Anon Family Groups Meeting
DESCRIPTION:
URL:https://staging.tricountycenter.org/event/al-anon-family-groups-meeting/2027-08-28/
LOCATION:Tri-county Center (Old Building)
CATEGORIES:Al-anon/Alateen Meetings,Meetings
ORGANIZER;CN="Tri-County%20Center":MAILTO:events@tricountycenter.org
END:VEVENT
BEGIN:VEVENT
DTSTART;TZID=America/New_York:20270829T190000
DTEND;TZID=America/New_York:20270829T200000
DTSTAMP:20260422T221453
CREATED:20230816T195217Z
LAST-MODIFIED:20230816T195217Z
UID:10013612-1819566000-1819569600@staging.tricountycenter.org
SUMMARY:Al-Anon Discussion
DESCRIPTION:
URL:https://staging.tricountycenter.org/event/al-anon-discussion/2027-08-29/
LOCATION:Tri-county Center (Old Building)
CATEGORIES:Al-anon/Alateen Meetings,Meetings
ORGANIZER;CN="Tri-County%20Center":MAILTO:events@tricountycenter.org
END:VEVENT
BEGIN:VEVENT
DTSTART;TZID=America/New_York:20270904T100000
DTEND;TZID=America/New_York:20270904T110000
DTSTAMP:20260422T221453
CREATED:20230816T194910Z
LAST-MODIFIED:20230816T195102Z
UID:10012830-1820052000-1820055600@staging.tricountycenter.org
SUMMARY:Al-Anon Family Groups Meeting
DESCRIPTION:
URL:https://staging.tricountycenter.org/event/al-anon-family-groups-meeting/2027-09-04/
LOCATION:Tri-county Center (Old Building)
CATEGORIES:Al-anon/Alateen Meetings,Meetings
ORGANIZER;CN="Tri-County%20Center":MAILTO:events@tricountycenter.org
END:VEVENT
BEGIN:VEVENT
DTSTART;TZID=America/New_York:20270905T190000
DTEND;TZID=America/New_York:20270905T200000
DTSTAMP:20260422T221453
CREATED:20230816T195217Z
LAST-MODIFIED:20230816T195217Z
UID:10013613-1820170800-1820174400@staging.tricountycenter.org
SUMMARY:Al-Anon Discussion
DESCRIPTION:
URL:https://staging.tricountycenter.org/event/al-anon-discussion/2027-09-05/
LOCATION:Tri-county Center (Old Building)
CATEGORIES:Al-anon/Alateen Meetings,Meetings
ORGANIZER;CN="Tri-County%20Center":MAILTO:events@tricountycenter.org
END:VEVENT
BEGIN:VEVENT
DTSTART;TZID=America/New_York:20270911T100000
DTEND;TZID=America/New_York:20270911T110000
DTSTAMP:20260422T221453
CREATED:20230816T194910Z
LAST-MODIFIED:20230816T195102Z
UID:10012831-1820656800-1820660400@staging.tricountycenter.org
SUMMARY:Al-Anon Family Groups Meeting
DESCRIPTION:
URL:https://staging.tricountycenter.org/event/al-anon-family-groups-meeting/2027-09-11/
LOCATION:Tri-county Center (Old Building)
CATEGORIES:Al-anon/Alateen Meetings,Meetings
ORGANIZER;CN="Tri-County%20Center":MAILTO:events@tricountycenter.org
END:VEVENT
BEGIN:VEVENT
DTSTART;TZID=America/New_York:20270912T190000
DTEND;TZID=America/New_York:20270912T200000
DTSTAMP:20260422T221453
CREATED:20230816T195217Z
LAST-MODIFIED:20230816T195217Z
UID:10013614-1820775600-1820779200@staging.tricountycenter.org
SUMMARY:Al-Anon Discussion
DESCRIPTION:
URL:https://staging.tricountycenter.org/event/al-anon-discussion/2027-09-12/
LOCATION:Tri-county Center (Old Building)
CATEGORIES:Al-anon/Alateen Meetings,Meetings
ORGANIZER;CN="Tri-County%20Center":MAILTO:events@tricountycenter.org
END:VEVENT
BEGIN:VEVENT
DTSTART;TZID=America/New_York:20270918T100000
DTEND;TZID=America/New_York:20270918T110000
DTSTAMP:20260422T221453
CREATED:20230816T194910Z
LAST-MODIFIED:20230816T195102Z
UID:10012832-1821261600-1821265200@staging.tricountycenter.org
SUMMARY:Al-Anon Family Groups Meeting
DESCRIPTION:
URL:https://staging.tricountycenter.org/event/al-anon-family-groups-meeting/2027-09-18/
LOCATION:Tri-county Center (Old Building)
CATEGORIES:Al-anon/Alateen Meetings,Meetings
ORGANIZER;CN="Tri-County%20Center":MAILTO:events@tricountycenter.org
END:VEVENT
BEGIN:VEVENT
DTSTART;TZID=America/New_York:20270919T190000
DTEND;TZID=America/New_York:20270919T200000
DTSTAMP:20260422T221453
CREATED:20230816T195217Z
LAST-MODIFIED:20230816T195217Z
UID:10013615-1821380400-1821384000@staging.tricountycenter.org
SUMMARY:Al-Anon Discussion
DESCRIPTION:
URL:https://staging.tricountycenter.org/event/al-anon-discussion/2027-09-19/
LOCATION:Tri-county Center (Old Building)
CATEGORIES:Al-anon/Alateen Meetings,Meetings
ORGANIZER;CN="Tri-County%20Center":MAILTO:events@tricountycenter.org
END:VEVENT
BEGIN:VEVENT
DTSTART;TZID=America/New_York:20270925T100000
DTEND;TZID=America/New_York:20270925T110000
DTSTAMP:20260422T221453
CREATED:20230816T194910Z
LAST-MODIFIED:20230816T195102Z
UID:10012833-1821866400-1821870000@staging.tricountycenter.org
SUMMARY:Al-Anon Family Groups Meeting
DESCRIPTION:
URL:https://staging.tricountycenter.org/event/al-anon-family-groups-meeting/2027-09-25/
LOCATION:Tri-county Center (Old Building)
CATEGORIES:Al-anon/Alateen Meetings,Meetings
ORGANIZER;CN="Tri-County%20Center":MAILTO:events@tricountycenter.org
END:VEVENT
BEGIN:VEVENT
DTSTART;TZID=America/New_York:20270926T190000
DTEND;TZID=America/New_York:20270926T200000
DTSTAMP:20260422T221453
CREATED:20230816T195217Z
LAST-MODIFIED:20230816T195217Z
UID:10013616-1821985200-1821988800@staging.tricountycenter.org
SUMMARY:Al-Anon Discussion
DESCRIPTION:
URL:https://staging.tricountycenter.org/event/al-anon-discussion/2027-09-26/
LOCATION:Tri-county Center (Old Building)
CATEGORIES:Al-anon/Alateen Meetings,Meetings
ORGANIZER;CN="Tri-County%20Center":MAILTO:events@tricountycenter.org
END:VEVENT
END:VCALENDAR