BEGIN:VCALENDAR
VERSION:2.0
PRODID:-//Tri-County Center - ECPv6.2.0.1//NONSGML v1.0//EN
CALSCALE:GREGORIAN
METHOD:PUBLISH
X-ORIGINAL-URL:https://staging.tricountycenter.org
X-WR-CALDESC:Events for Tri-County Center
REFRESH-INTERVAL;VALUE=DURATION:PT1H
X-Robots-Tag:noindex
X-PUBLISHED-TTL:PT1H
BEGIN:VTIMEZONE
TZID:America/New_York
BEGIN:DAYLIGHT
TZOFFSETFROM:-0500
TZOFFSETTO:-0400
TZNAME:EDT
DTSTART:20260308T070000
END:DAYLIGHT
BEGIN:STANDARD
TZOFFSETFROM:-0400
TZOFFSETTO:-0500
TZNAME:EST
DTSTART:20261101T060000
END:STANDARD
END:VTIMEZONE
BEGIN:VEVENT
DTSTART;TZID=America/New_York:20260416T070000
DTEND;TZID=America/New_York:20260416T080000
DTSTAMP:20260421T195239
CREATED:20230816T005850Z
LAST-MODIFIED:20230816T170243Z
UID:10000990-1776322800-1776326400@staging.tricountycenter.org
SUMMARY:"Rise and Shine" (S-Sa 7:00a)
DESCRIPTION:
URL:https://staging.tricountycenter.org/event/rise-and-shine/2026-04-16/
LOCATION:Tri-county Center (Main Room)\, 2031 East Kemper Road\, Cincinnati\, OH\, 45241\, United States
CATEGORIES:AA Meetings,Meetings
ORGANIZER;CN="Tri-County%20Center":MAILTO:events@tricountycenter.org
END:VEVENT
BEGIN:VEVENT
DTSTART;TZID=America/New_York:20260416T093000
DTEND;TZID=America/New_York:20260416T103000
DTSTAMP:20260421T195239
CREATED:20230816T022941Z
LAST-MODIFIED:20230816T175404Z
UID:10005380-1776331800-1776335400@staging.tricountycenter.org
SUMMARY:Big Book Study (Th 9:30a)
DESCRIPTION:
URL:https://staging.tricountycenter.org/event/big-book-study-th-930a/2026-04-16/
LOCATION:Tri-county Center (Main Room)\, 2031 East Kemper Road\, Cincinnati\, OH\, 45241\, United States
CATEGORIES:AA Meetings,Meetings
ORGANIZER;CN="Tri-County%20Center":MAILTO:events@tricountycenter.org
END:VEVENT
BEGIN:VEVENT
DTSTART;TZID=America/New_York:20260416T123000
DTEND;TZID=America/New_York:20260416T133000
DTSTAMP:20260421T195239
CREATED:20230816T023554Z
LAST-MODIFIED:20230816T175746Z
UID:10007208-1776342600-1776346200@staging.tricountycenter.org
SUMMARY:Old Timers Lead (Th 12:30p)
DESCRIPTION:
URL:https://staging.tricountycenter.org/event/old-timers-lead-th-1230p/2026-04-16/
LOCATION:Tri-county Center (Ball Room)\, 2031 East Kemper Road\, Cincinnati\, OH\, 45246\, United States
CATEGORIES:AA Meetings,Meetings
ORGANIZER;CN="Tri-County%20Center":MAILTO:events@tricountycenter.org
END:VEVENT
BEGIN:VEVENT
DTSTART;TZID=America/New_York:20260416T160000
DTEND;TZID=America/New_York:20260416T170000
DTSTAMP:20260421T195239
CREATED:20230816T023908Z
LAST-MODIFIED:20230816T170243Z
UID:10008304-1776355200-1776358800@staging.tricountycenter.org
SUMMARY:Closed Discussion (S-Sa 4:00p)
DESCRIPTION:
URL:https://staging.tricountycenter.org/event/closed-discussion-s-sa-400p/2026-04-16/
LOCATION:Tri-county Center (Main Room)\, 2031 East Kemper Road\, Cincinnati\, OH\, 45241\, United States
CATEGORIES:AA Meetings,Meetings
ORGANIZER;CN="Tri-County%20Center":MAILTO:events@tricountycenter.org
END:VEVENT
BEGIN:VEVENT
DTSTART;TZID=America/New_York:20260416T170000
DTEND;TZID=America/New_York:20260416T180000
DTSTAMP:20260421T195239
CREATED:20230816T015857Z
LAST-MODIFIED:20230816T170243Z
UID:10003288-1776358800-1776362400@staging.tricountycenter.org
SUMMARY:Happy Hour Open Discussion (Th 5:30p)
DESCRIPTION:
URL:https://staging.tricountycenter.org/event/happy-hour-th-open-discussion-meeting/2026-04-16/
LOCATION:Tri-county Center (Main Room)\, 2031 East Kemper Road\, Cincinnati\, OH\, 45241\, United States
CATEGORIES:AA Meetings,Meetings
ORGANIZER;CN="Tri-County%20Center":MAILTO:events@tricountycenter.org
END:VEVENT
BEGIN:VEVENT
DTSTART;TZID=America/New_York:20260416T190000
DTEND;TZID=America/New_York:20260416T200000
DTSTAMP:20260421T195239
CREATED:20230816T181015Z
LAST-MODIFIED:20230816T191709Z
UID:10010348-1776366000-1776369600@staging.tricountycenter.org
SUMMARY:"Thursday Night Women's Meeting"
DESCRIPTION:
URL:https://staging.tricountycenter.org/event/thursday-night-womens-meeting/2026-04-16/
LOCATION:Tri-county Center (Old Building)
CATEGORIES:AA Meetings,Meetings
ORGANIZER;CN="Tri-County%20Center":MAILTO:events@tricountycenter.org
END:VEVENT
BEGIN:VEVENT
DTSTART;TZID=America/New_York:20260416T193000
DTEND;TZID=America/New_York:20260416T203000
DTSTAMP:20260421T195239
CREATED:20230816T181156Z
LAST-MODIFIED:20230816T181156Z
UID:10010609-1776367800-1776371400@staging.tricountycenter.org
SUMMARY:"Valley Group" Lead Meeting (Th 7:30p)
DESCRIPTION:
URL:https://staging.tricountycenter.org/event/valley-group-lead-meeting-th-730p/2026-04-16/
LOCATION:Tri-county Center (Main Room)\, 2031 East Kemper Road\, Cincinnati\, OH\, 45241\, United States
CATEGORIES:AA Meetings,Meetings
ORGANIZER;CN="Tri-County%20Center":MAILTO:events@tricountycenter.org
END:VEVENT
END:VCALENDAR